BEGIN:VCALENDAR
VERSION:2.0
PRODID:-//LetsGoKids - ECPv6.15.3//NONSGML v1.0//EN
CALSCALE:GREGORIAN
METHOD:PUBLISH
X-ORIGINAL-URL:https://www.letsgokids.com.au
X-WR-CALDESC:Events for LetsGoKids
REFRESH-INTERVAL;VALUE=DURATION:PT1H
X-Robots-Tag:noindex
X-PUBLISHED-TTL:PT1H
BEGIN:VTIMEZONE
TZID:Australia/Melbourne
BEGIN:STANDARD
TZOFFSETFROM:+1100
TZOFFSETTO:+1000
TZNAME:AEST
DTSTART:20240406T160000
END:STANDARD
BEGIN:DAYLIGHT
TZOFFSETFROM:+1000
TZOFFSETTO:+1100
TZNAME:AEDT
DTSTART:20241005T160000
END:DAYLIGHT
BEGIN:STANDARD
TZOFFSETFROM:+1100
TZOFFSETTO:+1000
TZNAME:AEST
DTSTART:20250405T160000
END:STANDARD
BEGIN:DAYLIGHT
TZOFFSETFROM:+1000
TZOFFSETTO:+1100
TZNAME:AEDT
DTSTART:20251004T160000
END:DAYLIGHT
BEGIN:STANDARD
TZOFFSETFROM:+1100
TZOFFSETTO:+1000
TZNAME:AEST
DTSTART:20260404T160000
END:STANDARD
BEGIN:DAYLIGHT
TZOFFSETFROM:+1000
TZOFFSETTO:+1100
TZNAME:AEDT
DTSTART:20261003T160000
END:DAYLIGHT
END:VTIMEZONE
BEGIN:VEVENT
DTSTART;TZID=Australia/Melbourne:20240516T140000
DTEND;TZID=Australia/Melbourne:20260305T170000
DTSTAMP:20260420T012944
CREATED:20240514T101241Z
LAST-MODIFIED:20240514T101241Z
UID:24885-1715868000-1772730000@www.letsgokids.com.au
SUMMARY:Berry Farmers' Market
DESCRIPTION:The Berry Farmers’ Market is a genuine farmers’ market\, held every Thursday afternoon in the delightful township of Berry\, NSW. \nThis is a true farmers’ market that cares about the origin of food and the protection of local growers\, producers and makers. \nEach week you will find a wonderful selection of seasonal produce\, sold directly to you by the farmer or maker. Along with fruit and vegetables\, you can expect to find seafood\, oysters\, local Wagyu beef\, honey\, eggs\, milk straight from the dairy\, gelato made from local milk\, cider\, wine\, mushrooms\, cakes and tarts\, preserves\, sourdough bread\, street food\, ready-made meals and more.
URL:https://www.letsgokids.com.au/event/berry-farmers-market/
LOCATION:Berry Farmers’ Market\, 140 Queen St\, Berry\, NSW\, 2535\, Australia
CATEGORIES:NSW
ATTACH;FMTTYPE=image/jpeg:https://www.letsgokids.com.au/wp-content/uploads/2024/05/14b553cf88a7c0361189dbd29c37e780.jpeg
ORGANIZER;CN="Berry Farmers' Market":MAILTO:berryfarmersmarket@gmail.com
END:VEVENT
BEGIN:VEVENT
DTSTART;TZID=Australia/Melbourne:20240519T080000
DTEND;TZID=Australia/Melbourne:20251214T140000
DTSTAMP:20260420T012944
CREATED:20231120T082305Z
LAST-MODIFIED:20240514T093102Z
UID:20188-1716105600-1765720800@www.letsgokids.com.au
SUMMARY:HAIG PARK VILLAGE MARKETS
DESCRIPTION:The Haig Park Village Markets runs every Sunday in the beautiful leafy grounds of Haig Park\, Braddon – moments away from Lonsdale street’s boutiques and cafes. \nHosting some of the region’s best\, this farmers and foodie market will delight your senses with delicious cuisines\, tasty treats\, beautiful blooms\, fresh produce\, delectable charcuterie and artisan products. \nIt’s a lovely place to enjoy a picnic whilst feasting your senses on the culinary delights on offer. Or browse the fabulous local handmade design stalls. \nThere is live music\, an artists’ table and face painting among other exciting sights for children and adults alike\, stalls for your furry friend too. There is no better way to spend a Sunday! \nFor further information\, you can visit the website or\, follow the market on social media.
URL:https://www.letsgokids.com.au/event/haig-park-village-markets/
LOCATION:Haig Park\, Girrahween Street\, Braddon\, ACT\, Australia
CATEGORIES:NSW
ATTACH;FMTTYPE=image/png:https://www.letsgokids.com.au/wp-content/uploads/2023/11/Capture-35.png
ORGANIZER;CN="Haig Park Village Markets":MAILTO:info@haigparkvillagemarkets.com.au
END:VEVENT
BEGIN:VEVENT
DTSTART;TZID=Australia/Melbourne:20240715T080000
DTEND;TZID=Australia/Melbourne:20251230T170000
DTSTAMP:20260420T012944
CREATED:20240703T051101Z
LAST-MODIFIED:20240703T051101Z
UID:26617-1721030400-1767114000@www.letsgokids.com.au
SUMMARY:AURA sound & light spectacular
DESCRIPTION:From a place you know comes a story you don’t — AURA immerses you in the story of gold in a 90 minute high impact\, graphic presentation which explores the creation\, discovery and impact of the precious metal then and now. You will never see gold the same way after AURA. \nUnder cover of darkness travel across our sprawling site\, AURA transforms Sovereign Hill into a moving theatre with hundreds of hi-tech projections telling our story. The Wadawurrung creation story unfolds and soars into the skies over our lake. The gritty story of gold along with rebellion\, gunfights\, triumphs\, and tragedies will draw you into the drama of history.
URL:https://www.letsgokids.com.au/event/aura-sound-light-spectacular/
LOCATION:Sovereign Hill\, Bradshaw Street\, Ballarat\, VIC\, 3350\, Australia
CATEGORIES:VIC
ATTACH;FMTTYPE=image/jpeg:https://www.letsgokids.com.au/wp-content/uploads/2024/07/AURA-3D-theatre-scaled.jpg
ORGANIZER;CN="Sovereign Hill":MAILTO:enquiries@sovereignhill.com.au
END:VEVENT
BEGIN:VEVENT
DTSTART;TZID=Australia/Melbourne:20240815T080000
DTEND;TZID=Australia/Melbourne:20250830T170000
DTSTAMP:20260420T012944
CREATED:20240814T003956Z
LAST-MODIFIED:20240814T003956Z
UID:27645-1723708800-1756573200@www.letsgokids.com.au
SUMMARY:Parap Markets
DESCRIPTION:The Parap Markets\, located close to the city\, in Parap\, will tantalise your senses with a mixture of cuisines from around the world and the aroma of freshly ground coffee. The Parap Village Market is a great place to shop and is a favourite amongst both locals and visitors. \n  \nBrowse the markets\, winding through stalls of local produce\, local arts and crafts\, entertainment and delicious cuisine. This Saturday morning market has become an institution and ritual among locals who just couldn’t survive a weekend without their Saturday morning laksa\, satay prawns or fresh tropical smoothie.
URL:https://www.letsgokids.com.au/event/parap-markets/
LOCATION:Parap Village\, Parap Rd\, Parap\, NT\, 0804\, Australia
CATEGORIES:NT
ATTACH;FMTTYPE=image/jpeg:https://www.letsgokids.com.au/wp-content/uploads/2024/08/b3db2c4537cd65f653d5dddcf4c462b8.jpeg
ORGANIZER;CN="PARAP VILLAGE":MAILTO:markets@parapvillage.com.au
END:VEVENT
BEGIN:VEVENT
DTSTART;TZID=Australia/Melbourne:20240817T070000
DTEND;TZID=Australia/Melbourne:20251220T113000
DTSTAMP:20260420T012944
CREATED:20240814T155932Z
LAST-MODIFIED:20240814T155932Z
UID:27821-1723878000-1766230200@www.letsgokids.com.au
SUMMARY:Capital Region Farmers Market
DESCRIPTION:Sample the region’s freshest produce at the Capital Region Farmers Market. \nThe Market is a community project run by the Rotary Club of Hall\, the only rural Rotary Club in the ACT. \nThere are over 100 stallholders each week who bring their freshly picked\, grown and hand crafted produce to the Market. Speak to a stallholder and ask them where their produce comes from – you’ll be surprised what you’ll learn and pick up cooking\, storage and usage tips. \nThe Rotary Club of Hall is proud to do something positive to underpin the growing agri-business opportunities in the region and offer a great seasonal food experience. The Market provides a direct and unbroken link between food producers and customer and also enables the Rotary Club of Hall to support important regional community projects. \n  \nDates: 17 Aug 2024  – 20 Dec 2025
URL:https://www.letsgokids.com.au/event/capital-region-farmers-market-2/
LOCATION:Exhibition Park in Canberra\, Exhibition Park in Canberra\, Lyneham\, ACT\, Australia
CATEGORIES:ACT
ATTACH;FMTTYPE=image/webp:https://www.letsgokids.com.au/wp-content/uploads/2024/08/65dbf011ebcc6a451d7ed97a-media-fb5aa0ff-query-scaled.webp
ORGANIZER;CN="CAPITAL REGION FARMERS MARKET":MAILTO:market.manager@crfm.com.au
END:VEVENT
BEGIN:VEVENT
DTSTART;TZID=Australia/Melbourne:20240818T090000
DTEND;TZID=Australia/Melbourne:20251215T120000
DTSTAMP:20260420T012944
CREATED:20230614T074707Z
LAST-MODIFIED:20240814T025402Z
UID:16673-1723971600-1765800000@www.letsgokids.com.au
SUMMARY:ST MARYS MARKET
DESCRIPTION:St Marys Market features local artisan products\, fibre and leather work\, local fresh produce\, jams and pickles and a great range of bric-a-brac and collectibles.\nFirst Saturday of the month. \n  \nOther Dates & Times \nSunday 18 August 2024 \, 10:00 AM – 1:00 PM\nSunday 15 September 2024\, 10:00 AM – 1:00 PM\nSunday 20 October 2024\, 10:00 AM – 1:00 PM\nSunday 17 November 2024\, 10:00 AM – 1:00 PM\nSunday 15 December 2024\, 10:00 AM – 1:00 PM
URL:https://www.letsgokids.com.au/event/st-marys-market/
LOCATION:23 Main Street\, St Marys\, Tasmania\, 7215\, Australia
CATEGORIES:TAS
ATTACH;FMTTYPE=image/jpeg:https://www.letsgokids.com.au/wp-content/uploads/2023/06/0eb7ff184d07cd7ed079ca24543746d7-scaled.jpeg
ORGANIZER;CN="Break O'Day Regional Arts BODRA":MAILTO:info@eastcoasttasmania.com.au
END:VEVENT
BEGIN:VEVENT
DTSTART;TZID=Australia/Melbourne:20240820T080000
DTEND;TZID=Australia/Melbourne:20250902T170000
DTSTAMP:20260420T012944
CREATED:20231214T065445Z
LAST-MODIFIED:20240814T152957Z
UID:21235-1724140800-1756832400@www.letsgokids.com.au
SUMMARY:SAGE Farmers Market Moruya
DESCRIPTION:Held every Tuesday afternoon at Riverside Park\, The SAGE Farmers Market was born out of a community demand for quality\, local food. They are proud to be able to provide a marketplace for consumers to access locally grown or harvested food directly from the producers\, under safe and controlled conditions. \nThe market has quickly established an excellent reputation in the surrounding districts as an authentic farmers market and they have made it their highest priority to maintain that authenticity\, so that consumers can be sure that what they purchase from any SFM stall holder adheres to the SFM philosophy and ethos (see the website for more information). \nThe secondary purpose is to educate consumers about the multiple benefits of eating local produce and products and to raise awareness of the seasonality of local food. \nTuesday 20 August 2024 to Tuesday 02 September 2025 (WEEKLY event)
URL:https://www.letsgokids.com.au/event/sage-farmers-market-moruya/
LOCATION:Riverside Park\, Ford Street\, Moruya\, NSW\, Australia
CATEGORIES:NSW
ATTACH;FMTTYPE=image/jpeg:https://www.letsgokids.com.au/wp-content/uploads/2023/12/69cf360e18ba1286f1d385089d141bdf.jpeg
END:VEVENT
BEGIN:VEVENT
DTSTART;TZID=Australia/Melbourne:20240902T080000
DTEND;TZID=Australia/Melbourne:20251230T090000
DTSTAMP:20260420T012944
CREATED:20240712T063228Z
LAST-MODIFIED:20240712T075303Z
UID:26829-1725264000-1767085200@www.letsgokids.com.au
SUMMARY:WARRNAMBOOL PARKRUN
DESCRIPTION:A free\, fun\, and friendly weekly 5k community event. Walk\, jog\, run\, volunteer or spectate – it’s up to you! We all take part for our own enjoyment. Please come along and join in whatever your pace! Every week we grab a post parkrun coffee at Main Beach Kiosk – please come and join us! \nPlease register before you first come along. Only ever register with parkrun once and don’t forget to bring a scannable copy of your barcode. If you forget it\, you won’t get a time. https://www.parkrun.com.au/register/?eventName=warrnambool \nTime & Date: \nSat\, Sep 2 2023\, 8 – 9am\nSat\, Sep 9 2023\, 8 – 9am\nSat\, Sep 16 2023\, 8 – 9am\nSat\, Sep 23 2023\, 8 – 9am\nSat\, Sep 30 2023\, 8 – 9am\nSat\, Oct 7 2023\, 8 – 9am\nSat\, Oct 14 2023\, 8 – 9am\nSat\, Oct 21 2023\, 8 – 9am\nSat\, Oct 28 2023\, 8 – 9am\nSat\, Nov 4 2023\, 8 – 9am\nSat\, Nov 11 2023\, 8 – 9am\nSat\, Nov 18 2023\, 8 – 9am\nSat\, Nov 25 2023\, 8 – 9am\nSat\, Dec 2 2023\, 8 – 9am\nSat\, Dec 9 2023\, 8 – 9am\nSat\, Dec 16 2023\, 8 – 9am\nSat\, Dec 23 2023\, 8 – 9am\nSat\, Dec 30 2023\, 8 – 9am
URL:https://www.letsgokids.com.au/event/warrnambool-parkrun/
LOCATION:Warrnambool Parkrun\, Lake Pertobe Adventure Playground\, Pertobe Road\, Warrnambool\, VIC\, Australia
CATEGORIES:VIC
ATTACH;FMTTYPE=image/jpeg:https://www.letsgokids.com.au/wp-content/uploads/2024/07/DSC_0043-crop-scaled.jpg
ORGANIZER;CN="Warrnambool parkrun":MAILTO:warrnambool@parkrun.com
END:VEVENT
BEGIN:VEVENT
DTSTART;TZID=Australia/Melbourne:20241103T093000
DTEND;TZID=Australia/Melbourne:20251215T153000
DTSTAMP:20260420T012944
CREATED:20240323T033038Z
LAST-MODIFIED:20241030T032445Z
UID:23017-1730626200-1765812600@www.letsgokids.com.au
SUMMARY:Perth Makers Market
DESCRIPTION:Perth Makers Market is WA’s premier handmade artisan market\, featuring over 150 stalls filled with one-of-a-kind\, handmade treasures from local artisans and crafters at the beautiful Goolugatup Heathcote in Applecross. \nWith an amazing atmosphere\, diverse range of food options\, and plenty of fun activities for kids\, this family day out is a relaxed way to shop\, dine\, and uncover what’s being lovingly crafted right here on our doorstep. \nDates:  \n3 November 2024\n15 December 2024
URL:https://www.letsgokids.com.au/event/perth-makers-market/
LOCATION:Goolugatup Heathcote\, Duncraig Road\, Applecross\, WA\, 6153\, Australia
CATEGORIES:WA
ATTACH;FMTTYPE=image/png:https://www.letsgokids.com.au/wp-content/uploads/2024/03/Screenshot-2024-01-15-at-2.56.33-pm_77903EDA-9755-02D1-35D8E04A0094B00D_77c3b2f7-01c2-6186-7db4e58d3deaf9fd.png
ORGANIZER;CN="Perth Makers Market":MAILTO:enquiries@perthmakersmarket.com
END:VEVENT
BEGIN:VEVENT
DTSTART;VALUE=DATE:20250316
DTEND;VALUE=DATE:20251222
DTSTAMP:20260420T012944
CREATED:20250811T213420Z
LAST-MODIFIED:20250811T213531Z
UID:35491-1742083200-1766361599@www.letsgokids.com.au
SUMMARY:Franklin Movie Nights
DESCRIPTION:Franklin Movie Nights are a community get-together held on the first Sunday of every month. \nThey are a great way to enjoy a movie while meeting your local community and sharing some nibbles at interval. \nEntry is $5 per person. \nDoors open at 6pm with the movie starting at 6:30pm. \nBring a plate to share with everyone at intermission. \nSubscribe to our mailing list to find out about the upcoming movie schedule. \nEvent Date: 16th of March – 21st of December
URL:https://www.letsgokids.com.au/event/franklin-movie-nights/
LOCATION:Palais Theatre Franklin Tasmania\, 3388 Huon Highway\, Franklin\, TAS\, 7113\, Australia
CATEGORIES:TAS
ATTACH;FMTTYPE=image/png:https://www.letsgokids.com.au/wp-content/uploads/2025/08/image-3-1024x724-1.png
ORGANIZER;CN="Franklin Movies":MAILTO:info@franklinmovies.org
END:VEVENT
BEGIN:VEVENT
DTSTART;VALUE=DATE:20250414
DTEND;VALUE=DATE:20260208
DTSTAMP:20260420T012944
CREATED:20250414T123944Z
LAST-MODIFIED:20250414T123944Z
UID:32567-1744588800-1770508799@www.letsgokids.com.au
SUMMARY:Tinkertown
DESCRIPTION:Make cubbies\, solve design puzzles\, invent a contraption…Let’s build this town together. \n\nWelcome to Tinkertown\, a world of marvellous invention\, daring builds and mindful tinkering. There is fun stuff to do and serious stuff to learn! \nExplore the engineering design process by building cubby houses and other imaginative structures. Solve challenges\, send secret messages and invent wacky contraptions. \nCurious objects from the State Collection inspire visitors by demonstrating real-world examples of ambitious and innovative engineering design.
URL:https://www.letsgokids.com.au/event/tinkertown/
LOCATION:Scienceworks\, 2 Booker Street\, Spotswood\, VIC\, Australia
CATEGORIES:VIC
ATTACH;FMTTYPE=image/jpeg:https://www.letsgokids.com.au/wp-content/uploads/2025/04/2025_04_02_scienceworks_tinkertown50128_pic_eugenehyland-scaled.jpg
END:VEVENT
BEGIN:VEVENT
DTSTART;VALUE=DATE:20250501
DTEND;VALUE=DATE:20250901
DTSTAMP:20260420T012944
CREATED:20250318T112124Z
LAST-MODIFIED:20250318T112124Z
UID:32004-1746057600-1756684799@www.letsgokids.com.au
SUMMARY:Tasmazia Celebrates the Winter Off Season with a Scavenger Hunt
DESCRIPTION:Come and challenge yourself to a *FREE Scavenger Hunt duringThe OFF Season 2025.Scavenge for items hidden among our 8 Mazes\, Lower Crackpot Village& Embassy Gardens.A successful hunt will provide a reward for the huntee!*Regular maze entry fees apply. No pre-booking required.  No extra cost involved for entry into Scavenger Hunt. Register with our team when purchasing your ticket for FREE entry into our Scavenger Hunt for an experience of 1-2 hours of Fun and Fantasy. 
URL:https://www.letsgokids.com.au/event/tasmazia-celebrates-the-winter-off-season-with-a-scavenger-hunt/
LOCATION:Tasmazia & The Village of Lower Crackpot\, 500 Staverton Rd\, Promised Land\, TAS\, 7306\, Australia
CATEGORIES:TAS
ATTACH;FMTTYPE=image/png:https://www.letsgokids.com.au/wp-content/uploads/2025/03/Screenshot-2025-03-18-at-7.18.14 pm.png
ORGANIZER;CN="Tasmazia":MAILTO:enquiries@tasmazia.com.au
END:VEVENT
BEGIN:VEVENT
DTSTART;VALUE=DATE:20250501
DTEND;VALUE=DATE:20250901
DTSTAMP:20260420T012944
CREATED:20250414T234627Z
LAST-MODIFIED:20250415T103613Z
UID:32653-1746057600-1756684799@www.letsgokids.com.au
SUMMARY:❄️ Duck River Meadows Winter Experience🧀
DESCRIPTION:Brrrr… The cold weather is here\, but we’ve got the perfect winter escape for you at Duck River Meadows in Smithton VIC! Join us for a cosy and immersive experience filled with local produce\, guided tours\, and historical charm. \nWhat’s Included:\nFully guided dairy and cheese factory tour – Watch robots milk cows and witness artisan cheese-making up close.Milk and cheese tastings – Savour fresh\, locally made cheeses right at the source.Honey and nut tastings – Try the Blue Hills Honey collection\, featuring Leatherwood\, Tarkine Wilderness\, and Manuka varieties\, plus delicious honey-infused nuts.Scones three ways at the Pavilions Café – Indulge in homemade scones\, including: \n– Savoury scones with Duck River butter \n– Traditional scones with homemade jam and cream \n– Pumpkin and cheese scones with homemade relish \nEntry to the Circular Head Heritage Centre (Museum) – Step back in time and explore the fascinating local and regional history\, including the exhibit featuring Ziggy\, a giant megafauna marsupial. \nTour Times:\n• Monday to Friday: 9:15 am | 10:15 am | 3:30 pm• Saturday: 10:15 am• Sunday: 9:15 am• Public Holidays: 10:15 am(Other times available on request) \nCost:\n• $50 per Adult• $45 Pensioner/Concession• $30 per Child \n📍 Location: Smithton Visitor Centre\, 12 Nelson Street\, Smithton 7330\n📞 Contact: (03) 6413 5333📧 Email: info@stanleyandtarkine.com.au
URL:https://www.letsgokids.com.au/event/%e2%9d%84%ef%b8%8f-duck-river-meadows-winter-experience%f0%9f%a7%80/
LOCATION:Smithton Visitor Centre\, 2 Nelson Street\, Smithton\, TAS\, 7330\, Australia
CATEGORIES:TAS
ATTACH;FMTTYPE=image/jpeg:https://www.letsgokids.com.au/wp-content/uploads/2025/04/Duck-River-Meadows-Dairy-and-Cheese-Factory-Winter-Special-29_page-0001-scaled.jpg
ORGANIZER;CN="Smithton Visitor Information Centre":MAILTO:info@stanleyandtarkine.com.au
END:VEVENT
BEGIN:VEVENT
DTSTART;TZID=Australia/Melbourne:20250501T080000
DTEND;TZID=Australia/Melbourne:20250831T170000
DTSTAMP:20260420T012944
CREATED:20250414T145058Z
LAST-MODIFIED:20250414T145058Z
UID:32632-1746086400-1756659600@www.letsgokids.com.au
SUMMARY:Twilight Joey Encounter
DESCRIPTION:Get up close with some of our littler animals and toast marshmallows by the fire on our Twilight Joey Encounter. \nJoin us for this special ‘Off Season” winter experience\, available at 4pm daily from 1st May until 31st August. \nThe Twilight Joey Encounter will take a small group of LUCKY visitors into the sanctuary and introduce you to some of our younger residents. Learn about the softer and much cuter side of the ferocious Tasmanian devil and end your experience with marshmallows toasted on a roaring fire. \nThis is a unique opportunity and will be a very special and memorable experience\, ideal for families and animal lovers of any age.
URL:https://www.letsgokids.com.au/event/twilight-joey-encounter/
LOCATION:Devils@Cradle\, 3950 Cradle Mountain Rd\,\, Cradle Mountain\, Tasmania\, 7306\, Australia
CATEGORIES:TAS
ATTACH;FMTTYPE=image/jpeg:https://www.letsgokids.com.au/wp-content/uploads/2025/04/Devils-@-Cradle-198-Copy-scaled.jpg
ORGANIZER;CN="Devils@Cradle":MAILTO:info@devilsatcradle.com
END:VEVENT
BEGIN:VEVENT
DTSTART;VALUE=DATE:20250504
DTEND;VALUE=DATE:20250901
DTSTAMP:20260420T012944
CREATED:20250708T075027Z
LAST-MODIFIED:20250712T050459Z
UID:34694-1746316800-1756684799@www.letsgokids.com.au
SUMMARY:Sunday Fundays - Claremont Museum
DESCRIPTION:Get creative at the Claremont Museum on selected Sundays over autumn and winter with a range of fun and educational kids activities. \nActivities take place in the Museum Courtyard between 11am-1pm and are suitable for all ages. \nWe ask parents to always supervise their children and assist where required. \nThese events are free\, however\, bookings are essential. \nPlease click on the Event Program tab for more information and booking links. \nA PDF of the event program can be found here.
URL:https://www.letsgokids.com.au/event/sunday-fundays-claremont-museum/
LOCATION:Claremont Museum\, 66 Victoria Ave\, Claremont\, WA\, 6010\, Australia
CATEGORIES:WA
ATTACH;FMTTYPE=image/jpeg:https://www.letsgokids.com.au/wp-content/uploads/2025/07/shutterstock_1701002401.jpg
END:VEVENT
BEGIN:VEVENT
DTSTART;TZID=Australia/Melbourne:20250517T073000
DTEND;TZID=Australia/Melbourne:20251129T113000
DTSTAMP:20260420T012944
CREATED:20250512T161417Z
LAST-MODIFIED:20250512T161417Z
UID:33001-1747467000-1764415800@www.letsgokids.com.au
SUMMARY:Mount Claremont Farmers Market
DESCRIPTION:Join us at the City of Nedlands’ award-winning Mt Claremont Farmers’ Market\, one of Perth’s longest-running community markets and a cherished Saturday morning ritual for many locals. \nOperated by the Mt Claremont Primary School P&C\, the market is celebrated for its vibrant community spirit and top-quality products. \nDiscover fresh\, grower-direct produce\, including fruit\, veggies\, meat\, eggs\, fish\, bread\, and dairy products. \nStroll through the market\, sample seasonal delights\, browse plant stalls\, and pick up cut flowers to brighten your home. Fill your picnic basket with artisan pantry items\, baked goods\, and nourishing treats. With local produce changing by season\, there’s always something new. Plus\, you can chat directly with enthusiastic growers and producers about their products. \nSavour delicious hot food and drinks\, explore natural body and cleaning products\, and discover beautiful handmade homewares crafted by talented locals. Kids can play in the playground while adults enjoy great local coffee and a bite to eat. \nThe market has thrived over the past 16 years thanks to the dedication of Mt Claremont Primary School parents and students who volunteer their time and energy. Your visit supports the school and local community groups\, with onsite parking available for a gold coin donation.
URL:https://www.letsgokids.com.au/event/mount-claremont-farmers-market/
LOCATION:Mount Claremont Primary School\, 103 Alfred Road\, Mount Claremont\, WA\, 6010\, Australia
CATEGORIES:WA
ATTACH;FMTTYPE=image/png:https://www.letsgokids.com.au/wp-content/uploads/2025/05/Mount-Claremont-Farmers-Market.png
END:VEVENT
BEGIN:VEVENT
DTSTART;TZID=Australia/Melbourne:20250531T090000
DTEND;TZID=Australia/Melbourne:20260201T170000
DTSTAMP:20260420T012944
CREATED:20250827T203243Z
LAST-MODIFIED:20250827T203243Z
UID:35848-1748682000-1769965200@www.letsgokids.com.au
SUMMARY:Questacon Presents: ZAP! CLANK! POW!
DESCRIPTION:Overview \nUncover the unexpected and spark your curiosity with mesmerising magnets\, machines and motion in Questacon Presents: ZAP! CLANK! POW! \nWith 17 exhibits across three zones and a trio of delightful characters\, Questacon Presents explores electricity – ZAP! – simple machines – CLANK! – and fundamental forces – POW! \nIn Questacon Presents: ZAP! CLANK! POW! you can become a battery\, lift herculean loads with levers and use mechanisms to make mechanical music. Feel charged up as you watch 15\,000 volts of electricity force its way through the air as an arc of plasma. Discover how simple machines make work easier by lifting your own body weight into the air with the help of pulleys. Create a flying contraption and let it fly on a wind table\, experimenting with airflow and aerodynamics.
URL:https://www.letsgokids.com.au/event/questacon-presents-zap-clank-pow/
LOCATION:Questacon – The National Science and Technology Centre\, King Edward Terrace\, Parkes\, ACT\, 2600\, Australia
CATEGORIES:ACT
ATTACH;FMTTYPE=image/jpeg:https://www.letsgokids.com.au/wp-content/uploads/2025/08/images-24.jpeg
ORGANIZER;CN="Questacon":MAILTO:info@questacon.edu.au
END:VEVENT
END:VCALENDAR