BEGIN:VCALENDAR
VERSION:2.0
PRODID:-//LetsGoKids - ECPv6.15.3//NONSGML v1.0//EN
CALSCALE:GREGORIAN
METHOD:PUBLISH
X-WR-CALNAME:LetsGoKids
X-ORIGINAL-URL:https://www.letsgokids.com.au
X-WR-CALDESC:Events for LetsGoKids
REFRESH-INTERVAL;VALUE=DURATION:PT1H
X-Robots-Tag:noindex
X-PUBLISHED-TTL:PT1H
BEGIN:VTIMEZONE
TZID:Australia/Melbourne
BEGIN:STANDARD
TZOFFSETFROM:+1100
TZOFFSETTO:+1000
TZNAME:AEST
DTSTART:20250405T160000
END:STANDARD
BEGIN:DAYLIGHT
TZOFFSETFROM:+1000
TZOFFSETTO:+1100
TZNAME:AEDT
DTSTART:20251004T160000
END:DAYLIGHT
BEGIN:STANDARD
TZOFFSETFROM:+1100
TZOFFSETTO:+1000
TZNAME:AEST
DTSTART:20260404T160000
END:STANDARD
BEGIN:DAYLIGHT
TZOFFSETFROM:+1000
TZOFFSETTO:+1100
TZNAME:AEDT
DTSTART:20261003T160000
END:DAYLIGHT
END:VTIMEZONE
BEGIN:VEVENT
DTSTART;VALUE=DATE:20250414
DTEND;VALUE=DATE:20260208
DTSTAMP:20260422T154328
CREATED:20250414T123944Z
LAST-MODIFIED:20250414T123944Z
UID:32567-1744588800-1770508799@www.letsgokids.com.au
SUMMARY:Tinkertown
DESCRIPTION:Make cubbies\, solve design puzzles\, invent a contraption…Let’s build this town together. \n\nWelcome to Tinkertown\, a world of marvellous invention\, daring builds and mindful tinkering. There is fun stuff to do and serious stuff to learn! \nExplore the engineering design process by building cubby houses and other imaginative structures. Solve challenges\, send secret messages and invent wacky contraptions. \nCurious objects from the State Collection inspire visitors by demonstrating real-world examples of ambitious and innovative engineering design.
URL:https://www.letsgokids.com.au/event/tinkertown/
LOCATION:Scienceworks\, 2 Booker Street\, Spotswood\, VIC\, Australia
CATEGORIES:VIC
ATTACH;FMTTYPE=image/jpeg:https://www.letsgokids.com.au/wp-content/uploads/2025/04/2025_04_02_scienceworks_tinkertown50128_pic_eugenehyland-scaled.jpg
END:VEVENT
BEGIN:VEVENT
DTSTART;VALUE=DATE:20250815
DTEND;VALUE=DATE:20260127
DTSTAMP:20260422T154328
CREATED:20250814T180700Z
LAST-MODIFIED:20250814T180700Z
UID:35613-1755216000-1769471999@www.letsgokids.com.au
SUMMARY:Tinkertown
DESCRIPTION:Make cubbies\, solve design puzzles\, invent a contraption…Let’s build this town together. \n\nWelcome to Tinkertown\, a world of marvellous invention\, daring builds and mindful tinkering. There is fun stuff to do and serious stuff to learn! \nExplore the engineering design process by building cubby houses and other imaginative structures. Solve challenges\, send secret messages and invent wacky contraptions. \nCurious objects from the State Collection inspire visitors by demonstrating real-world examples of ambitious and innovative engineering design. \nIn this fantastic\, quirky village filled with hands-on activities there are endless possibilities for creative play: \n\nBuild a soft cubby with masses of magnetic cushions\nInvent a moving contraption or a sculpture using loose parts\nCode a message on a giant fidget popper wall\nCreate an elaborate roller coaster on a magnetic ball run\nSolve or design your own tricky tangram puzzles\nSend a secret message over the airwaves with whisper tubes
URL:https://www.letsgokids.com.au/event/tinkertown-2/
LOCATION:Museums Victoria\, 11 Nicholson Street\, Carlton\, Victoria\, 3053\, Australia
CATEGORIES:VIC
ATTACH;FMTTYPE=image/png:https://www.letsgokids.com.au/wp-content/uploads/2025/08/Screenshot-2025-08-15-at-2.04.01-am.png
END:VEVENT
BEGIN:VEVENT
DTSTART;TZID=Australia/Melbourne:20251029T100000
DTEND;TZID=Australia/Melbourne:20260208T170000
DTSTAMP:20260422T154328
CREATED:20251028T030525Z
LAST-MODIFIED:20251028T030525Z
UID:37219-1761732000-1770570000@www.letsgokids.com.au
SUMMARY:Game Worlds
DESCRIPTION:Spanning over 50 years of play\, Game Worlds features more than 30 videogames from the 1970s to today\, with 44 playable moments alongside original builds\, rare design materials and hands-on prototypes you won’t find anywhere else. \nExplore major titles like Minecraft\, Final Fantasy XIV Online\, The Elder Scrolls Online\, SimCity and Stardew Valley\, alongside World of Warcraft\, The Sims\, Neopets and the highly anticipated Hollow Knight: Silksong. \nDiscover four new microgames made exclusively for ACMI by Australian developers – from nostalgic dial-ins to playful perspective shifts.
URL:https://www.letsgokids.com.au/event/game-worlds/
LOCATION:ACMI (Australian Centre for the Moving Image)\, Flinders St\, Melbourne\, VIC\, 3000\, Australia
CATEGORIES:VIC
ATTACH;FMTTYPE=image/jpeg:https://www.letsgokids.com.au/wp-content/uploads/2025/10/a5bc5714-a24b-444e-b761-6cbe3f57e892.jpg
END:VEVENT
BEGIN:VEVENT
DTSTART;VALUE=DATE:20251201
DTEND;VALUE=DATE:20260127
DTSTAMP:20260422T154328
CREATED:20251217T223319Z
LAST-MODIFIED:20251217T223423Z
UID:38256-1764547200-1769471999@www.letsgokids.com.au
SUMMARY:Back-to-Back Fun this summer: ‘Holiday Bricktacular’ Followed by ‘LEGO® Summer of Play’ at LEGOLAND® Discovery Centre Melbourne
DESCRIPTION:This summer\, LEGOLAND® Discovery Centre Melbourne is set to delight families with two exciting\, back-to-back activities designed to inspire creativity\, spark imagination and celebrate the joy of play. The fun begins in December with Holiday Bricktacular\, followed immediately by the launch of LEGO® Summer of Play\, the perfect school holiday adventure for young builders. \nKicking off the festivities is Holiday Bricktacular (1-24 December)\, a heartwarming festive event that brings families together to build for a global cause. Central to the experience is the Build to Give initiative: for every LEGO® heart built in the attraction and shared on Instagram using the hashtag #BuildtoGive\, LEGO® will donate a LEGO® set to a child in need. This annual tradition spreads joy to children worldwide and encourages visitors to embrace the spirit of giving. \nGuests can immerse themselves in colourful holiday builds\, festive decorations and cheerful family activities as LEGOLAND® Discovery Centre Melbourne transforms into a brick-filled wonderland. \nFrom 26 December – 26 January 2026\, LEGO® Summer of Play\, an immersive\, activity-packed program created to help kids discover and embrace their own unique way of playing will take over LEGOLAND® Discovery Centre Melbourne. Whether children love to create\, explore\, build\, dance or simply play freely\, the Summer of Play offers five themed activities designed to spark imagination and bring summer fun to life: \n\nDISCOVER: Explore Miniland to spot hidden summer surprises.\nCREATE: Join a hands-on workshop with a Master Model Builder and design a summer-themed LEGO® build.\nDANCE: Get moving with upbeat LEGO®-inspired dance fun\, including dancing with a LEGO® costume character\nBUILD: Construct your own LEGO® bee and display it proudly on the vibrant LEGO® flower cart.\nPLAY: Enjoy endless opportunities for imaginative play\, including hopping aboard a chariot on the Kingdom Quest ride or learn how to fly on Merlin’s Apprentice ride.\n\nPerfect for families looking to keep kids engaged\, inspired and entertained during the school holidays\, Summer of Play offers something special for every type of LEGO® lover. \nEvent Dates: \n\nHoliday Bricktacular: 1 – 24 December\nLEGO® Summer of Play: 26 December – 26 January\n\nBoth events will take place at LEGOLAND® Discovery Centre Melbourne\, located at Chadstone – The Fashion Capital. For more information and to buy tickets visit\, www.legolanddiscoverycentre.com/melbourne/.
URL:https://www.letsgokids.com.au/event/back-to-back-fun-this-summer-holiday-bricktacular-followed-by-lego-summer-of-play-at-legoland-discovery-centre-melbourne/
LOCATION:LEGOLAND® Discovery Centre Melbourne\, Level 2/1341 Dandenong Rd\,\, Chadstone\, VIC\, 3148\, Australia
CATEGORIES:VIC
ATTACH;FMTTYPE=image/jpeg:https://www.letsgokids.com.au/wp-content/uploads/2025/12/Christmas-Bricktacular-LEGOLAND-Discovery-Centre-Melbourne1-scaled.jpg
END:VEVENT
BEGIN:VEVENT
DTSTART;VALUE=DATE:20251208
DTEND;VALUE=DATE:20260301
DTSTAMP:20260422T154328
CREATED:20260112T130822Z
LAST-MODIFIED:20260112T130822Z
UID:38649-1765152000-1772323199@www.letsgokids.com.au
SUMMARY:Stand Out by Tara Mathews
DESCRIPTION:Stand Out is an exhibition by local young artist Tara Mathews. Using bright colours and a distinctive style\, Tara dedicates their exhibition to the queer women and gender-diverse individuals who feel like they don’t fit in. The artworks visually represent the alienating feeling of not quite fitting the mould\, but also the solidarity in knowing that there is a whole community of people who are facing the same struggle. While it is challenging to feel different from those around you\, these differences are what make you unique and allow you to stand out. \nShowing at Airtime flags\, an outdoor exhibition space at Altona Meadows Skate Park that showcases works by young artists from Melbourne’s west. \n\n\n“Stand Out is a response to the queer experience of feeling different from everyone around you. In this exhibition\, I aim to visually express the ways that I\, and others like me\, feel out of place\, while also reaffirming that even though queer people can feel like they don’t belong\, there is a whole community that experience the same feelings. It can sometimes be a struggle choosing either to blend in and act like something you aren’t\, or to make the choice to be yourself and stand out. Even though being different can sometimes feel like a burden\, it is those differences that make you who you are.” – Tara Mathews \n\n\nPresented as part of Midsumma Westside
URL:https://www.letsgokids.com.au/event/stand-out-by-tara-mathews/
LOCATION:Altona Meadows Skate Park\, Queen Street\, Altona Meadows\, VIC\, 3028\, Australia
CATEGORIES:VIC
ATTACH;FMTTYPE=image/png:https://www.letsgokids.com.au/wp-content/uploads/2026/01/stand-out-rs.png
ORGANIZER;CN="Hobson Bay Council":MAILTO:customerservice@hobsonsbay.vic.gov.au
END:VEVENT
BEGIN:VEVENT
DTSTART;VALUE=DATE:20251210
DTEND;VALUE=DATE:20260125
DTSTAMP:20260422T154328
CREATED:20260112T122605Z
LAST-MODIFIED:20260112T122605Z
UID:38597-1765324800-1769299199@www.letsgokids.com.au
SUMMARY:Still Life Drawing and Collage
DESCRIPTION:Step into the Creative Playground this summer and discover a space alive with colour and creativity. Inspired by Town Hall Gallery’s latest major exhibition OBJECTIVE\, this hands-on activity invites you to explore the art of still life through drawing and collage. \nWith a rotating display of intriguing objects and materials\, each visit offers something new to observe\, interpret and transform. Whether you’re sketching delicate details\, experimenting with bold shapes or layering textures into a vibrant collage\, you’ll find endless inspiration in the ever-changing compositions. \nPerfect for families\, groups of friends​ or solo makers\, this drop-in activity encourages playful exploration and creative expression. All materials are provided\, just bring your imagination and see where the objects take you! \nAvailable during Town Hall Gallery open hours. \nFree\, no bookings required. Suitable for children 3+ and adults.
URL:https://www.letsgokids.com.au/event/still-life-drawing-and-collage/
LOCATION:Hawthorn Arts Centre\, 360 Burwood Road\, Hawthorn\, VIC\, 3122\, Australia
CATEGORIES:VIC
ATTACH;FMTTYPE=image/webp:https://www.letsgokids.com.au/wp-content/uploads/2026/01/Creative-Playground-Still-Life-Drawing-and-Collage.jpg.webp
END:VEVENT
BEGIN:VEVENT
DTSTART;VALUE=DATE:20251222
DTEND;VALUE=DATE:20260204
DTSTAMP:20260422T154328
CREATED:20250814T175816Z
LAST-MODIFIED:20251218T034704Z
UID:35604-1766361600-1770163199@www.letsgokids.com.au
SUMMARY:Tiny Tours Big Adventures for Little Explorers
DESCRIPTION:Light the spark of curiosity and explore the museum like you never have before. \n\nYoung imaginations and little explorers embark on unforgettable adventures through the museum! Designed especially for children and their adults\, Tiny Tours make Museum discovery exciting\, and fun\, inviting families with young children to dive into some of nature’s most fascinating stories together. Each tour offers hands-on\, interactive experiences that bring learning to life\, inspiring kids to see the world with curiosity and wonder.
URL:https://www.letsgokids.com.au/event/tiny-tours-big-adventures-for-little-explorers-2/
LOCATION:Melbourne Museum\, 11 Nicholson St\, Carlton 3053\, VIC\, 3053\, Australia
CATEGORIES:VIC
ATTACH;FMTTYPE=image/png:https://www.letsgokids.com.au/wp-content/uploads/2025/08/Screenshot-2025-08-15-at-1.56.42-am.png
ORGANIZER;CN="Melbourne Museum":MAILTO:socialmedia@museum.vic.gov.au
END:VEVENT
BEGIN:VEVENT
DTSTART;TZID=Australia/Melbourne:20251224T100000
DTEND;TZID=Australia/Melbourne:20260225T140000
DTSTAMP:20260422T154328
CREATED:20251218T034851Z
LAST-MODIFIED:20251218T034851Z
UID:37960-1766570400-1772028000@www.letsgokids.com.au
SUMMARY:Dino Days
DESCRIPTION:Every Wednesday is Dino Day for the little ones at Melbourne Museum!\n\n\n\n\nDino Days invites our youngest dinosaur enthusiasts to explore all things dinosaur.From dino discos and dress-ups to story times and sensory soft play\, it’s a dinosaur day out at Melbourne Museum.
URL:https://www.letsgokids.com.au/event/dino-days/
LOCATION:Melbourne Museum\, 11 Nicholson St\, Carlton 3053\, VIC\, 3053\, Australia
CATEGORIES:VIC
ATTACH;FMTTYPE=image/jpeg:https://www.letsgokids.com.au/wp-content/uploads/2025/12/dino-days-2026-1.jpg
ORGANIZER;CN="Melbourne Museum":MAILTO:socialmedia@museum.vic.gov.au
END:VEVENT
BEGIN:VEVENT
DTSTART;VALUE=DATE:20260103
DTEND;VALUE=DATE:20260202
DTSTAMP:20260422T154328
CREATED:20251018T045523Z
LAST-MODIFIED:20260115T133227Z
UID:36983-1767398400-1769990399@www.letsgokids.com.au
SUMMARY:Disney Jr. Live On Tour: Let’s Play!
DESCRIPTION:“Disney Jr. Live On Tour: Let’s Play!” is set to enchant families across Australia this January and February with FIVE spectacular tour stops: Adelaide\, Brisbane\, Sydney\, Melbourne\, Perth. This immersive concert experience will bring beloved Disney Jr. characters to the stage in an interactive musical adventure perfect for young fans and their families. \nIn an Australian first\, Ginny and Bitsy from “SuperKitties” and Team Spidey from “Marvel’s Spidey and his Amazing Friends” will head down under to join other fan-favorite Disney Jr. characters\, including Mickey Mouse and Minnie Mouse and Ariel the Little Mermaid\, and the Puppy Dog Pals\, to delight audiences in this fully immersive live show featuring singing\, dancing\, dazzling 3D visuals\, and exciting acrobatics. \nIn “Disney Jr. Live On Tour: Let’s Play!\,” Mickey Mouse is planning the ultimate playdate for his friends at the Clubhouse. But when mysterious green weather threatens to ruin the fun\, Team Spidey from “Marvel’s Spidey and his Amazing Friends” swings in to save the day — and the playdate! \nThe show features hit songs from popular Disney Jr. series\, including: \n\n“Hot Dog!” from “Mickey Mouse Clubhouse”\n“Oopsie Kitty” from “SuperKitties”\n“Do the Spidey” from “Marvel’s Spidey and his Amazing Friends”\n\nJonathan Shank\, producer at Terrapin Station Entertainment\, said: “After delighting audiences across the U.S. and making its official international debut in London\, we are excited to share this magical production with families throughout Australia.” \n”Nicolás Renna\, CEO of Proactiv Entertainment\, said: “We are thrilled to be bringing world-class family entertainment to Australia. We are excited to be teaming up with Disney\, Terrapin and our partners throughout the region to present ‘Disney Jr. Live On Tour: Let’s Play!’ This show promises to create unforgettable memories and is a joyful way to kick off 2026!” \nExclusive presale access is available to Disney+ subscribers and MyTicketek members for each city: \n\nDisney+ subscribers presale: Tuesday\, 7 October at 10 a.m. through Thursday\, 9 October at 12 p.m.\, local time.\nMyTicketek members presale: Tuesday\, 7 October at 12 p.m. through Friday\, 10 October at 9:59 a.m.\, local time.\n\nParents and caregivers can visit www.DisneyJrTour.com.au for all event and ticketing details. Follow the tour on Instagram\, Facebook\, TikTok or by using the hashtag #DisneyJrTour for the latest updates.
URL:https://www.letsgokids.com.au/event/disney-jr-live-on-tour-lets-play/
LOCATION:Multiple Venues\, Australia
CATEGORIES:NSW,VIC,WA
ATTACH;FMTTYPE=image/jpeg:https://www.letsgokids.com.au/wp-content/uploads/2025/10/174481_14025_R1-scaled.jpg
END:VEVENT
BEGIN:VEVENT
DTSTART;TZID=Australia/Melbourne:20260109T090000
DTEND;TZID=Australia/Melbourne:20260130T160000
DTSTAMP:20260422T154328
CREATED:20251218T024558Z
LAST-MODIFIED:20260117T065746Z
UID:38331-1767949200-1769788800@www.letsgokids.com.au
SUMMARY:Giant Lollipop Making Day
DESCRIPTION:Visit Great Ocean Road Chocolaterie during these school holidays. Get creative with the whole family in this fun and delicious chocolate experience. Choose from a mouth watering selection of toppings to decorate your handcrafted treat. It’s the perfect hands on activity for all ages and the best part? You get to take your sweet creation home with you! \nDates: 9\, 12\, 16\, 19 & 23 January 2026
URL:https://www.letsgokids.com.au/event/giant-lollipop-making-day/
LOCATION:Great Ocean Road Chocolaterie  & Ice Creamery\, 1200 Great Ocean Road\, Bellbrae\, VIC\, 3228\, Australia
CATEGORIES:VIC
ATTACH;FMTTYPE=image/jpeg:https://www.letsgokids.com.au/wp-content/uploads/2025/12/Giant-Lollipop-Day-Closeup-1.jpg
ORGANIZER;CN="Great Ocean Road Chocolaterie  & Ice Creamery":MAILTO:admin@gorci.com.au
END:VEVENT
BEGIN:VEVENT
DTSTART;TZID=Australia/Melbourne:20260117T080000
DTEND;TZID=Australia/Melbourne:20260620T123000
DTSTAMP:20260422T154328
CREATED:20260112T121541Z
LAST-MODIFIED:20260112T121541Z
UID:38586-1768636800-1781958600@www.letsgokids.com.au
SUMMARY:Boroondara Farmers Market dates 2026
DESCRIPTION:The Boroondara Farmers Market is held on the 3rd and 5th Saturday of each month at Patterson Reserve\, Auburn Road\, Hawthorn. The market does not run when there’s a 5th Saturday in December.The market sells produce from all around Victoria. You can buy: \n\nfresh fruit and vegetables\nherbs and olives\nseasonal organic produce\nmeat and eggs\nhoney\nbread and cakes\ndips and sauces\nwine and beer.\n\nIf you care about food and buying local\, then talk to the dedicated farmers who are just as passionate. Learn about the ingredients and processes involved in the food they bring to market.We encourage customers to use cashless forms of payment where possible. Customers can also pre-order with stall holders and collect produce on the day.For more information on stall holders and how to get involved\, visit our Boroondara Farmers Market page.
URL:https://www.letsgokids.com.au/event/boroondara-farmers-market-dates-2026/
LOCATION:Patterson Reserve\, 484 Auburn Road\, Hawthorn\, VIC\, 3122\, Australia
CATEGORIES:VIC
ATTACH;FMTTYPE=image/png:https://www.letsgokids.com.au/wp-content/uploads/2026/01/Screenshot-2026-01-12-at-8.14.04-pm.png
END:VEVENT
BEGIN:VEVENT
DTSTART;TZID=Australia/Melbourne:20260117T100000
DTEND;TZID=Australia/Melbourne:20260124T160000
DTSTAMP:20260422T154328
CREATED:20260112T125047Z
LAST-MODIFIED:20260112T125047Z
UID:38625-1768644000-1769270400@www.letsgokids.com.au
SUMMARY:The Whale
DESCRIPTION:This January school holidays\, dive into an extraordinary underwater world on our forecourt with The Whale\, an awe-inspiring giant puppet installation from Australia’s beloved Spare Parts Puppet Theatre. \nThis free\, immersive outdoor experience invites you to animate a magnificent 10-metre-long whale and its underwater companions\, experiencing the scale and majesty of these ocean giants up close. \nAccompanied by storytelling and an enchanting original score\, this unique installation invites you on a deep-sea journey inspiring wonder and respect for the ocean’s largest creatures and the natural world as a whole. Discover the vital role whales play in our ecosystem\, why they matter to our community\, and how we can protect them for future generations. \nAudiences of all ages can drop by anytime and join the puppeteers to bring these magnificent creatures to life.
URL:https://www.letsgokids.com.au/event/the-whale/
LOCATION:Arts Centre Melbourne Forecourt\, 100 St Kilda Rd\, Southbank\, VIC\, 3004\, Australia
CATEGORIES:VIC
ATTACH;FMTTYPE=image/jpeg:https://www.letsgokids.com.au/wp-content/uploads/2026/01/1b619116-9168-45dd-b80f-72cf3f50967e.jpg
ORGANIZER;CN="City of Melbourne":MAILTO:boyd@melbourne.vic.gov.au
END:VEVENT
BEGIN:VEVENT
DTSTART;TZID=Australia/Melbourne:20260117T100000
DTEND;TZID=Australia/Melbourne:20260124T170000
DTSTAMP:20260422T154328
CREATED:20260112T121227Z
LAST-MODIFIED:20260112T121227Z
UID:38581-1768644000-1769274000@www.letsgokids.com.au
SUMMARY:Robotics and Coding Playtime: Drop-in Event
DESCRIPTION:Join us with your little ones on Saturdays during NCM Summer to try out our MatataStudio Coding Set. \nThe set allows kids 3 years and older to use physical blocks to code and program a small robot to play a problem-solving game in a screen-free environment.
URL:https://www.letsgokids.com.au/event/robotics-and-coding-playtime-drop-in-event/
LOCATION:National Communication Museum\, 375 Burwood Road\, Hawthorn\, VIC\, 3122\, Australia
CATEGORIES:VIC
ATTACH;FMTTYPE=image/jpeg:https://www.letsgokids.com.au/wp-content/uploads/2026/01/598989984_122212249484322402_9016277089516475296_n.jpg
END:VEVENT
BEGIN:VEVENT
DTSTART;TZID=Australia/Melbourne:20260118T100000
DTEND;TZID=Australia/Melbourne:20260126T160000
DTSTAMP:20260422T154328
CREATED:20260117T054347Z
LAST-MODIFIED:20260117T054347Z
UID:38871-1768730400-1769443200@www.letsgokids.com.au
SUMMARY:Summer School Holidays: Jester’s Jubilee
DESCRIPTION:Jester’s Jubilee is taking over Kryal Castle during the summer school holidays. \nSee juggling jesters\, join circus school\, craft silly hats and solve riddles to win prizes. There will be a jumping castle\, live shows keeping the castle in stitches\, and all of the much-loved Kryal Castle activities including live jousting\, potion making\, Knight School\, axe throwing and archery. \nFrom Monday 12 January\, the fun gets even cooler with a special mid-holiday water activation. Kids can dash through inflatable sprinklers and take aim at a water-sponge throwing station\, all set up inside the castle to keep spirits high and temperatures low. \nIt’s a school holiday packed with chaos\, belly laughs\, and non-stop fun for the whole family.
URL:https://www.letsgokids.com.au/event/summer-school-holidays-jesters-jubilee/
LOCATION:Kryal Castle\, 121 Forbes Rd\,\, Leigh Creek\, VIC\, 3352\, Australia
CATEGORIES:VIC
ATTACH;FMTTYPE=image/jpeg:https://www.letsgokids.com.au/wp-content/uploads/2026/01/JestersTEMP-1.jpg
ORGANIZER;CN="Kryal Castle":MAILTO:admin@kryalcastle.com.au
END:VEVENT
BEGIN:VEVENT
DTSTART;TZID=Australia/Melbourne:20260118T100000
DTEND;TZID=Australia/Melbourne:20260126T170000
DTSTAMP:20260422T154328
CREATED:20260117T054047Z
LAST-MODIFIED:20260117T054047Z
UID:38869-1768730400-1769446800@www.letsgokids.com.au
SUMMARY:Sovereign Hill Summer School Holidays
DESCRIPTION:Step into another world at Sovereign Hill. \nThis summer\, leave the everyday at the gate and step straight into the 1850s – a gold rush world bursting to life around you and ready to explore! \nThis isn’t just another school holiday outing. It’s the kind of day where time slows down\, curiosity sparks\, and memories are made together. \n\n\n\nContent: Sovereign Hill
URL:https://www.letsgokids.com.au/event/sovereign-hill-summer-school-holidays/
LOCATION:Sovereign Hill\, Bradshaw Street\, Ballarat\, VIC\, 3350\, Australia
CATEGORIES:VIC
ATTACH;FMTTYPE=image/jpeg:https://www.letsgokids.com.au/wp-content/uploads/2026/01/sovereignhill-summer.jpg
ORGANIZER;CN="Sovereign Hill":MAILTO:enquiries@sovereignhill.com.au
END:VEVENT
BEGIN:VEVENT
DTSTART;TZID=Australia/Melbourne:20260118T150000
DTEND;TZID=Australia/Melbourne:20260125T190000
DTSTAMP:20260422T154328
CREATED:20260117T045623Z
LAST-MODIFIED:20260117T045623Z
UID:38860-1768748400-1769367600@www.letsgokids.com.au
SUMMARY:SUMMER SUNDAYS 2026
DESCRIPTION:Wrap up your week with live music\, food trucks and a pop-up Garden Bar in the Ballarat Botanical Gardens. \nEnjoy household names\, emerging artists and incredible local talent perform live on the Summer Sundays outdoor stage. 3-7pm on Sunday 18 and 25 January in the Ballarat Botanical Gardens. See you there!
URL:https://www.letsgokids.com.au/event/summer-sundays-2026/
LOCATION:Ballarat Botanical Gardens\, Gillies Street North\, Wendouree\, VIC\, 3355\, Australia
CATEGORIES:VIC
ATTACH;FMTTYPE=image/jpeg:https://www.letsgokids.com.au/wp-content/uploads/2026/01/Summer-Sundays-image-72.jpg
END:VEVENT
END:VCALENDAR