BEGIN:VCALENDAR
VERSION:2.0
PRODID:-//LetsGoKids - ECPv6.15.3//NONSGML v1.0//EN
CALSCALE:GREGORIAN
METHOD:PUBLISH
X-ORIGINAL-URL:https://www.letsgokids.com.au
X-WR-CALDESC:Events for LetsGoKids
REFRESH-INTERVAL;VALUE=DURATION:PT1H
X-Robots-Tag:noindex
X-PUBLISHED-TTL:PT1H
BEGIN:VTIMEZONE
TZID:Australia/Melbourne
BEGIN:STANDARD
TZOFFSETFROM:+1100
TZOFFSETTO:+1000
TZNAME:AEST
DTSTART:20260404T160000
END:STANDARD
BEGIN:DAYLIGHT
TZOFFSETFROM:+1000
TZOFFSETTO:+1100
TZNAME:AEDT
DTSTART:20261003T160000
END:DAYLIGHT
END:VTIMEZONE
BEGIN:VEVENT
DTSTART;TZID=Australia/Melbourne:20260117T080000
DTEND;TZID=Australia/Melbourne:20260620T123000
DTSTAMP:20260422T124514
CREATED:20260112T121541Z
LAST-MODIFIED:20260112T121541Z
UID:38586-1768636800-1781958600@www.letsgokids.com.au
SUMMARY:Boroondara Farmers Market dates 2026
DESCRIPTION:The Boroondara Farmers Market is held on the 3rd and 5th Saturday of each month at Patterson Reserve\, Auburn Road\, Hawthorn. The market does not run when there’s a 5th Saturday in December.The market sells produce from all around Victoria. You can buy: \n\nfresh fruit and vegetables\nherbs and olives\nseasonal organic produce\nmeat and eggs\nhoney\nbread and cakes\ndips and sauces\nwine and beer.\n\nIf you care about food and buying local\, then talk to the dedicated farmers who are just as passionate. Learn about the ingredients and processes involved in the food they bring to market.We encourage customers to use cashless forms of payment where possible. Customers can also pre-order with stall holders and collect produce on the day.For more information on stall holders and how to get involved\, visit our Boroondara Farmers Market page.
URL:https://www.letsgokids.com.au/event/boroondara-farmers-market-dates-2026/
LOCATION:Patterson Reserve\, 484 Auburn Road\, Hawthorn\, VIC\, 3122\, Australia
CATEGORIES:VIC
ATTACH;FMTTYPE=image/png:https://www.letsgokids.com.au/wp-content/uploads/2026/01/Screenshot-2026-01-12-at-8.14.04-pm.png
END:VEVENT
BEGIN:VEVENT
DTSTART;TZID=Australia/Melbourne:20260204T113000
DTEND;TZID=Australia/Melbourne:20260401T123000
DTSTAMP:20260422T124514
CREATED:20260112T124120Z
LAST-MODIFIED:20260112T124153Z
UID:38613-1770204600-1775046600@www.letsgokids.com.au
SUMMARY:Sing & Grow - Music Therapy For Kids Aged 0-5 Years Old
DESCRIPTION:Join us for Sing & Grow\, a fun music therapy program for families with kids aged 0 to 5! \nExperience singing\, dancing\, and playing instruments together to help your little one grow and develop. \nWeekly on Wednesday from 4 February – 1 April 2026Free event\, bookings or tickets are required.
URL:https://www.letsgokids.com.au/event/sing-grow-music-therapy-for-kids-aged-0-5-years-old/
LOCATION:Rossmoyne Family & Community Centre\, 19 Beldale Court\, Berwick\, VIC\, 3806\, Australia
CATEGORIES:VIC
ATTACH;FMTTYPE=image/jpeg:https://www.letsgokids.com.au/wp-content/uploads/2026/01/PLAY-MATTERS-289.jpg
ORGANIZER;CN="City of Casey":MAILTO:dadsmatter@casey.vic.gov.au
END:VEVENT
BEGIN:VEVENT
DTSTART;TZID=Australia/Melbourne:20260205T093000
DTEND;TZID=Australia/Melbourne:20260402T110000
DTSTAMP:20260422T124514
CREATED:20260321T032426Z
LAST-MODIFIED:20260321T032426Z
UID:39640-1770283800-1775127600@www.letsgokids.com.au
SUMMARY:The Cocoa Chronicles Story Time
DESCRIPTION:Starting 5th February\, Mums and bubs\, join us every Thursday at 9:45am for our Cocoa Chronicles Story Time Sessions. There will be engaging stories\, games to enjoy\, plus our expansive lawns and gardens to explore. Spark your child’s imagination while taking a moment for yourself to unwind in our cozy café. Treat yourself to a rich\, velvety hot chocolate\, fresh barista made coffee\, or indulge in one of our delicious sweet treats. \nDuring these delightful sessions\, little ones will have the opportunity to enjoy two children’s stories read to them by our friendly team\, play games\, plus each child will receive a FREE small chocolate treat to enjoy!
URL:https://www.letsgokids.com.au/event/the-cocoa-chronicles-story-time-2/
LOCATION:Great Ocean Road Chocolaterie  & Ice Creamery\, 1200 Great Ocean Road\, Bellbrae\, VIC\, 3228\, Australia
CATEGORIES:VIC
ATTACH;FMTTYPE=image/jpeg:https://www.letsgokids.com.au/wp-content/uploads/2026/03/YVC-@zennieshia-19-2-1360x2039-1.jpg
ORGANIZER;CN="Great Ocean Road Chocolaterie  & Ice Creamery":MAILTO:admin@gorci.com.au
END:VEVENT
BEGIN:VEVENT
DTSTART;TZID=Australia/Melbourne:20260205T094500
DTEND;TZID=Australia/Melbourne:20260402T101500
DTSTAMP:20260422T124514
CREATED:20260129T111912Z
LAST-MODIFIED:20260129T111912Z
UID:39125-1770284700-1775124900@www.letsgokids.com.au
SUMMARY:The Cocoa Chronicles Story Time
DESCRIPTION:Mums and bubs\, visit the Chocolaterie every Thursday at 9:45am for a Cocoa Chronicles Story Time Sessions. There will be engaging stories\, games to enjoy\, plus the expansive lawns and gardens to explore. Spark your child’s imagination while taking a moment for yourself to unwind in the cozy café. Treat yourself to a rich\, velvety hot chocolate\, fresh barista made coffee\, or indulge in delicious\, sweet treats. \nDuring these delightful sessions\, little ones will have the opportunity to enjoy two children’s stories read to them by the Chocolaterie’s friendly team\, play games\, plus each child will receive a FREE small chocolate treat to enjoy! \nCosts: FREE – bookings not required. \nLink to book and learn more: https://www.gorci.com.au/whats-on/
URL:https://www.letsgokids.com.au/event/the-cocoa-chronicles-story-time/
LOCATION:Great Ocean Road Chocolaterie  & Ice Creamery\, 1200 Great Ocean Road\, Bellbrae\, VIC\, 3228\, Australia
CATEGORIES:VIC
ATTACH;FMTTYPE=image/jpeg:https://www.letsgokids.com.au/wp-content/uploads/2026/01/YVC-@zennieshia-19-2-e1769685477953.jpg
ORGANIZER;CN="Great Ocean Road Chocolaterie  & Ice Creamery":MAILTO:admin@gorci.com.au
END:VEVENT
BEGIN:VEVENT
DTSTART;TZID=Australia/Melbourne:20260220T080000
DTEND;TZID=Australia/Melbourne:20260430T170000
DTSTAMP:20260422T124514
CREATED:20260219T042506Z
LAST-MODIFIED:20260219T042506Z
UID:39220-1771574400-1777568400@www.letsgokids.com.au
SUMMARY:South Melbourne Market: Market Explorers
DESCRIPTION:Go on a scavenger hunt around the Market to find out all about the food you eat\, how to help the environment and lots of other cool things about your favourite Market. \nAlong the way you’ll meet our friendly traders who will help you solve the clues and become a member of the South Melbourne Market Explorers Club! \nHow does it work? \n\nPick up a clue sheet at the Market Office in Centre Aisle or other locations around the Market.\nCarefully read each of the clues.\nTo answer the questions\, you will have to find the right stall. Sometimes there will be one specific trader you need to find\, for other questions you can choose your favourite.\nOn the back of the map you will find the traders grouped together by the kinds of things they sell. Find a trader in the category and look at the coordinates (a coloured letter and a number). On the top and bottom of the map you will find the numbers\, and on the sides\, the letters. Follow the line down from the number and across from the letter – where they join is where the trader is! This can be tricky\, but a grown-up can help.\nOnce you have solved all the clues\, bring your answer sheet to the Market Office to receive your Market Explorers Club Card and members reward! \n\nMarket Explorers Club Card rewards \nMarket Explorer Club members receive a special club reward at the start of each new season (summer\, autumn\, winter and spring). Bring your card to the Market Office to collect your reward. \nOpen every Wednesday\, Friday\, Saturday and Sunday from 8am.
URL:https://www.letsgokids.com.au/event/south-melbourne-market-market-explorers/
LOCATION:South Melbourne Market\, Corner of Coventry and Cecil Streets\, Melbourne South\, Victoria\, Australia
CATEGORIES:VIC
ATTACH;FMTTYPE=image/jpeg:https://www.letsgokids.com.au/wp-content/uploads/2026/02/231213_122.jpg
ORGANIZER;CN="South Melbourne Market":MAILTO:smm@portphillip.vic.gov.au
END:VEVENT
BEGIN:VEVENT
DTSTART;TZID=Australia/Melbourne:20260301T140000
DTEND;TZID=Australia/Melbourne:20260315T170000
DTSTAMP:20260422T124514
CREATED:20260129T233230Z
LAST-MODIFIED:20260129T233230Z
UID:39132-1772373600-1773594000@www.letsgokids.com.au
SUMMARY:Taste & Create Rocky Road Workshop
DESCRIPTION:Taste your way through 12 of the Chocolaterie’s most-popular handcrafted chocolates\, then get creative and make your own Rocky Road masterpiece! Choose from dozens of exotic ingredients and blend with couverture milk\, dark or white chocolate. \nPlease note: Children are welcome to join these classes but children 12 and under must be accompanied by at least one adult who is also participating in the experience. Dietary requirements cannot be accommodated for this workshop. \nDate: Sunday 1st March 2026 & Sunday 15th March \nCosts: $24 per person (plus booking fees). Bookings are essential. \nLink to book and learn more: https://www.gorci.com.au/whats-on/
URL:https://www.letsgokids.com.au/event/taste-create-rocky-road-workshop/
LOCATION:Great Ocean Road Chocolaterie  & Ice Creamery\, 1200 Great Ocean Road\, Bellbrae\, VIC\, 3228\, Australia
CATEGORIES:VIC
ATTACH;FMTTYPE=image/jpeg:https://www.letsgokids.com.au/wp-content/uploads/2026/01/YVC-@zennieshia-45-1-e1769729454456.jpg
ORGANIZER;CN="Great Ocean Road Chocolaterie  & Ice Creamery":MAILTO:admin@gorci.com.au
END:VEVENT
BEGIN:VEVENT
DTSTART;TZID=Australia/Melbourne:20260303T100000
DTEND;TZID=Australia/Melbourne:20261129T160000
DTSTAMP:20260422T124514
CREATED:20251231T054323Z
LAST-MODIFIED:20251231T054510Z
UID:38489-1772532000-1795968000@www.letsgokids.com.au
SUMMARY:CURIOSITY: Building Breakthroughs in LEGO® Bricks
DESCRIPTION:Embark on an extraordinary journey of curiosity\, creativity\, and discovery with our groundbreaking exhibition\, CURIOSITY: Building Breakthroughs in LEGO® Bricks! \nTake an adventure through space and time\, and discover the very building blocks of the universe. Learn about engineering concepts\, unravel mathematical ideas\, and construct your own LEGO® creations. \nTicket Pricing\n\n\n\n\n\n\nAdult – $22\nChild (3-17) – $18\nChild (Under 3) – Free\nConcession – $18\nFamily* – $72\nBAG Members – $18\nDiscovery members – FreeAccess to CURIOSITY is included in General Entry.\nPlanetarium sessions additional. \n*Family=2 adults + 2 children\, or 1 adult + 3 children.\n$16 per additional child \n\n  \nGet Tickets
URL:https://www.letsgokids.com.au/event/curiosity-building-breakthroughs-in-lego-bricks/
LOCATION:Discovery Science & Technology Centre\, 7 Railway Place\, Bendigo\, VIC\, 3550\, Australia
CATEGORIES:VIC
ATTACH;FMTTYPE=image/png:https://www.letsgokids.com.au/wp-content/uploads/2025/12/69154c7aad12b5dd84887cc4_curiosity-slide-5.png
ORGANIZER;CN="Discovery Science & Technology Centre":MAILTO:info@discovery.asn.au
END:VEVENT
BEGIN:VEVENT
DTSTART;TZID=Australia/Melbourne:20260303T100000
DTEND;TZID=Australia/Melbourne:20261129T160000
DTSTAMP:20260422T124514
CREATED:20260221T040434Z
LAST-MODIFIED:20260221T040434Z
UID:39277-1772532000-1795968000@www.letsgokids.com.au
SUMMARY:CURIOSITY: Building Breakthroughs in LEGO? Bricks
DESCRIPTION:Embark on an extraordinary journey of curiosity\, creativity\, and discovery with the groundbreaking exhibition CURIOSITY: Building Breakthroughs in LEGO? Bricks.  This exhibition is a collaboration between Bendigo Art Gallery and Discovery Science & Technology Centre. \nExplore scientific knowledge\, technological advancements\, engineering feats\, and mathematical wonders\, recreated in stunning detail through the versatile magic of LEGO? bricks. \n\nDiscovery Science & Technology Centre 7 Railway Place\, Bendigo VIC 3550\n3 March 2026 – 29 November 2026\n10:00AM – 4:00PM\nCost\n\nChild (3-17 years): $18.00\nAdult:$22.00\nConcession: $18.00\nBendigo Art Gallery Member: $18.00\nFamily (2a+2c or 1a+3C): $72.00\nChild under 3 years: $0.00
URL:https://www.letsgokids.com.au/event/curiosity-building-breakthroughs-in-lego-bricks-2/
LOCATION:Discovery Science & Technology Centre\, 7 Railway Place\, Bendigo\, VIC\, 3550\, Australia
CATEGORIES:VIC
ATTACH;FMTTYPE=image/jpeg:https://www.letsgokids.com.au/wp-content/uploads/2026/02/20240528_curiosity_brickman_ff_182-1-scaled.jpg
ORGANIZER;CN="City of Greater Bendigo":MAILTO:requests@bendigo.vic.gov.au
END:VEVENT
BEGIN:VEVENT
DTSTART;TZID=Australia/Melbourne:20260308T110000
DTEND;TZID=Australia/Melbourne:20260322T120000
DTSTAMP:20260422T124514
CREATED:20260219T034635Z
LAST-MODIFIED:20260219T034635Z
UID:39200-1772967600-1774180800@www.letsgokids.com.au
SUMMARY:Taste & Create
DESCRIPTION:Taste your way through 12 of The Chocolateries’ most-popular handcrafted chocolates\, then get creative and make your own Rocky Road masterpiece! Choose from dozens of exotic ingredients and blend with The Chocolateries’ couverture milk\, dark or white chocolate. \nPlease note: Children are welcome to join these classes but must be accompanied by at least one adult who is also participating in the experience. $24 (plus booking fees) per person for 30 minutes. Bookings are essential. Book your spot online today!
URL:https://www.letsgokids.com.au/event/taste-create-2/
LOCATION:Yarra Valley Chocolaterie\, 35 Old Healesville Road\, Yarra Glen\, VIC\, 3775\, Australia
CATEGORIES:VIC
ATTACH;FMTTYPE=image/jpeg:https://www.letsgokids.com.au/wp-content/uploads/2026/02/YVC-@zennieshia-43-3-683x1024-1.jpg
END:VEVENT
END:VCALENDAR