BEGIN:VCALENDAR
VERSION:2.0
PRODID:-//LetsGoKids - ECPv6.15.3//NONSGML v1.0//EN
CALSCALE:GREGORIAN
METHOD:PUBLISH
X-ORIGINAL-URL:https://www.letsgokids.com.au
X-WR-CALDESC:Events for LetsGoKids
REFRESH-INTERVAL;VALUE=DURATION:PT1H
X-Robots-Tag:noindex
X-PUBLISHED-TTL:PT1H
BEGIN:VTIMEZONE
TZID:Australia/Melbourne
BEGIN:STANDARD
TZOFFSETFROM:+1100
TZOFFSETTO:+1000
TZNAME:AEST
DTSTART:20260404T160000
END:STANDARD
BEGIN:DAYLIGHT
TZOFFSETFROM:+1000
TZOFFSETTO:+1100
TZNAME:AEDT
DTSTART:20261003T160000
END:DAYLIGHT
END:VTIMEZONE
BEGIN:VEVENT
DTSTART;TZID=Australia/Melbourne:20260117T080000
DTEND;TZID=Australia/Melbourne:20260620T123000
DTSTAMP:20260422T111032
CREATED:20260112T121541Z
LAST-MODIFIED:20260112T121541Z
UID:38586-1768636800-1781958600@www.letsgokids.com.au
SUMMARY:Boroondara Farmers Market dates 2026
DESCRIPTION:The Boroondara Farmers Market is held on the 3rd and 5th Saturday of each month at Patterson Reserve\, Auburn Road\, Hawthorn. The market does not run when there’s a 5th Saturday in December.The market sells produce from all around Victoria. You can buy: \n\nfresh fruit and vegetables\nherbs and olives\nseasonal organic produce\nmeat and eggs\nhoney\nbread and cakes\ndips and sauces\nwine and beer.\n\nIf you care about food and buying local\, then talk to the dedicated farmers who are just as passionate. Learn about the ingredients and processes involved in the food they bring to market.We encourage customers to use cashless forms of payment where possible. Customers can also pre-order with stall holders and collect produce on the day.For more information on stall holders and how to get involved\, visit our Boroondara Farmers Market page.
URL:https://www.letsgokids.com.au/event/boroondara-farmers-market-dates-2026/
LOCATION:Patterson Reserve\, 484 Auburn Road\, Hawthorn\, VIC\, 3122\, Australia
CATEGORIES:VIC
ATTACH;FMTTYPE=image/png:https://www.letsgokids.com.au/wp-content/uploads/2026/01/Screenshot-2026-01-12-at-8.14.04-pm.png
END:VEVENT
BEGIN:VEVENT
DTSTART;TZID=Australia/Melbourne:20260220T080000
DTEND;TZID=Australia/Melbourne:20260430T170000
DTSTAMP:20260422T111032
CREATED:20260219T042506Z
LAST-MODIFIED:20260219T042506Z
UID:39220-1771574400-1777568400@www.letsgokids.com.au
SUMMARY:South Melbourne Market: Market Explorers
DESCRIPTION:Go on a scavenger hunt around the Market to find out all about the food you eat\, how to help the environment and lots of other cool things about your favourite Market. \nAlong the way you’ll meet our friendly traders who will help you solve the clues and become a member of the South Melbourne Market Explorers Club! \nHow does it work? \n\nPick up a clue sheet at the Market Office in Centre Aisle or other locations around the Market.\nCarefully read each of the clues.\nTo answer the questions\, you will have to find the right stall. Sometimes there will be one specific trader you need to find\, for other questions you can choose your favourite.\nOn the back of the map you will find the traders grouped together by the kinds of things they sell. Find a trader in the category and look at the coordinates (a coloured letter and a number). On the top and bottom of the map you will find the numbers\, and on the sides\, the letters. Follow the line down from the number and across from the letter – where they join is where the trader is! This can be tricky\, but a grown-up can help.\nOnce you have solved all the clues\, bring your answer sheet to the Market Office to receive your Market Explorers Club Card and members reward! \n\nMarket Explorers Club Card rewards \nMarket Explorer Club members receive a special club reward at the start of each new season (summer\, autumn\, winter and spring). Bring your card to the Market Office to collect your reward. \nOpen every Wednesday\, Friday\, Saturday and Sunday from 8am.
URL:https://www.letsgokids.com.au/event/south-melbourne-market-market-explorers/
LOCATION:South Melbourne Market\, Corner of Coventry and Cecil Streets\, Melbourne South\, Victoria\, Australia
CATEGORIES:VIC
ATTACH;FMTTYPE=image/jpeg:https://www.letsgokids.com.au/wp-content/uploads/2026/02/231213_122.jpg
ORGANIZER;CN="South Melbourne Market":MAILTO:smm@portphillip.vic.gov.au
END:VEVENT
BEGIN:VEVENT
DTSTART;TZID=Australia/Melbourne:20260303T100000
DTEND;TZID=Australia/Melbourne:20261129T160000
DTSTAMP:20260422T111032
CREATED:20251231T054323Z
LAST-MODIFIED:20251231T054510Z
UID:38489-1772532000-1795968000@www.letsgokids.com.au
SUMMARY:CURIOSITY: Building Breakthroughs in LEGO® Bricks
DESCRIPTION:Embark on an extraordinary journey of curiosity\, creativity\, and discovery with our groundbreaking exhibition\, CURIOSITY: Building Breakthroughs in LEGO® Bricks! \nTake an adventure through space and time\, and discover the very building blocks of the universe. Learn about engineering concepts\, unravel mathematical ideas\, and construct your own LEGO® creations. \nTicket Pricing\n\n\n\n\n\n\nAdult – $22\nChild (3-17) – $18\nChild (Under 3) – Free\nConcession – $18\nFamily* – $72\nBAG Members – $18\nDiscovery members – FreeAccess to CURIOSITY is included in General Entry.\nPlanetarium sessions additional. \n*Family=2 adults + 2 children\, or 1 adult + 3 children.\n$16 per additional child \n\n  \nGet Tickets
URL:https://www.letsgokids.com.au/event/curiosity-building-breakthroughs-in-lego-bricks/
LOCATION:Discovery Science & Technology Centre\, 7 Railway Place\, Bendigo\, VIC\, 3550\, Australia
CATEGORIES:VIC
ATTACH;FMTTYPE=image/png:https://www.letsgokids.com.au/wp-content/uploads/2025/12/69154c7aad12b5dd84887cc4_curiosity-slide-5.png
ORGANIZER;CN="Discovery Science & Technology Centre":MAILTO:info@discovery.asn.au
END:VEVENT
BEGIN:VEVENT
DTSTART;TZID=Australia/Melbourne:20260303T100000
DTEND;TZID=Australia/Melbourne:20261129T160000
DTSTAMP:20260422T111032
CREATED:20260221T040434Z
LAST-MODIFIED:20260221T040434Z
UID:39277-1772532000-1795968000@www.letsgokids.com.au
SUMMARY:CURIOSITY: Building Breakthroughs in LEGO? Bricks
DESCRIPTION:Embark on an extraordinary journey of curiosity\, creativity\, and discovery with the groundbreaking exhibition CURIOSITY: Building Breakthroughs in LEGO? Bricks.  This exhibition is a collaboration between Bendigo Art Gallery and Discovery Science & Technology Centre. \nExplore scientific knowledge\, technological advancements\, engineering feats\, and mathematical wonders\, recreated in stunning detail through the versatile magic of LEGO? bricks. \n\nDiscovery Science & Technology Centre 7 Railway Place\, Bendigo VIC 3550\n3 March 2026 – 29 November 2026\n10:00AM – 4:00PM\nCost\n\nChild (3-17 years): $18.00\nAdult:$22.00\nConcession: $18.00\nBendigo Art Gallery Member: $18.00\nFamily (2a+2c or 1a+3C): $72.00\nChild under 3 years: $0.00
URL:https://www.letsgokids.com.au/event/curiosity-building-breakthroughs-in-lego-bricks-2/
LOCATION:Discovery Science & Technology Centre\, 7 Railway Place\, Bendigo\, VIC\, 3550\, Australia
CATEGORIES:VIC
ATTACH;FMTTYPE=image/jpeg:https://www.letsgokids.com.au/wp-content/uploads/2026/02/20240528_curiosity_brickman_ff_182-1-scaled.jpg
ORGANIZER;CN="City of Greater Bendigo":MAILTO:requests@bendigo.vic.gov.au
END:VEVENT
BEGIN:VEVENT
DTSTART;VALUE=DATE:20260403
DTEND;VALUE=DATE:20260501
DTSTAMP:20260422T111032
CREATED:20260321T060318Z
LAST-MODIFIED:20260321T060318Z
UID:39699-1775174400-1777593599@www.letsgokids.com.au
SUMMARY:Farm Tactor Trailer Tours
DESCRIPTION:Looking for the ultimate farm experience these holidays? Our Tractor Trailer Tours are running DAILY at 11:00 am and 12:00 noon throughout the school break! \nIt’s a 45-minute guided adventure perfect for curious minds of all ages. \n✨ What to expect: \n\n\n🐄 Feed our friendly milking Jersey herd. \n\n\n🍼 Visit the calf shed (It’s Autumn\, so keep an eye out for our new arrivals!). \n\n\n🥛 Get a behind-the-scenes look at a modern working dairy. \n\n\n💰 Holiday Pricing: \n\n\nAdults: $20 AUD \n\n\nChildren (Ages 4–12): $15 AUD \n\n\nFamily Pass (2 Adults + 2 Children): $60 AUD \n\n\nAges 0–3: FREE (with an adult) \n\n\n⚠️ Bookings are ESSENTIAL during school holidays and weekends to secure your spot! \n🎟 Book here: https://www.trybooking.com/eventlist/caldermeadefarmandcafe
URL:https://www.letsgokids.com.au/event/farm-tactor-trailer-tours/
LOCATION:Caldermeade Farm & Cafe\, 4385 South Gippsland Highway\, Caldermeade\, VIC\, 3984\, Australia
CATEGORIES:VIC
ATTACH;FMTTYPE=image/jpeg:https://www.letsgokids.com.au/wp-content/uploads/2026/03/EHI1334654-6ec3cb2d52434f2fa2e2a763d40057c0-Paddock-pic-scaled.jpeg
ORGANIZER;CN="Caldermeade Farm":MAILTO:cafe@caldermeadefarm.com.au
END:VEVENT
BEGIN:VEVENT
DTSTART;VALUE=DATE:20260403
DTEND;VALUE=DATE:20260718
DTSTAMP:20260422T111032
CREATED:20260413T083128Z
LAST-MODIFIED:20260413T083128Z
UID:39807-1775174400-1784332799@www.letsgokids.com.au
SUMMARY:Signor Baffo – Interactive Kids Comedy Show
DESCRIPTION:Get ready for a hilarious\, high-energy adventure as the award-winning comedy show Signor Baffo hits the stage for its final Australian tour! \nPerfect for children aged 3+ and their families\, this interactive live show is packed with silly fun\, chaotic moments\, and non-stop laughter. Led by rising Australian comedian Josh Burton (of The Burton Brothers)\, Signor Baffo invites kids to let loose\, be silly\, and join in the action. \nAbout the Show\nThere’s chaos in the kitchen when Signor Baffo is left in charge! \nWith the restaurant about to open and everything going wrong\, Signor Baffo needs help to get things back on track. Audiences are invited to jump right into the action\, helping him complete his to-do list before disaster strikes. \nExpect a whirlwind of: \n\n🎭 Interactive comedy and audience participation\n🤪 Silly games and outrageous misunderstandings\n🎶 Music\, surprises\, and even a rock and roll concert\n😂 Non-stop laughs for kids and grown-ups alike\n\nThis is a joyful\, laugh-out-loud experience that focuses on fun\, creativity\, and letting kids be kids. \nLocations & Dates\nMelbourne\n📍 ACMI – Swinburne Studio📅 3 – 19 April 2026 \nNew South Wales Tour (July)\n\n📍 Surfers Paradise – HOTA (Home of the Arts)📅 3 – 4 July 2026\n📍 Coffs Harbour – Jetty Memorial Theatre📅 8 July 2026\n📍 Port Macquarie – Glasshouse Theatre📅 14 – 15 July 2026\n📍 Taree – Manning Entertainment Centre📅 16 July 2026\n📍 Wyoming – Laycock Street Community Theatre📅 17 July 2026\n\nWhy You’ll Love It\n⭐ Winner – Best Kids & Family Show\, Adelaide Fringe \n⭐ “A chaotic hour of family fun” – ★★★★★ Glam Adelaide \n⭐ “Pure comedy gold!” – ★★★★★ Edinburgh with Kids \nTickets & Information\n🎟️ Tickets available now🌐 For bookings and more information\, visit https://www.interactivetheatre.com.au/signor-baffo/ \nDon’t miss this supremely silly\, interactive comedy experience — a perfect school holiday treat for the whole family! 🎉
URL:https://www.letsgokids.com.au/event/signor-baffo-interactive-kids-comedy-show/
LOCATION:Multiple Venues\, Australia
CATEGORIES:NSW,VIC
ATTACH;FMTTYPE=image/jpeg:https://www.letsgokids.com.au/wp-content/uploads/2026/04/med-0529-scaled.jpg
ORGANIZER;CN="Interactive Theatre International":MAILTO:info@imagination-workshop.com
END:VEVENT
BEGIN:VEVENT
DTSTART;TZID=Australia/Melbourne:20260403T100000
DTEND;TZID=Australia/Melbourne:20260426T160000
DTSTAMP:20260422T111032
CREATED:20260219T233559Z
LAST-MODIFIED:20260219T234038Z
UID:39244-1775210400-1777219200@www.letsgokids.com.au
SUMMARY:Easter Specials and Family Fun at the Bellarine Railway
DESCRIPTION:All aboard for a fun-filled school holiday program at the Bellarine Railway. \nThis April school holidays\, the Bellarine Railway is inviting families to jump aboard a range of fun\, family -friendly train experiences\, from meeting Thomas and the Easter Bunny to relaxing scenic trips along beautiful Swan Bay. With events running across the school holiday period\, there is something for everyone to enjoy. \nGood Friday Appeal trips: 3 April 2026\nTake a scenic steam train journey along Swan Bay and enjoy a relaxing ride while supporting a great cause. The Bellarine Railway will donate the proceeds from these trips to the Royal Children’s Hospital Good Friday Appeal. Thanks to the generosity of patrons\, the Bellarine Railway raised $5\,000 for the Appeal last year and hopes to raise even more this year. \nTrips operate every hour from 11:00 am to 3:00 pm\, with 45-minute return journeys from Queenscliff Station to Lakers Siding\, which includes a 15-minute stop at Lakers Siding. \nEaster Specials: 4 and 5 April 2026\nHop on board and enjoy a steam train journey from Queenscliff. The Easter Bunny will welcome everyone at the halfway point and pose for photos using your own camera. \nChildren are encouraged to wear an Easter bonnet they made at home. These 60-minute specials include a 30-minute stop at Lakers Siding for families to meet the Easter Bunny\, take photos\, and enjoy a chocolate\ntreat. \nSwan Bay Express: 6\, 7\, 9\, 14\, 16\, 25 and 26 April 2026\nFor a more relaxed outing\, the Swan Bay Express offers a peaceful 45-minute (with 15-minute stopover)\nscenic journey along Swan Bay. Each journey includes a 15-minute stop at Lakers Siding so passengers can\nalight and watch the locomotive change ends and couple back up.
URL:https://www.letsgokids.com.au/event/easter-specials-and-family-fun-at-the-bellarine-railway/
LOCATION:The Bellarine Railway – Queenscliff Station\, 20 Symonds St\,\, Queenscliff\, VIC\, 3225\, Australia
CATEGORIES:VIC
ATTACH;FMTTYPE=image/png:https://www.letsgokids.com.au/wp-content/uploads/2026/02/Bellarine-Railway-Easter-Weekend-SM-4x5-QLF-v-2026.png
ORGANIZER;CN="The Bellarine Railway":MAILTO:info@bellarinerailway.com.au
END:VEVENT
BEGIN:VEVENT
DTSTART;TZID=Australia/Melbourne:20260403T110000
DTEND;TZID=Australia/Melbourne:20260417T120000
DTSTAMP:20260422T111032
CREATED:20260321T033214Z
LAST-MODIFIED:20260321T033509Z
UID:39644-1775214000-1776427200@www.letsgokids.com.au
SUMMARY:Signor Baffo
DESCRIPTION:There’s chaos in the kitchen when Signor Baffo’s left in charge! \nThe restaurant is about to open\, nothing is going to plan – and he needs your help! \nGet ready for a whirlwind of silly games\, outrageous misunderstandings and a menu full of surprises. Can you help Signor Baffo complete his list before disaster strikes? \nExpect plenty of giggles\, unexpected twists and even a rock and roll concert in this supremely silly\, interactive adventure. \nA laugh-out-loud treat for children 3+ and their families – served with a generous helping of fun and mischief!
URL:https://www.letsgokids.com.au/event/signor-baffo/
LOCATION:ACMI – Swinburne Studio\, Fed Square\, Melbourne\, VIC.\, 3000\, Australia
CATEGORIES:VIC
ATTACH;FMTTYPE=image/webp:https://www.letsgokids.com.au/wp-content/uploads/2026/03/11229-carouselcrop-hero.webp
ORGANIZER;CN="Melbourne International Comedy Festival":MAILTO:info@comedyfestival.com.au
END:VEVENT
BEGIN:VEVENT
DTSTART;TZID=Australia/Melbourne:20260404T120000
DTEND;TZID=Australia/Melbourne:20260419T170000
DTSTAMP:20260422T111032
CREATED:20260319T222509Z
LAST-MODIFIED:20260319T223146Z
UID:39524-1775304000-1776618000@www.letsgokids.com.au
SUMMARY:The Annual Great Easter Egg Hunts 🐰🥚
DESCRIPTION:Get ready for an egg-stravaganza at Luna Park Melbourne this Autumn! Join us for an egg-citing Easter celebration featuring the Annual Great Easter Egg Hunts. Meet the Easter Bunny\, have your face painted\, and dive into the egg hunts featuring over 30\,000 premium Wizz Fizz Easter eggs. Our resident mad-as-a-hatter Mad Hatter and energetic Easter bunny acrobats will oversee back-to-back egg hunts\, bouncing and balancing their way around the park. It’s high-energy entertainment for kids of all ages. \nAnd this year we’re bringing back the ‘Find the Golden Easter Egg’ Comp. Hidden in the park\, find the special golden egg for your chance to win a Luna Park Annual Pass\, premium Easter hamper from Wizz Fizz\, attraction tickets and more! \nOf course\, thrill-seekers will also be able to zoom and twist on the Speedy Beetle coaster or race around the park in the Autumn skies on The Great Scenic Railway all school holidays. Mini thrill-seekers will enjoy a sway on the Happy Swing or spin on the Moon Balloons before indulging in fairy floss and carnival food. A great day of FUN\, FUN\, FUN for the whole family. \nSo\, this Autumn /Easter holidays\, join the generations of families and friends who have created lifelong memories at Melbourne’s Luna Park! 🌟 \nGet ready for a hopping good time! More info at Lunapark.com.au
URL:https://www.letsgokids.com.au/event/the-annual-great-easter-egg-hunts-%f0%9f%90%b0%f0%9f%a5%9a/
LOCATION:Luna Park Melbourne\, 18 Lower Esplanade\, St Kilda\, VIC\, 3182\, Australia
CATEGORIES:VIC
ATTACH;FMTTYPE=image/webp:https://www.letsgokids.com.au/wp-content/uploads/2026/03/wizz-fizz-static-carousel-1080x1080-1.webp
ORGANIZER;CN="Luna Park Melbourne":MAILTO:justforfun@lunapark.com.au
END:VEVENT
BEGIN:VEVENT
DTSTART;TZID=Australia/Melbourne:20260406T143000
DTEND;TZID=Australia/Melbourne:20260417T160000
DTSTAMP:20260422T111032
CREATED:20260321T023755Z
LAST-MODIFIED:20260321T024645Z
UID:39624-1775485800-1776441600@www.letsgokids.com.au
SUMMARY:Taste & Create Rocky Road Workshop
DESCRIPTION:Taste your way through 12 of our most-popular handcrafted chocolates\, then get creative and make your own Rocky Road masterpiece! Choose from dozens of exotic ingredients and blend with our couverture milk\, dark or white chocolate.\n\nPlease note: Children are welcome to join these classes but children 12 and under must be accompanied by at least one adult who is also participating in the experience. Dietary requirements cannot be accommodated for this workshop. $24 per person (plus booking fees) for 30 minutes. Book your spot online today!
URL:https://www.letsgokids.com.au/event/taste-create-rocky-road-workshop-2/
LOCATION:Great Ocean Road Chocolaterie  & Ice Creamery\, 1200 Great Ocean Road\, Bellbrae\, VIC\, 3228\, Australia
CATEGORIES:VIC
ATTACH;FMTTYPE=image/jpeg:https://www.letsgokids.com.au/wp-content/uploads/2026/03/YVC-@zennieshia-45-1-1360x2039-1.jpg
ORGANIZER;CN="Great Ocean Road Chocolaterie  & Ice Creamery":MAILTO:admin@gorci.com.au
END:VEVENT
BEGIN:VEVENT
DTSTART;TZID=Australia/Melbourne:20260407T100000
DTEND;TZID=Australia/Melbourne:20260416T110000
DTSTAMP:20260422T111032
CREATED:20260129T232521Z
LAST-MODIFIED:20260321T031450Z
UID:39129-1775556000-1776337200@www.letsgokids.com.au
SUMMARY:Junior Chocolatier Class - April School Holidays
DESCRIPTION:Calling all little chocolate lovers aged 6 – 12 years! Kids can join us for a 45-minute class where they can learn from Great Ocean Road Chocolatiers how to make their very own yummy creations. Includes a personalised badge\, chef’s hat and apron\, graduation certificate plus takes home three chocolate creations to enjoy. \nCosts: $45 per person (plus booking fees). Bookings are essential. \nLink to book and learn more: https://www.gorci.com.au/whats-on/
URL:https://www.letsgokids.com.au/event/junior-chocolatier-class-april-school-holidays/
LOCATION:Great Ocean Road Chocolaterie  & Ice Creamery\, 1200 Great Ocean Road\, Bellbrae\, VIC\, 3228\, Australia
CATEGORIES:VIC
ATTACH;FMTTYPE=image/jpeg:https://www.letsgokids.com.au/wp-content/uploads/2026/01/GORCI_MPCI_YVCI_Experiences_School-Tours.jpg
ORGANIZER;CN="Great Ocean Road Chocolaterie  & Ice Creamery":MAILTO:admin@gorci.com.au
END:VEVENT
BEGIN:VEVENT
DTSTART;TZID=Australia/Melbourne:20260407T100000
DTEND;TZID=Australia/Melbourne:20260416T120000
DTSTAMP:20260422T111032
CREATED:20251218T031127Z
LAST-MODIFIED:20260321T032052Z
UID:38341-1775556000-1776340800@www.letsgokids.com.au
SUMMARY:Junior Chocolatier Masterclass – April School Holidays
DESCRIPTION:Join us for some sweet fun these school holidays by becoming a Master Junior Chocolatier. For kids aged 9-14 our Junior Chocolatier Masterclass will take your love of chocolate to a whole new level in our 60-minute hands-on masterclass in our parent free zone with our Chocolatiers. Includes a personalised badge\, masterclass chef’s hat and apron\, graduation certificate plus take home three chocolate creations to enjoy. Only $55 (plus booking fees) per person. Bookings are essential. \n✅ Ready to become a Master Chocolatier? \nVisit these sites for more information below:\nJunior Chocolatier Masterclass \n \nJunior Chocolatier Masterclass (9-14 years)
URL:https://www.letsgokids.com.au/event/junior-chocolatier-masterclass/
LOCATION:Great Ocean Road Chocolaterie  & Ice Creamery\, 1200 Great Ocean Road\, Bellbrae\, VIC\, 3228\, Australia
CATEGORIES:VIC
ATTACH;FMTTYPE=image/png:https://www.letsgokids.com.au/wp-content/uploads/2025/12/Untitled-design-13.png
ORGANIZER;CN="Great Ocean Road Chocolaterie  & Ice Creamery":MAILTO:admin@gorci.com.au
END:VEVENT
BEGIN:VEVENT
DTSTART;TZID=Australia/Melbourne:20260409T110000
DTEND;TZID=Australia/Melbourne:20260415T130000
DTSTAMP:20260422T111032
CREATED:20260321T055819Z
LAST-MODIFIED:20260323T092528Z
UID:39694-1775732400-1776258000@www.letsgokids.com.au
SUMMARY:School Holiday Fun at Caldermeade Farm
DESCRIPTION:Give the kids a creative break this April! \nFor just $20 AUD\, they get a 60-minute guided painting session and a milkshake to sip on while they work! \n\n\nDates: April 9th & 15th \n\n\nTimes: 11:00 am & 1:00 pm \n\n\nTickets: https://www.trybooking.com/DKEQZ \n\n\nSee you at the farm! 🐮✨
URL:https://www.letsgokids.com.au/event/school-holiday-fun-at-caldermeade-farm/
LOCATION:Caldermeade Farm & Cafe\, 4385 South Gippsland Highway\, Caldermeade\, VIC\, 3984\, Australia
CATEGORIES:VIC
ATTACH;FMTTYPE=image/png:https://www.letsgokids.com.au/wp-content/uploads/2026/03/Screenshot-2026-03-23-at-5.11.56-pm.png
ORGANIZER;CN="Caldermeade Farm":MAILTO:cafe@caldermeadefarm.com.au
END:VEVENT
END:VCALENDAR