BEGIN:VCALENDAR
VERSION:2.0
PRODID:-//LetsGoKids - ECPv6.15.3//NONSGML v1.0//EN
CALSCALE:GREGORIAN
METHOD:PUBLISH
X-ORIGINAL-URL:https://www.letsgokids.com.au
X-WR-CALDESC:Events for LetsGoKids
REFRESH-INTERVAL;VALUE=DURATION:PT1H
X-Robots-Tag:noindex
X-PUBLISHED-TTL:PT1H
BEGIN:VTIMEZONE
TZID:Australia/Melbourne
BEGIN:STANDARD
TZOFFSETFROM:+1100
TZOFFSETTO:+1000
TZNAME:AEST
DTSTART:20260404T160000
END:STANDARD
BEGIN:DAYLIGHT
TZOFFSETFROM:+1000
TZOFFSETTO:+1100
TZNAME:AEDT
DTSTART:20261003T160000
END:DAYLIGHT
END:VTIMEZONE
BEGIN:VEVENT
DTSTART;TZID=Australia/Melbourne:20260407T100000
DTEND;TZID=Australia/Melbourne:20260416T120000
DTSTAMP:20260422T200136
CREATED:20251218T031127Z
LAST-MODIFIED:20260321T032052Z
UID:38341-1775556000-1776340800@www.letsgokids.com.au
SUMMARY:Junior Chocolatier Masterclass – April School Holidays
DESCRIPTION:Join us for some sweet fun these school holidays by becoming a Master Junior Chocolatier. For kids aged 9-14 our Junior Chocolatier Masterclass will take your love of chocolate to a whole new level in our 60-minute hands-on masterclass in our parent free zone with our Chocolatiers. Includes a personalised badge\, masterclass chef’s hat and apron\, graduation certificate plus take home three chocolate creations to enjoy. Only $55 (plus booking fees) per person. Bookings are essential. \n✅ Ready to become a Master Chocolatier? \nVisit these sites for more information below:\nJunior Chocolatier Masterclass \n \nJunior Chocolatier Masterclass (9-14 years)
URL:https://www.letsgokids.com.au/event/junior-chocolatier-masterclass/
LOCATION:Great Ocean Road Chocolaterie  & Ice Creamery\, 1200 Great Ocean Road\, Bellbrae\, VIC\, 3228\, Australia
CATEGORIES:VIC
ATTACH;FMTTYPE=image/png:https://www.letsgokids.com.au/wp-content/uploads/2025/12/Untitled-design-13.png
ORGANIZER;CN="Great Ocean Road Chocolaterie  & Ice Creamery":MAILTO:admin@gorci.com.au
END:VEVENT
BEGIN:VEVENT
DTSTART;TZID=Australia/Melbourne:20260409T110000
DTEND;TZID=Australia/Melbourne:20260415T130000
DTSTAMP:20260422T200136
CREATED:20260321T055819Z
LAST-MODIFIED:20260323T092528Z
UID:39694-1775732400-1776258000@www.letsgokids.com.au
SUMMARY:School Holiday Fun at Caldermeade Farm
DESCRIPTION:Give the kids a creative break this April! \nFor just $20 AUD\, they get a 60-minute guided painting session and a milkshake to sip on while they work! \n\n\nDates: April 9th & 15th \n\n\nTimes: 11:00 am & 1:00 pm \n\n\nTickets: https://www.trybooking.com/DKEQZ \n\n\nSee you at the farm! 🐮✨
URL:https://www.letsgokids.com.au/event/school-holiday-fun-at-caldermeade-farm/
LOCATION:Caldermeade Farm & Cafe\, 4385 South Gippsland Highway\, Caldermeade\, VIC\, 3984\, Australia
CATEGORIES:VIC
ATTACH;FMTTYPE=image/png:https://www.letsgokids.com.au/wp-content/uploads/2026/03/Screenshot-2026-03-23-at-5.11.56-pm.png
ORGANIZER;CN="Caldermeade Farm":MAILTO:cafe@caldermeadefarm.com.au
END:VEVENT
BEGIN:VEVENT
DTSTART;VALUE=DATE:20260411
DTEND;VALUE=DATE:20260413
DTSTAMP:20260422T200136
CREATED:20260219T234320Z
LAST-MODIFIED:20260321T005415Z
UID:39248-1775865600-1776038399@www.letsgokids.com.au
SUMMARY:Day Out With Thomas
DESCRIPTION:Thomas and Friends will be back in April with the first of twomusic-themed eventsfor 2026: Let’s Rock –\nLet’s Roll! \nEveryone can enjoy hands-on activities\, games\, and Release stories\, with plenty of time to meet\nThomas and Friends\, including Rusty and Dusty\, and Sir Topham Hatt. \nNext event: 3-4 October.
URL:https://www.letsgokids.com.au/event/day-out-with-thomas/
LOCATION:The Bellarine Railway – Queenscliff Station\, 20 Symonds St\,\, Queenscliff\, VIC\, 3225\, Australia
CATEGORIES:VIC
ATTACH;FMTTYPE=image/png:https://www.letsgokids.com.au/wp-content/uploads/2026/02/Bellarine-Railway-DOWT-2026-Portrait-scaled.png
ORGANIZER;CN="The Bellarine Railway":MAILTO:info@bellarinerailway.com.au
END:VEVENT
BEGIN:VEVENT
DTSTART;VALUE=DATE:20260725
DTEND;VALUE=DATE:20260824
DTSTAMP:20260422T200136
CREATED:20260412T215909Z
LAST-MODIFIED:20260412T215909Z
UID:39802-1784937600-1787529599@www.letsgokids.com.au
SUMMARY:PAW Patrol™ Live! “Race to the Rescue” – 10th Anniversary Australian Tour
DESCRIPTION:Get ready for action\, adventure\, and heroic fun as PAW Patrol™ Live! “Race to the Rescue” returns to Australia to celebrate its 10th anniversary! This exciting\, family-friendly stage production brings everyone’s favourite rescue pups to life in a high-energy\, interactive live show. \nJoin Ryder and the team — Chase\, Marshall\, Skye\, Rubble\, Rocky\, Zuma\, and Everest — as they race to save the day in Adventure Bay. When Mayor Goodway goes missing before the Great Adventure Bay Race\, it’s up to the PAW Patrol to find her and step in to win the race! \nWith vibrant sets\, a high-tech video wall\, and plenty of audience participation\, kids (and parents!) will love dancing along to the “Pup Pup Boogie\,” solving problems with the pups\, and becoming part of the adventure. \nLocations & Show Dates\n\nHobart – MyState Bank Arena📅 Saturday\, 25 July 2026\nBrisbane – Brisbane Entertainment Centre📅 Saturday\, 8 August 2026\nSydney – TikTok Entertainment Centre📅 Saturday\, 15 August – Sunday\, 16 August 2026\nMelbourne – Margaret Court Arena📅 Saturday\, 22 August – Sunday\, 23 August 2026\n\n\n\n\n\n\n\n\n\n\nWhat to Expect\n\n🐾 Interactive live stage show with audience participation\n🎶 Music\, dancing\, and the famous “Pup Pup Boogie”\n🎭 Broadway-style production with immersive sets and visuals\n📺 Iconic locations from the TV series including Adventure Bay\, The Lookout\, and more\n💡 Positive messages about teamwork\, problem-solving\, and helping othersSpecial Feature\n\nThis year’s tour proudly supports Assistance Dogs Australia\, celebrating 30 years of changing lives. Donations will be collected during the tour to help provide trained assistance dogs to people with disabilities\, autism\, and veterans with PTSD. \nDon’t miss this limited-season event — no job is too big\, no pup is too small! 🐶✨
URL:https://www.letsgokids.com.au/event/paw-patrol-live-race-to-the-rescue-10th-anniversary-australian-tour/
LOCATION:Multiple Venues\, Australia
CATEGORIES:NSW,TAS,VIC
ATTACH;FMTTYPE=image/jpeg:https://www.letsgokids.com.au/wp-content/uploads/2026/04/PAW-Patrol-Live_RTTR_04-scaled.jpg
ORGANIZER;CN="VSTAR ENTERTAINMENT GROUP":MAILTO:info@vstarentertainment.com
END:VEVENT
END:VCALENDAR