BEGIN:VCALENDAR
VERSION:2.0
PRODID:-//LetsGoKids - ECPv6.15.3//NONSGML v1.0//EN
CALSCALE:GREGORIAN
METHOD:PUBLISH
X-WR-CALNAME:LetsGoKids
X-ORIGINAL-URL:https://www.letsgokids.com.au
X-WR-CALDESC:Events for LetsGoKids
REFRESH-INTERVAL;VALUE=DURATION:PT1H
X-Robots-Tag:noindex
X-PUBLISHED-TTL:PT1H
BEGIN:VTIMEZONE
TZID:Australia/Melbourne
BEGIN:STANDARD
TZOFFSETFROM:+1100
TZOFFSETTO:+1000
TZNAME:AEST
DTSTART:20250405T160000
END:STANDARD
BEGIN:DAYLIGHT
TZOFFSETFROM:+1000
TZOFFSETTO:+1100
TZNAME:AEDT
DTSTART:20251004T160000
END:DAYLIGHT
END:VTIMEZONE
BEGIN:VEVENT
DTSTART;TZID=Australia/Melbourne:20250828T093000
DTEND;TZID=Australia/Melbourne:20250828T123000
DTSTAMP:20260420T001440
CREATED:20250712T151247Z
LAST-MODIFIED:20250712T194632Z
UID:34894-1756373400-1756384200@www.letsgokids.com.au
SUMMARY:The Addams Family - A New Family Musical
DESCRIPTION:About the event\n\nThe Addams Family – A New Family Musical \n\nPhilo brings the creepy and kooky Addams Family to Canberra theatre lovers in an unforgettable new production. Meet the Addams Family! They’re creepy and they’re kooky\, and they’re coming to life (and death) in this delightfully dark Tony-nominated musical. \nBased on the iconic comedy created by Charles Addams\, the story follows the Addams Family who reside in their gloomy Central Park mansion. Gomez\, the proud patrarch and his elegant wife Morticia share a passionate marriage. Their mischevous son Pugsley is rumaging through Granda’s Potions and is busy being tortured by his big sister\, Wednesday. Fester is spending his time moonbathing and the ever-loyal Lurch lurks in the shadows with his usual silent charm. \nBut their usual family darkness\, grief and unspeakable sorry is tested by a secret… the twisted\, eldest daughter Wednesday is in love and is bringing home a boy\, a ‘normal’ boy.\nCan the eccentric Addams family traditions withstand their straight-laced guests? Can love survive the night? Can normalcy and darkness find common ground? \nJoin us for a hilarious evening of chaos\, secrets and one unforgettably grim family dinner! \nBook now! \nCome and experience the Addams Family\, the musical\, at Erindale Theatre\, 28 August to 13 September 2025. \nAlso check out other Arts events in Narrabundah\, Theatre events in Narrabundah.
URL:https://www.letsgokids.com.au/event/the-addams-family-a-new-family-musical/
LOCATION:Erindale Theatre\, McBryde Cres\, Wanniassa\, ACT\, 2903\, Australia
CATEGORIES:ACT
ATTACH;FMTTYPE=image/jpeg:https://www.letsgokids.com.au/wp-content/uploads/2025/07/images-1-1.jpeg
END:VEVENT
BEGIN:VEVENT
DTSTART;TZID=Australia/Melbourne:20250827T190000
DTEND;TZID=Australia/Melbourne:20250827T213000
DTSTAMP:20260420T001440
CREATED:20250808T001612Z
LAST-MODIFIED:20250808T001956Z
UID:35242-1756321200-1756330200@www.letsgokids.com.au
SUMMARY:Karingal Primary School: Lights\, Camera\, Chaos
DESCRIPTION:Get ready for an unforgettable night of entertainment as our students take you on a wild\, movie adventure through some of cinema’s most iconic moments. When a school excursion goes hilariously wrong\, four students find themselves trapped inside a movie reel—jumping from animations to musicals\, comedies\, and beyond. With each new scene comes more chaos\, characters\, and clues to help them find their way home. Full of dancing\, acting\, and laugh-out-loud moments\, this school concert is a celebration of creativity\, teamwork\, and the magic of movies —brought to life on stage by our amazing students. \nPresented by: Karingal Primary School \n\nSkip the Bar Queue\n\n\n\nFind out how you can spend less time waiting and more time relaxing\, socialising\, and enjoying yourself with our Online Ordering platform. Skip the queue by ordering your drinks and snacks online\, so you can make the most of your time at the venue. \nDiscover more \n\nEvent Snapshot\n\n\nCost\nTickets $25 \n*$4.50 transaction fee applies.\n24 months & under are free on adult lap for this event. \n\n\n\n\nDuration\n\n\n150 minutes\, including interval \nLockout may apply \n\n\n\n 
URL:https://www.letsgokids.com.au/event/karingal-primary-school-lights-camera-chaos/
LOCATION:Frankston Arts Centre\, 27-37 Davey Street\, Frankston\, VIC\, 3199\, Australia
CATEGORIES:VIC
ATTACH;FMTTYPE=image/jpeg:https://www.letsgokids.com.au/wp-content/uploads/2025/08/karingal-primary-school-2025.jpg
ORGANIZER;CN="Karingal Primary School":MAILTO:karingal.ps@education.vic.gov.au
END:VEVENT
BEGIN:VEVENT
DTSTART;TZID=Australia/Melbourne:20250821T100000
DTEND;TZID=Australia/Melbourne:20250828T160000
DTSTAMP:20260420T001440
CREATED:20250808T010513Z
LAST-MODIFIED:20250808T010712Z
UID:35283-1755770400-1756396800@www.letsgokids.com.au
SUMMARY:Sonic Labyrinth
DESCRIPTION:Presented with ArtPlay \nSonic Labyrinth\nAviva Endean with Justin Marshall & children at ArtPlay \nThursday 21 – Sunday 24 August | 10am to 4pm\nThursday 28 – Sunday 31 August | 10am to 4pm \nSonic Labyrinth is an unravelling of pathways unheard\, designed especially for children aged 5-13 years old. \nClimb through a web of sound where sonic dimensions hover at the edge of perception\, just waiting to be unlocked. \nWith special listening devices and mysterious objects\, dive into an interactive space where your movements trigger sound and your touch reveals hidden frequencies. Hear melodies that emerge only when your head turns just so\, immerse yourself in the cosmic hum of a spring drum\, or pluck a note on the bone-conduction harp. \nThis installation invites discovery with no boundaries – only an open invitation to experience sound as never before. \nAge recommendation: 5 to 13 years. Children must be accompanied by an adult. \nFREE
URL:https://www.letsgokids.com.au/event/sonic-labyrinth/
LOCATION:ArtPlay\, Princes Walk\, Melbourne\, VIC\, 3000\, Australia
CATEGORIES:VIC
ATTACH;FMTTYPE=image/jpeg:https://www.letsgokids.com.au/wp-content/uploads/2025/08/images-1.jpeg
ORGANIZER;CN="ArtPlay":MAILTO:artplay@melbourne.vic.gov.au
END:VEVENT
BEGIN:VEVENT
DTSTART;TZID=Australia/Melbourne:20250814T193000
DTEND;TZID=Australia/Melbourne:20250828T210000
DTSTAMP:20260420T001440
CREATED:20250808T003046Z
LAST-MODIFIED:20250808T003234Z
UID:35255-1755199800-1756414800@www.letsgokids.com.au
SUMMARY:Friendship Praxis
DESCRIPTION:At Christ Church Newport\, we recognise that people in our community are lonely and in need of true friendship.\n\nFriendship Praxis is a space to learn about what friendship is\, how to make and be a friend\, and we’ll get a chance to practice the art of friendship together.\n\nThese sessions will be held over three weeks in August in a casual\, welcoming environment\, and we’d love you to join us.\n\nPlaces are limited.\n  \n\nWhen\n\n\nThursday\, 14 August 2025 | 07:30 PM – 09:00 PM\nThursday\, 21 August 2025 | 07:30 PM – 09:00 PM\nThursday\, 28 August 2025 | 07:30 PM – 09:00 PM\n\n\n\n\nCost\nFree
URL:https://www.letsgokids.com.au/event/friendship-praxis/
LOCATION:Christ Church Anglican Newport\, 61 Mason St\, Newport\, VIC\, 3015\, Australia
CATEGORIES:VIC
ATTACH;FMTTYPE=image/png:https://www.letsgokids.com.au/wp-content/uploads/2025/08/friendship-praxis-website-wide.png
ORGANIZER;CN="Christ Church Anglican":MAILTO:steve@christchurchnewport.org.au Sign up now
END:VEVENT
END:VCALENDAR