BEGIN:VCALENDAR
VERSION:2.0
PRODID:-//LetsGoKids - ECPv6.15.3//NONSGML v1.0//EN
CALSCALE:GREGORIAN
METHOD:PUBLISH
X-WR-CALNAME:LetsGoKids
X-ORIGINAL-URL:https://www.letsgokids.com.au
X-WR-CALDESC:Events for LetsGoKids
REFRESH-INTERVAL;VALUE=DURATION:PT1H
X-Robots-Tag:noindex
X-PUBLISHED-TTL:PT1H
BEGIN:VTIMEZONE
TZID:Australia/Melbourne
BEGIN:STANDARD
TZOFFSETFROM:+1100
TZOFFSETTO:+1000
TZNAME:AEST
DTSTART:20240406T160000
END:STANDARD
BEGIN:DAYLIGHT
TZOFFSETFROM:+1000
TZOFFSETTO:+1100
TZNAME:AEDT
DTSTART:20241005T160000
END:DAYLIGHT
BEGIN:STANDARD
TZOFFSETFROM:+1100
TZOFFSETTO:+1000
TZNAME:AEST
DTSTART:20250405T160000
END:STANDARD
BEGIN:DAYLIGHT
TZOFFSETFROM:+1000
TZOFFSETTO:+1100
TZNAME:AEDT
DTSTART:20251004T160000
END:DAYLIGHT
BEGIN:STANDARD
TZOFFSETFROM:+1100
TZOFFSETTO:+1000
TZNAME:AEST
DTSTART:20260404T160000
END:STANDARD
BEGIN:DAYLIGHT
TZOFFSETFROM:+1000
TZOFFSETTO:+1100
TZNAME:AEDT
DTSTART:20261003T160000
END:DAYLIGHT
END:VTIMEZONE
BEGIN:VEVENT
DTSTART;TZID=Australia/Melbourne:20240817T070000
DTEND;TZID=Australia/Melbourne:20251220T113000
DTSTAMP:20260420T084651
CREATED:20240814T155932Z
LAST-MODIFIED:20240814T155932Z
UID:27821-1723878000-1766230200@www.letsgokids.com.au
SUMMARY:Capital Region Farmers Market
DESCRIPTION:Sample the region’s freshest produce at the Capital Region Farmers Market. \nThe Market is a community project run by the Rotary Club of Hall\, the only rural Rotary Club in the ACT. \nThere are over 100 stallholders each week who bring their freshly picked\, grown and hand crafted produce to the Market. Speak to a stallholder and ask them where their produce comes from – you’ll be surprised what you’ll learn and pick up cooking\, storage and usage tips. \nThe Rotary Club of Hall is proud to do something positive to underpin the growing agri-business opportunities in the region and offer a great seasonal food experience. The Market provides a direct and unbroken link between food producers and customer and also enables the Rotary Club of Hall to support important regional community projects. \n  \nDates: 17 Aug 2024  – 20 Dec 2025
URL:https://www.letsgokids.com.au/event/capital-region-farmers-market-2/
LOCATION:Exhibition Park in Canberra\, Exhibition Park in Canberra\, Lyneham\, ACT\, Australia
CATEGORIES:ACT
ATTACH;FMTTYPE=image/webp:https://www.letsgokids.com.au/wp-content/uploads/2024/08/65dbf011ebcc6a451d7ed97a-media-fb5aa0ff-query-scaled.webp
ORGANIZER;CN="CAPITAL REGION FARMERS MARKET":MAILTO:market.manager@crfm.com.au
END:VEVENT
BEGIN:VEVENT
DTSTART;TZID=Australia/Melbourne:20250531T090000
DTEND;TZID=Australia/Melbourne:20260201T170000
DTSTAMP:20260420T084651
CREATED:20250827T203243Z
LAST-MODIFIED:20250827T203243Z
UID:35848-1748682000-1769965200@www.letsgokids.com.au
SUMMARY:Questacon Presents: ZAP! CLANK! POW!
DESCRIPTION:Overview \nUncover the unexpected and spark your curiosity with mesmerising magnets\, machines and motion in Questacon Presents: ZAP! CLANK! POW! \nWith 17 exhibits across three zones and a trio of delightful characters\, Questacon Presents explores electricity – ZAP! – simple machines – CLANK! – and fundamental forces – POW! \nIn Questacon Presents: ZAP! CLANK! POW! you can become a battery\, lift herculean loads with levers and use mechanisms to make mechanical music. Feel charged up as you watch 15\,000 volts of electricity force its way through the air as an arc of plasma. Discover how simple machines make work easier by lifting your own body weight into the air with the help of pulleys. Create a flying contraption and let it fly on a wind table\, experimenting with airflow and aerodynamics.
URL:https://www.letsgokids.com.au/event/questacon-presents-zap-clank-pow/
LOCATION:Questacon – The National Science and Technology Centre\, King Edward Terrace\, Parkes\, ACT\, 2600\, Australia
CATEGORIES:ACT
ATTACH;FMTTYPE=image/jpeg:https://www.letsgokids.com.au/wp-content/uploads/2025/08/images-24.jpeg
ORGANIZER;CN="Questacon":MAILTO:info@questacon.edu.au
END:VEVENT
BEGIN:VEVENT
DTSTART;TZID=Australia/Melbourne:20250816T090000
DTEND;TZID=Australia/Melbourne:20251013T170000
DTSTAMP:20260420T084651
CREATED:20250814T184206Z
LAST-MODIFIED:20250814T184206Z
UID:35635-1755334800-1760374800@www.letsgokids.com.au
SUMMARY:Mr Squiggle and Friends
DESCRIPTION:Mr Squiggle and Friends: The Creative World of Norman Hetherington brings the puppet with a pencil for a nose back into the limelight. \nThis exhibition reunites Mr Squiggle with his friends Blackboard\, Rocket\, Bill Steamshovel and Gus the Snail\, along with a myriad of other characters created by master puppeteer Norman Hetherington. This exhibition showcases more than 300 objects from the Museum’s recently acquired Norman Hetherington collection. \nGo behind the scenes and discover Norman’s magical world of puppetry\, cartooning and entertainment. Try your hand at puppeteering or add your own creation to their squiggle digital interactive. Let your imagination run wild! \nOn show now. \nFree entry. Bookings essential.
URL:https://www.letsgokids.com.au/event/mr-squiggle-and-friends/
LOCATION:National Museum of Australia\, Lawson Crescent\, Acton\, ACT\, 260\, Australia
CATEGORIES:ACT
ATTACH;FMTTYPE=image/jpeg:https://www.letsgokids.com.au/wp-content/uploads/2025/08/77b28d75f7ffe5715eb94c487f09e2de.jpeg
END:VEVENT
BEGIN:VEVENT
DTSTART;VALUE=DATE:20250913
DTEND;VALUE=DATE:20251013
DTSTAMP:20260420T084651
CREATED:20250712T145004Z
LAST-MODIFIED:20250712T194358Z
UID:34881-1757721600-1760313599@www.letsgokids.com.au
SUMMARY:Floriade 2025
DESCRIPTION:Overview\nFloriade\, Australia’s Biggest Celebration of Spring\, returns to Commonwealth Park. \nGet ready to step into a world of wonder as Floriade celebrates its 38th year with the theme: Science and Nature\, transforming Commonwealth Park into a dynamic space of discovery and learning\, all set amongst one million beautiful blooms. \nWander through vibrant garden beds bursting with blooms\, swap your gardening gloves for a lab coat and dive into nature’s laboratory with hands-on workshops\, talks and activities for all the family.
URL:https://www.letsgokids.com.au/event/floriade-2025/
LOCATION:Commonwealth Park\, Commonwealth Ave\, Canberra\, ACT\, 2601\, Australia
CATEGORIES:ACT
ATTACH;FMTTYPE=image/webp:https://www.letsgokids.com.au/wp-content/uploads/2025/07/66399db7bac698fd340eedd3-media-2247bc1a-query@2x-scaled.webp
ORGANIZER;CN="Floriade":MAILTO:eventsmarketing@act.gov.au
END:VEVENT
BEGIN:VEVENT
DTSTART;VALUE=DATE:20250913
DTEND;VALUE=DATE:20251013
DTSTAMP:20260420T084651
CREATED:20250820T093946Z
LAST-MODIFIED:20250820T094047Z
UID:35772-1757721600-1760313599@www.letsgokids.com.au
SUMMARY:Floriade 2025
DESCRIPTION:Overview\nFloriade\, Australia’s Biggest Celebration of Spring\, returns to Commonwealth Park. \nGet ready to step into a world of wonder as Floriade celebrates its 38th year with the theme: Science and Nature\, transforming Commonwealth Park into a dynamic space of discovery and learning\, all set amongst one million beautiful blooms. \nWander through vibrant garden beds bursting with blooms\, swap your gardening gloves for a lab coat and dive into nature’s laboratory with hands-on workshops\, talks and activities for all the family. \nWhen: 13 Sep 2025 from 12:00am to 11:59pm \nPrice: Free
URL:https://www.letsgokids.com.au/event/floriade-2025-2/
LOCATION:Commonwealth Park\, Commonwealth Ave\, Canberra\, ACT\, 2601\, Australia
CATEGORIES:ACT
ATTACH;FMTTYPE=image/jpeg:https://www.letsgokids.com.au/wp-content/uploads/2025/08/images-16-1.jpeg
ORGANIZER;CN="Floriade":MAILTO:eventsmarketing@act.gov.au
END:VEVENT
BEGIN:VEVENT
DTSTART;TZID=Australia/Melbourne:20250927T100000
DTEND;TZID=Australia/Melbourne:20250927T140000
DTSTAMP:20260420T084651
CREATED:20250916T024426Z
LAST-MODIFIED:20250916T024426Z
UID:36068-1758967200-1758981600@www.letsgokids.com.au
SUMMARY:Kids Day Out at Lanyon Homestead
DESCRIPTION:Overview\nKids Day Out at Lanyon Homestead is a Spring celebration designed especially for families. Children can explore\, create\, and discover in the beautiful gardens and historic outbuildings of one of Canberra’s most loved heritage sites. \nFamilies can join the Lanyon Stamp Rally\, collecting stamps as they wander through the property\, with the chance to enter a draw for a special prize. Creative activities include making a cyanotype print\, a hands-on art experience that reveals the science of sunlight. At the Magnification Station\, children can examine the fascinating details of plants and insects up close. Toddlers are not left out\, with a dedicated sensory play area and rain painting activities designed just for them. \nThe event also offers the chance to step inside the nineteenth-century homestead and imagine life in the early days of the capital. Acres of lawns and gardens provide the perfect backdrop for picnics\, games and family time. Food and drink are available\, including homemade treats\, ice cream and a classic sausage sizzle. \nKids Day Out at Lanyon Homestead is a rare opportunity for families to combine outdoor fun\, creativity and history. Early bird tickets are limited and offer the best value for families keen to book ahead. \nActivities are designed for children aged 4+\, younger kiddos are welcome to attend for free to enjoy the garden\, lawn games and sensory play area.
URL:https://www.letsgokids.com.au/event/kids-day-out-at-lanyon-homestead/
LOCATION:Lanyon Homestead\, Tharwa Dr\,\, Tharwa\, ACT\, 2620\, Australia
CATEGORIES:ACT
ATTACH;FMTTYPE=image/jpeg:https://www.letsgokids.com.au/wp-content/uploads/2025/09/e0f8d4bcc6439f3c9d2133fe874c5fec.jpeg
ORGANIZER;CN="ACT Historic Places":MAILTO:lanyon.homestead@act.gov.au
END:VEVENT
BEGIN:VEVENT
DTSTART;TZID=Australia/Melbourne:20250927T100000
DTEND;TZID=Australia/Melbourne:20250927T160000
DTSTAMP:20260420T084651
CREATED:20250918T155924Z
LAST-MODIFIED:20250918T155924Z
UID:36542-1758967200-1758988800@www.letsgokids.com.au
SUMMARY:School Holidays Activities at the Museum of Australian Democracy
DESCRIPTION:Join MoAD for craft and painting this school holidays\, proudly part of Floriade About Town. \nCelebrate all things spring\, Floriade and Canberra’s beautiful native flora by making brooches and floral crowns using sustainable and recyclable materials. All ages\, drop-in\, no booking required. \nCreate a colourful artwork of flowers in a painting workshop led by local artist\, Ineka Voigt. Ages 5-12\, bookings essential. \nTo learn more and book\, please visit the website for more details.
URL:https://www.letsgokids.com.au/event/school-holidays-activities-at-the-museum-of-australian-democracy/
LOCATION:Museum of Australian Democracy at Old Parliament House\, 18 King George Terrace\, Parkes\, ACT\, 2600\, Australia
CATEGORIES:ACT
ATTACH;FMTTYPE=image/jpeg:https://www.letsgokids.com.au/wp-content/uploads/2025/09/images-15-1.jpeg
ORGANIZER;CN="Museum of Australian Democracy at Old Parliament House":MAILTO:info@moadoph.gov.au
END:VEVENT
BEGIN:VEVENT
DTSTART;TZID=Australia/Melbourne:20250927T100000
DTEND;TZID=Australia/Melbourne:20251005T160000
DTSTAMP:20260420T084651
CREATED:20250918T123607Z
LAST-MODIFIED:20250918T123607Z
UID:36266-1758967200-1759680000@www.letsgokids.com.au
SUMMARY:Free Craft
DESCRIPTION:Celebrate all things spring\, Floriade and our beautiful native flora by making brooches and floral crowns using sustainable and recyclable materials. \n\nWhen: 27 September – 5 October\nTime: 10am-4pm\nFree\, drop in\, no booking required
URL:https://www.letsgokids.com.au/event/free-craft/
LOCATION:Museum of Australian Democracy at Old Parliament House\, 18 King George Terrace\, Parkes\, ACT\, 2600\, Australia
CATEGORIES:ACT
ATTACH;FMTTYPE=image/png:https://www.letsgokids.com.au/wp-content/uploads/2025/09/MoAD-Floriade-About-town-Alternate-image-1080-x-1080.png
ORGANIZER;CN="Museum of Australian Democracy at Old Parliament House":MAILTO:info@moadoph.gov.au
END:VEVENT
BEGIN:VEVENT
DTSTART;TZID=Australia/Melbourne:20250927T100000
DTEND;TZID=Australia/Melbourne:20251005T160000
DTSTAMP:20260420T084651
CREATED:20250919T172408Z
LAST-MODIFIED:20250919T172523Z
UID:36564-1758967200-1759680000@www.letsgokids.com.au
SUMMARY:Craft
DESCRIPTION:Celebrate all things spring\, Floriade and our beautiful native flora by making brooches and floral crowns using sustainable and recyclable materials. \n\nWhen: 27 September – 5 October\nTime: 10am – 4pm\nWhere: Learning space. Please enter through the main doors and staff will direct you.\nAge: all ages\nCost: free\nDrop in\, no booking required
URL:https://www.letsgokids.com.au/event/craft/
LOCATION:Museum of Australian Democracy at Old Parliament House\, 18 King George Terrace\, Parkes\, ACT\, 2600\, Australia
CATEGORIES:ACT
ATTACH;FMTTYPE=image/jpeg:https://www.letsgokids.com.au/wp-content/uploads/2025/09/images-15-1.jpeg
ORGANIZER;CN="Museum of Australian Democracy at Old Parliament House":MAILTO:info@moadoph.gov.au
END:VEVENT
END:VCALENDAR