BEGIN:VCALENDAR
VERSION:2.0
PRODID:-//LetsGoKids - ECPv6.15.3//NONSGML v1.0//EN
CALSCALE:GREGORIAN
METHOD:PUBLISH
X-ORIGINAL-URL:https://www.letsgokids.com.au
X-WR-CALDESC:Events for LetsGoKids
REFRESH-INTERVAL;VALUE=DURATION:PT1H
X-Robots-Tag:noindex
X-PUBLISHED-TTL:PT1H
BEGIN:VTIMEZONE
TZID:Australia/Melbourne
BEGIN:STANDARD
TZOFFSETFROM:+1100
TZOFFSETTO:+1000
TZNAME:AEST
DTSTART:20240406T160000
END:STANDARD
BEGIN:DAYLIGHT
TZOFFSETFROM:+1000
TZOFFSETTO:+1100
TZNAME:AEDT
DTSTART:20241005T160000
END:DAYLIGHT
BEGIN:STANDARD
TZOFFSETFROM:+1100
TZOFFSETTO:+1000
TZNAME:AEST
DTSTART:20250405T160000
END:STANDARD
BEGIN:DAYLIGHT
TZOFFSETFROM:+1000
TZOFFSETTO:+1100
TZNAME:AEDT
DTSTART:20251004T160000
END:DAYLIGHT
BEGIN:STANDARD
TZOFFSETFROM:+1100
TZOFFSETTO:+1000
TZNAME:AEST
DTSTART:20260404T160000
END:STANDARD
BEGIN:DAYLIGHT
TZOFFSETFROM:+1000
TZOFFSETTO:+1100
TZNAME:AEDT
DTSTART:20261003T160000
END:DAYLIGHT
END:VTIMEZONE
BEGIN:VEVENT
DTSTART;TZID=Australia/Melbourne:20240817T070000
DTEND;TZID=Australia/Melbourne:20251220T113000
DTSTAMP:20260420T060854
CREATED:20240814T155932Z
LAST-MODIFIED:20240814T155932Z
UID:27821-1723878000-1766230200@www.letsgokids.com.au
SUMMARY:Capital Region Farmers Market
DESCRIPTION:Sample the region’s freshest produce at the Capital Region Farmers Market. \nThe Market is a community project run by the Rotary Club of Hall\, the only rural Rotary Club in the ACT. \nThere are over 100 stallholders each week who bring their freshly picked\, grown and hand crafted produce to the Market. Speak to a stallholder and ask them where their produce comes from – you’ll be surprised what you’ll learn and pick up cooking\, storage and usage tips. \nThe Rotary Club of Hall is proud to do something positive to underpin the growing agri-business opportunities in the region and offer a great seasonal food experience. The Market provides a direct and unbroken link between food producers and customer and also enables the Rotary Club of Hall to support important regional community projects. \n  \nDates: 17 Aug 2024  – 20 Dec 2025
URL:https://www.letsgokids.com.au/event/capital-region-farmers-market-2/
LOCATION:Exhibition Park in Canberra\, Exhibition Park in Canberra\, Lyneham\, ACT\, Australia
CATEGORIES:ACT
ATTACH;FMTTYPE=image/webp:https://www.letsgokids.com.au/wp-content/uploads/2024/08/65dbf011ebcc6a451d7ed97a-media-fb5aa0ff-query-scaled.webp
ORGANIZER;CN="CAPITAL REGION FARMERS MARKET":MAILTO:market.manager@crfm.com.au
END:VEVENT
BEGIN:VEVENT
DTSTART;TZID=Australia/Melbourne:20250531T090000
DTEND;TZID=Australia/Melbourne:20260201T170000
DTSTAMP:20260420T060854
CREATED:20250827T203243Z
LAST-MODIFIED:20250827T203243Z
UID:35848-1748682000-1769965200@www.letsgokids.com.au
SUMMARY:Questacon Presents: ZAP! CLANK! POW!
DESCRIPTION:Overview \nUncover the unexpected and spark your curiosity with mesmerising magnets\, machines and motion in Questacon Presents: ZAP! CLANK! POW! \nWith 17 exhibits across three zones and a trio of delightful characters\, Questacon Presents explores electricity – ZAP! – simple machines – CLANK! – and fundamental forces – POW! \nIn Questacon Presents: ZAP! CLANK! POW! you can become a battery\, lift herculean loads with levers and use mechanisms to make mechanical music. Feel charged up as you watch 15\,000 volts of electricity force its way through the air as an arc of plasma. Discover how simple machines make work easier by lifting your own body weight into the air with the help of pulleys. Create a flying contraption and let it fly on a wind table\, experimenting with airflow and aerodynamics.
URL:https://www.letsgokids.com.au/event/questacon-presents-zap-clank-pow/
LOCATION:Questacon – The National Science and Technology Centre\, King Edward Terrace\, Parkes\, ACT\, 2600\, Australia
CATEGORIES:ACT
ATTACH;FMTTYPE=image/jpeg:https://www.letsgokids.com.au/wp-content/uploads/2025/08/images-24.jpeg
ORGANIZER;CN="Questacon":MAILTO:info@questacon.edu.au
END:VEVENT
BEGIN:VEVENT
DTSTART;VALUE=DATE:20251018
DTEND;VALUE=DATE:20260101
DTSTAMP:20260420T060854
CREATED:20251018T092534Z
LAST-MODIFIED:20251018T093600Z
UID:37052-1760745600-1767225599@www.letsgokids.com.au
SUMMARY:Funbundle
DESCRIPTION:Elevate your experience with Fun Bundle\, now available for booking online or onsite\, seven days a week! From only $36\, you can enjoy 3 thrilling activities to make the most of your visit. Double up on your favs or try something new\, the choice is yours! \n\nT&C’s: Walk in only. Not valid on public holidays or public holiday eves. Not redeemable with any other offer\, promotion\, or party package. Subject to availability. Not all activities or games may apply\, the activities included may vary depending on the venue.
URL:https://www.letsgokids.com.au/event/funbundle/
LOCATION:Multiple Venues\, Australia
CATEGORIES:ACT,NSW,VIC,WA
ATTACH;FMTTYPE=image/jpeg:https://www.letsgokids.com.au/wp-content/uploads/2025/10/ArchieBrothers_©ShannynHiggins-10-scaled.jpg
ORGANIZER;CN="Funlab":MAILTO:media@fun-lab.com
END:VEVENT
BEGIN:VEVENT
DTSTART;TZID=Australia/Melbourne:20251031T110000
DTEND;TZID=Australia/Melbourne:20251102T180000
DTSTAMP:20260420T060854
CREATED:20251030T073509Z
LAST-MODIFIED:20251030T073509Z
UID:37517-1761908400-1762106400@www.letsgokids.com.au
SUMMARY:Canberra Brick Show 2025 - LEGO Fan Event
DESCRIPTION:Canberra Brick Show 2025 – LEGO Fan Event \nGET YOUR TICKETS NOW!! \nBack for it’s fourth year\, the Canberra Brick Show is the ACT region’s largest LEGO fan event. This year the show will feature over 300 tables of the best LEGO displays in Australia\, from over 120 local and interstate builders. \nOur food trucks and interactive displays will be available\, along with the region’s best range of LEGO retail vendors selling new\, used and rare sets and loose bricks. \nSessions are selling fast\, don’t miss out!\n  \nAlso check out other Food & Drink events in Canberra.
URL:https://www.letsgokids.com.au/event/canberra-brick-show-2025-lego-fan-event/
LOCATION:Thoroughbred Park\, 1 Randwick Rd\,\, Lyneham\, ACT\, 2602\, Australia
CATEGORIES:ACT
ATTACH;FMTTYPE=image/jpeg:https://www.letsgokids.com.au/wp-content/uploads/2025/10/EHI1411037-093ebafd86174d7295898991f5bf53c8-scaled.jpeg
END:VEVENT
BEGIN:VEVENT
DTSTART;VALUE=DATE:20251101
DTEND;VALUE=DATE:20251102
DTSTAMP:20260420T060854
CREATED:20251030T074951Z
LAST-MODIFIED:20251030T082307Z
UID:37532-1761955200-1762041599@www.letsgokids.com.au
SUMMARY:Slime Workshop
DESCRIPTION:Join us at Ruckus HQ on Saturday 1st November for our Slime Workshop — where kids become slime scientists! \nThey’ll mix\, swirl\, and create their very own one-of-a-kind slime masterpiece to take home — with a rainbow of colours to choose from and plenty of gooey giggles guaranteed! \nAll materials provided — just bring your creativity (and maybe a sense of slime adventure)!\nTickets: $10 per a child includes take home slime\nOnly kids need a ticket (adults free).Recommended for school-aged children
URL:https://www.letsgokids.com.au/event/slime-workshop/
LOCATION:Ruckus HQ – ACT\, Unit 7\, 46 Jenke Circuit\,\, Kambah\, ACT\, 2902\, Australia
CATEGORIES:ACT
ATTACH;FMTTYPE=image/jpeg:https://www.letsgokids.com.au/wp-content/uploads/2025/10/560035085_122153845160804894_5684242933535770679_n.jpg
ORGANIZER;CN="Ruckus HQ - ACT":MAILTO:ruckushq@outlook.com
END:VEVENT
BEGIN:VEVENT
DTSTART;TZID=Australia/Melbourne:20251101T100000
DTEND;TZID=Australia/Melbourne:20251101T140000
DTSTAMP:20260420T060854
CREATED:20251030T085423Z
LAST-MODIFIED:20251030T085423Z
UID:37579-1761991200-1762005600@www.letsgokids.com.au
SUMMARY:Palmerston District Primary School 30th Anniversary Fete
DESCRIPTION:Palmerston District Primary School P&C are excited to welcome you to our 30th Anniversary Fete! Saturday 1st November 2025.\nLock the date into your diaries for a day of fun and a celebration to remember!\nWhat to expect:Amusement ridesFabulous prizes to win in our sideshow alleyFace Painting\, Hair Braiding and Glitter TattoosAwesome performances from our students and other local groupsDelicious treats including BBQ and Cake StallFind a bargain at our preloved book stallBe in it to win it with our amazing raffle prizesSupport local small business at the marketAnd many more to be announced\nMore information can be found at https://palmerstonfete.org.au\nWe can’t wait to see you there!
URL:https://www.letsgokids.com.au/event/palmerston-district-primary-school-30th-anniversary-fete/
LOCATION:Palmerston District Primary School\, Palmerston Oval\, Palmerston\, ACT\, 2913\, Australia
CATEGORIES:ACT
ATTACH;FMTTYPE=image/jpeg:https://www.letsgokids.com.au/wp-content/uploads/2025/10/549180891_10162410524231312_8364718130019320281_n.jpg
END:VEVENT
BEGIN:VEVENT
DTSTART;TZID=Australia/Melbourne:20251101T150000
DTEND;TZID=Australia/Melbourne:20251101T190000
DTSTAMP:20260420T060854
CREATED:20251030T083936Z
LAST-MODIFIED:20251030T083936Z
UID:37570-1762009200-1762023600@www.letsgokids.com.au
SUMMARY:Radforrd College Twilight Fete 2025
DESCRIPTION:Radford College Twilight Fete – A Celebration for Our Whole Community!\nWe are thrilled to invite you to our much-loved Radford College Twilight Fete – a special evening where our college community comes together to connect\, celebrate\, and create joyful memories.\nDate: Saturday\, 1 November 2025Time: 3 pm to 7 pmLocation: Radford College\nCome along and enjoy an evening packed with something for everyone:\n– Rides and Amusements for all ages– Tasty treats from local food vendors and College-run stalls– Live performances from our talented student musicians– Handmade goods and treasures from our wonderful market stalls– Old-school games\, raffles\, lucky dips & more– Creative activities for the little ones\nThis event is proudly run by our Parents & Friends Association with the generous support of our amazing volunteers\, students\, and staff.\nWe can’t wait to welcome you and your family for an evening filled with fun\, friendship\, and that special Radford spirit.\nStay tuned for updates right here on Facebook and Instagram https://www.instagram.com/radfordcollegepf/
URL:https://www.letsgokids.com.au/event/radforrd-college-twilight-fete-2025/
LOCATION:Radford College\, 1 College St\, Canberra\, ACT\, 2617\, Australia
CATEGORIES:ACT
ATTACH;FMTTYPE=image/jpeg:https://www.letsgokids.com.au/wp-content/uploads/2025/10/500389660_995340622811502_1283693348724104955_n.jpg
ORGANIZER;CN="Radford College P & F":MAILTO:P&amp;F@radford.act.edu.au
END:VEVENT
END:VCALENDAR