BEGIN:VCALENDAR
VERSION:2.0
PRODID:-//LetsGoKids - ECPv6.15.3//NONSGML v1.0//EN
CALSCALE:GREGORIAN
METHOD:PUBLISH
X-ORIGINAL-URL:https://www.letsgokids.com.au
X-WR-CALDESC:Events for LetsGoKids
REFRESH-INTERVAL;VALUE=DURATION:PT1H
X-Robots-Tag:noindex
X-PUBLISHED-TTL:PT1H
BEGIN:VTIMEZONE
TZID:Australia/Melbourne
BEGIN:STANDARD
TZOFFSETFROM:+1100
TZOFFSETTO:+1000
TZNAME:AEST
DTSTART:20250405T160000
END:STANDARD
BEGIN:DAYLIGHT
TZOFFSETFROM:+1000
TZOFFSETTO:+1100
TZNAME:AEDT
DTSTART:20251004T160000
END:DAYLIGHT
BEGIN:STANDARD
TZOFFSETFROM:+1100
TZOFFSETTO:+1000
TZNAME:AEST
DTSTART:20260404T160000
END:STANDARD
BEGIN:DAYLIGHT
TZOFFSETFROM:+1000
TZOFFSETTO:+1100
TZNAME:AEDT
DTSTART:20261003T160000
END:DAYLIGHT
END:VTIMEZONE
BEGIN:VEVENT
DTSTART;TZID=Australia/Melbourne:20250531T090000
DTEND;TZID=Australia/Melbourne:20260201T170000
DTSTAMP:20260420T014827
CREATED:20250827T203243Z
LAST-MODIFIED:20250827T203243Z
UID:35848-1748682000-1769965200@www.letsgokids.com.au
SUMMARY:Questacon Presents: ZAP! CLANK! POW!
DESCRIPTION:Overview \nUncover the unexpected and spark your curiosity with mesmerising magnets\, machines and motion in Questacon Presents: ZAP! CLANK! POW! \nWith 17 exhibits across three zones and a trio of delightful characters\, Questacon Presents explores electricity – ZAP! – simple machines – CLANK! – and fundamental forces – POW! \nIn Questacon Presents: ZAP! CLANK! POW! you can become a battery\, lift herculean loads with levers and use mechanisms to make mechanical music. Feel charged up as you watch 15\,000 volts of electricity force its way through the air as an arc of plasma. Discover how simple machines make work easier by lifting your own body weight into the air with the help of pulleys. Create a flying contraption and let it fly on a wind table\, experimenting with airflow and aerodynamics.
URL:https://www.letsgokids.com.au/event/questacon-presents-zap-clank-pow/
LOCATION:Questacon – The National Science and Technology Centre\, King Edward Terrace\, Parkes\, ACT\, 2600\, Australia
CATEGORIES:ACT
ATTACH;FMTTYPE=image/jpeg:https://www.letsgokids.com.au/wp-content/uploads/2025/08/images-24.jpeg
ORGANIZER;CN="Questacon":MAILTO:info@questacon.edu.au
END:VEVENT
BEGIN:VEVENT
DTSTART;VALUE=DATE:20260122
DTEND;VALUE=DATE:20260201
DTSTAMP:20260420T014827
CREATED:20251217T231844Z
LAST-MODIFIED:20251217T231844Z
UID:38269-1769040000-1769903999@www.letsgokids.com.au
SUMMARY:Cirque Alice
DESCRIPTION:Get your Christmas gifts sorted early with tickets to the magical Cirque Alice! This magnificent spectacle features mind-bending contortionists\, mesmerising aerialists\, larger-than-life puppetry\, plus enchanting dancers\, special musical guests and comedic artists set against a contemporary soundtrack of iconic classical hits. VIP on-stage tickets available for an unforgettable date night\, or bring along the entire family with 4+ tickets available form $85.90* per person.
URL:https://www.letsgokids.com.au/event/cirque-alice/
LOCATION:Canberra Theatre Centre\, Civic Square\, London Circuit\, Canberra
CATEGORIES:ACT
ATTACH;FMTTYPE=image/jpeg:https://www.letsgokids.com.au/wp-content/uploads/2025/12/CTC_Cirque_Alice_social_suite_1080x1080.jpg
END:VEVENT
BEGIN:VEVENT
DTSTART;TZID=Australia/Melbourne:20260128T173000
DTEND;TZID=Australia/Melbourne:20260128T190000
DTSTAMP:20260420T014827
CREATED:20260118T091541Z
LAST-MODIFIED:20260118T091541Z
UID:39031-1769621400-1769626800@www.letsgokids.com.au
SUMMARY:FEAST: Lunar New Year Dinner at Happy's Chinese Restaurant
DESCRIPTION:A special Cantonese banquet for the audience of Canberra Theatre Centre’s ‘FEAST with Jennifer Wong and Friends’. \nKeep the celebration going after FEAST with a communal Cantonese Lunar New Year’s banquet at Happy’s Chinese Restaurant. \nEnjoy a special menu of Chinese Australian and Cantonese classics\, with dishes featured in Chopsticks or Fork?: Recipes and Stories from Australia’s Regional Chinese Restaurants. \nYou’ll be seated at shared tables with fellow audience members\, and be guided by comedian Jennifer Wong (Chopsticks or Fork?) on all things food and New Year-related\, for a truly memorable way to welcome the Year of the Horse. \nWith just 38 places available\, this intimate dining experience is strictly limited. \nBanquet Menu \nEntrees \nSpring Rolls \nDim Sims \nPrawn Toast \nSang Choy Bow \nMains \nHoney Prawns \nSalt and Pepper Squid \nSweet and Sour Chicken \nChef’s Special: Pork Belly with Preserved Mustard Greens \nChef’s Special: Stuffed Bean Curd Topped with Seafood \nMixed Vegetables \nSpecial Fried Rice \nDessert \nDeep Fried Ice Cream \nPlease note: \n\nDrinks are not included\, and will be available for purchase separately on the night.\nThis style of communal dining means that sadly we are unable to cater for special dietary requests.
URL:https://www.letsgokids.com.au/event/feast-lunar-new-year-dinner-at-happys-chinese-restaurant/
LOCATION:Happy’s Chinese Restaurant\, 17 Garema Place\, Canberra\, Australia
CATEGORIES:ACT
ATTACH;FMTTYPE=image/png:https://www.letsgokids.com.au/wp-content/uploads/2026/01/Screenshot-2026-01-18-at-5.13.45-pm.png
END:VEVENT
END:VCALENDAR