BEGIN:VCALENDAR
VERSION:2.0
PRODID:-//LetsGoKids - ECPv6.15.3//NONSGML v1.0//EN
CALSCALE:GREGORIAN
METHOD:PUBLISH
X-WR-CALNAME:LetsGoKids
X-ORIGINAL-URL:https://www.letsgokids.com.au
X-WR-CALDESC:Events for LetsGoKids
REFRESH-INTERVAL;VALUE=DURATION:PT1H
X-Robots-Tag:noindex
X-PUBLISHED-TTL:PT1H
BEGIN:VTIMEZONE
TZID:Australia/Melbourne
BEGIN:STANDARD
TZOFFSETFROM:+1100
TZOFFSETTO:+1000
TZNAME:AEST
DTSTART:20260404T160000
END:STANDARD
BEGIN:DAYLIGHT
TZOFFSETFROM:+1000
TZOFFSETTO:+1100
TZNAME:AEDT
DTSTART:20261003T160000
END:DAYLIGHT
END:VTIMEZONE
BEGIN:VEVENT
DTSTART;VALUE=DATE:20260206
DTEND;VALUE=DATE:20260209
DTSTAMP:20260420T014555
CREATED:20260115T130643Z
LAST-MODIFIED:20260115T130643Z
UID:38817-1770336000-1770595199@www.letsgokids.com.au
SUMMARY:National Multicultural Festival
DESCRIPTION:Mark your calendar: 6–8 February 2026 \n\n\n\n\n\nJoin us in the heart of Canberra for the 28th edition of the National Multicultural Festival — a vibrant three-day celebration of culture\, community\, and connection. \nFrom 6–8 February 2026\, the city transforms into a global street party filled with spectacular performances\, world flavours\, cultural showcases\, and community spirit. #MultiCulti is your invitation to experience the world in one unforgettable weekend. \nWe’re putting the finishing touches on the full program\, but here’s a taste of what’s coming: dazzling parades\, live music and dance\, cooking demonstrations\, interactive workshops\, cultural conversations\, and plenty of free\, family-friendly activities. \nWhether you’re a long-time fan or a first-time visitor\, this iconic summer event promises discovery\, delight\, and moments to remember. Save the dates — we can’t wait to celebrate with you!
URL:https://www.letsgokids.com.au/event/national-multicultural-festival/
LOCATION:Canberra\, Canberra
CATEGORIES:ACT
ATTACH;FMTTYPE=image/jpeg:https://www.letsgokids.com.au/wp-content/uploads/2026/01/135.jpg
ORGANIZER;CN="National Multicultural Festival":MAILTO:inbox@multiculturalfestival.act.gov.au
END:VEVENT
END:VCALENDAR