BEGIN:VCALENDAR
VERSION:2.0
PRODID:-//LetsGoKids - ECPv6.15.3//NONSGML v1.0//EN
CALSCALE:GREGORIAN
METHOD:PUBLISH
X-WR-CALNAME:LetsGoKids
X-ORIGINAL-URL:https://www.letsgokids.com.au
X-WR-CALDESC:Events for LetsGoKids
REFRESH-INTERVAL;VALUE=DURATION:PT1H
X-Robots-Tag:noindex
X-PUBLISHED-TTL:PT1H
BEGIN:VTIMEZONE
TZID:Australia/Melbourne
BEGIN:STANDARD
TZOFFSETFROM:+1100
TZOFFSETTO:+1000
TZNAME:AEST
DTSTART:20260404T160000
END:STANDARD
BEGIN:DAYLIGHT
TZOFFSETFROM:+1000
TZOFFSETTO:+1100
TZNAME:AEDT
DTSTART:20261003T160000
END:DAYLIGHT
END:VTIMEZONE
BEGIN:VEVENT
DTSTART;TZID=Australia/Melbourne:20260214T110000
DTEND;TZID=Australia/Melbourne:20260214T170000
DTSTAMP:20260420T014641
CREATED:20251217T231601Z
LAST-MODIFIED:20251217T231601Z
UID:38266-1771066800-1771088400@www.letsgokids.com.au
SUMMARY:Zindzi & The Zillionaires
DESCRIPTION:Get ready to put on your dancing shoes because Zindzi & the Zillionaires are hitting the road\, bringing their joyful\, infectious R&B musical grooves to Canberra. The much-loved Play School performer Zindzi Okenyo sings alongside her fluffy\, dancing Zillies about the kind of riches that matter most. Delivering songs and themes that every child can love. And of course\, good vibes for the parents too!
URL:https://www.letsgokids.com.au/event/zindzi-the-zillionaires/
LOCATION:Canberra Theatre Centre\, Civic Square\, London Circuit\, Canberra
CATEGORIES:ACT
ATTACH;FMTTYPE=image/png:https://www.letsgokids.com.au/wp-content/uploads/2025/12/thumbnail_Zindzi-Social-1080x1080-px.png
END:VEVENT
END:VCALENDAR