BEGIN:VCALENDAR
VERSION:2.0
PRODID:-//LetsGoKids - ECPv6.15.3//NONSGML v1.0//EN
CALSCALE:GREGORIAN
METHOD:PUBLISH
X-ORIGINAL-URL:https://www.letsgokids.com.au
X-WR-CALDESC:Events for LetsGoKids
REFRESH-INTERVAL;VALUE=DURATION:PT1H
X-Robots-Tag:noindex
X-PUBLISHED-TTL:PT1H
BEGIN:VTIMEZONE
TZID:Australia/Melbourne
BEGIN:STANDARD
TZOFFSETFROM:+1100
TZOFFSETTO:+1000
TZNAME:AEST
DTSTART:20260404T160000
END:STANDARD
BEGIN:DAYLIGHT
TZOFFSETFROM:+1000
TZOFFSETTO:+1100
TZNAME:AEDT
DTSTART:20261003T160000
END:DAYLIGHT
END:VTIMEZONE
BEGIN:VEVENT
DTSTART;TZID=Australia/Melbourne:20260221T120000
DTEND;TZID=Australia/Melbourne:20260221T233000
DTSTAMP:20260420T015207
CREATED:20260118T090149Z
LAST-MODIFIED:20260118T090149Z
UID:39017-1771675200-1771716600@www.letsgokids.com.au
SUMMARY:Canberra Lunar New Year Festival
DESCRIPTION:Celebrate Lunar New Year 2026 in Dickson as Woolley Street comes alive with colour\, music and community spirit. From morning until night\, enjoy a full day of performances\, food and family fun as we welcome the Year of the Fire Horse. \nThe main stage will feature Celestial Chronicles\, a signature choreographed performance created especially for Dickson’s Lunar New Year celebration. Enjoy K Pop Heroes\, a major attraction for families and young audiences\, along with large scale performances from national artists. The evening will close with pyrotechnics lighting up the event in true Fire Horse style. \nOn the community stage\, experience traditional and contemporary acts from local cultural groups\, workshops in dance and kung fu\, and interactive sessions for children. \nAcross the event\, discover roving zodiac performers sharing Hongbao and Lai See Bao\, the popular Zodiac Gallery with horoscope insights for 2026. \nFood lovers can explore the extended food village showcasing Woolley Street favourites and ACT based vendors\, along with bar offerings from local businesses. \nThe Mini Mongkok market area will feature artists\, craftspeople and community stalls that reflect the spirit of Lunar New Year through creativity and cultural connection. \nLunar New Year in Dickson is the celebration not to miss. Join us for a day that shines with energy\, tradition and joy!You may also like the following events from City Renewal Canberra: \n\nNext Sunday\, 25th January\, 12:00 am\, ☀️🐾 Summer of 2005 Paws Party in Canberra\n\nAlso check out other Festivals in Canberra\, Arts events in Canberra.
URL:https://www.letsgokids.com.au/event/canberra-lunar-new-year-festival/
LOCATION:Woolley St\, Dickson ACT 2602\, 25 Woolley St\, Dickson\, ACT\, 2602\, Australia
CATEGORIES:ACT
ATTACH;FMTTYPE=image/png:https://www.letsgokids.com.au/wp-content/uploads/2026/01/Screenshot-2026-01-18-at-4.58.48-pm.png
END:VEVENT
END:VCALENDAR