BEGIN:VCALENDAR
VERSION:2.0
PRODID:-//LetsGoKids - ECPv6.15.3//NONSGML v1.0//EN
CALSCALE:GREGORIAN
METHOD:PUBLISH
X-ORIGINAL-URL:https://www.letsgokids.com.au
X-WR-CALDESC:Events for LetsGoKids
REFRESH-INTERVAL;VALUE=DURATION:PT1H
X-Robots-Tag:noindex
X-PUBLISHED-TTL:PT1H
BEGIN:VTIMEZONE
TZID:Australia/Melbourne
BEGIN:STANDARD
TZOFFSETFROM:+1100
TZOFFSETTO:+1000
TZNAME:AEST
DTSTART:20260404T160000
END:STANDARD
BEGIN:DAYLIGHT
TZOFFSETFROM:+1000
TZOFFSETTO:+1100
TZNAME:AEDT
DTSTART:20261003T160000
END:DAYLIGHT
END:VTIMEZONE
BEGIN:VEVENT
DTSTART;TZID=Australia/Melbourne:20260327T170000
DTEND;TZID=Australia/Melbourne:20260327T200000
DTSTAMP:20260420T001619
CREATED:20260321T021335Z
LAST-MODIFIED:20260321T021335Z
UID:39596-1774630800-1774641600@www.letsgokids.com.au
SUMMARY:Babywearing Consult and Dinner
DESCRIPTION:Expecting a baby or curious about babywearing? Join Kirstie\, our professional babywearing consultant\, who will guide you through safe positioning\, different carriers and finding the right fit for you and your baby. \nNot babywearing? No worries — come along anyway! Enjoy Friday night dinner while the kids play.
URL:https://www.letsgokids.com.au/event/babywearing-consult-and-dinner/
LOCATION:Let’s Play Indoor Playground\, 7/50 Curran Dr\, Nicholls\, ACT\, 2913\, Australia
CATEGORIES:ACT
ATTACH;FMTTYPE=image/jpeg:https://www.letsgokids.com.au/wp-content/uploads/2026/03/586548599_1374309161373263_7584108029123591500_n.jpg
ORGANIZER;CN="Let's Play Canberra":MAILTO:hello@letsplaycanberra.com.au
END:VEVENT
END:VCALENDAR