BEGIN:VCALENDAR
VERSION:2.0
PRODID:-//LetsGoKids - ECPv6.15.3//NONSGML v1.0//EN
CALSCALE:GREGORIAN
METHOD:PUBLISH
X-ORIGINAL-URL:https://www.letsgokids.com.au
X-WR-CALDESC:Events for LetsGoKids
REFRESH-INTERVAL;VALUE=DURATION:PT1H
X-Robots-Tag:noindex
X-PUBLISHED-TTL:PT1H
BEGIN:VTIMEZONE
TZID:Australia/Melbourne
BEGIN:STANDARD
TZOFFSETFROM:+1100
TZOFFSETTO:+1000
TZNAME:AEST
DTSTART:20260404T160000
END:STANDARD
BEGIN:DAYLIGHT
TZOFFSETFROM:+1000
TZOFFSETTO:+1100
TZNAME:AEDT
DTSTART:20261003T160000
END:DAYLIGHT
END:VTIMEZONE
BEGIN:VEVENT
DTSTART;TZID=Australia/Melbourne:20260406T093000
DTEND;TZID=Australia/Melbourne:20260410T163000
DTSTAMP:20260419T230232
CREATED:20260321T040141Z
LAST-MODIFIED:20260326T005126Z
UID:39666-1775467800-1775838600@www.letsgokids.com.au
SUMMARY:Open Air PlayUP
DESCRIPTION:Enjoy fresh air and family fun these school holidays at Open Air PlayUP! From 6–10 April\, kids of all ages can explore a vibrant outdoor play space filled with hands-on activities\, creative experiences\, and plenty of room for imagination to run free. \nOpen daily from 9:30 AM to 4:30 PM\, this free event invites families to drop in anytime and enjoy a relaxed day of play\, discovery\, and creativity together. It’s the perfect opportunity for children to learn\, build\, and have fun in the great outdoors. No booking is required—just come along and join the fun!
URL:https://www.letsgokids.com.au/event/open-air-playup/
LOCATION:Museum of Australian Democracy at Old Parliament House\, 18 King George Terrace\, Parkes\, ACT\, 2600\, Australia
CATEGORIES:ACT
ATTACH;FMTTYPE=image/jpeg:https://www.letsgokids.com.au/wp-content/uploads/2026/03/Open-Air-PlayUP.jpg
ORGANIZER;CN="MUSEUM OF AUSTRALIAN DEMOCRACY AT OLD PARLIAMENT HOUSE":MAILTO:info@moadoph.gov.au
END:VEVENT
BEGIN:VEVENT
DTSTART;TZID=Australia/Melbourne:20260406T103000
DTEND;TZID=Australia/Melbourne:20260406T123000
DTSTAMP:20260419T230232
CREATED:20260321T022743Z
LAST-MODIFIED:20260321T022743Z
UID:39611-1775471400-1775478600@www.letsgokids.com.au
SUMMARY:Easter Egg-stravaganza
DESCRIPTION:Celebrate Easter with a morning of family fun at Let’s Play! Our Easter Extravaganza will feature egg hunts\, Easter crafts\, face painting and a special visit from the Easter Bunny. Kids can explore the playground\, collect eggs and get creative while parents relax with coffee and breakfast from the café. It’s the perfect way to wrap up the long weekend with the whole family. \nEaster Bunny visit around 11am. \nTrading hours: 10 – 4pm.
URL:https://www.letsgokids.com.au/event/easter-egg-stravaganza/
LOCATION:Let’s Play Indoor Playground\, 7/50 Curran Dr\, Nicholls\, ACT\, 2913\, Australia
CATEGORIES:ACT
ATTACH;FMTTYPE=image/jpeg:https://www.letsgokids.com.au/wp-content/uploads/2026/03/597112654_1374309101373269_1368844197885087271_n.jpg
ORGANIZER;CN="Let's Play Canberra":MAILTO:hello@letsplaycanberra.com.au
END:VEVENT
END:VCALENDAR