BEGIN:VCALENDAR
VERSION:2.0
PRODID:-//LetsGoKids - ECPv6.15.3//NONSGML v1.0//EN
CALSCALE:GREGORIAN
METHOD:PUBLISH
X-WR-CALNAME:LetsGoKids
X-ORIGINAL-URL:https://www.letsgokids.com.au
X-WR-CALDESC:Events for LetsGoKids
REFRESH-INTERVAL;VALUE=DURATION:PT1H
X-Robots-Tag:noindex
X-PUBLISHED-TTL:PT1H
BEGIN:VTIMEZONE
TZID:Australia/Melbourne
BEGIN:STANDARD
TZOFFSETFROM:+1100
TZOFFSETTO:+1000
TZNAME:AEST
DTSTART:20260404T160000
END:STANDARD
BEGIN:DAYLIGHT
TZOFFSETFROM:+1000
TZOFFSETTO:+1100
TZNAME:AEDT
DTSTART:20261003T160000
END:DAYLIGHT
END:VTIMEZONE
BEGIN:VEVENT
DTSTART;TZID=Australia/Melbourne:20260116T103000
DTEND;TZID=Australia/Melbourne:20260424T123000
DTSTAMP:20260421T191431
CREATED:20260112T145017Z
LAST-MODIFIED:20260112T145017Z
UID:38692-1768559400-1777033800@www.letsgokids.com.au
SUMMARY:Mini Makers at MAGNT
DESCRIPTION:For little creatives with big ideas.\n\n\n\nMAGNT’s Discovery Centre is a fun drop-in acitivity space to connect families to our current exhibitions through play-based learning. Guided by parents and carers\, children can participate in activities that encourage creativity and nurture curiosity. \nJoin us for one of the following: \nMini Makers at MAGNT \nEvery Friday | 10.30am – 12.30pm \nSuitable for children up to 5 years and their carers | Bookings not required | Days subject to availabilty \nDrop-in Activities \nDuring NT School Terms | Open Saturday – Sunday | 10.30am – 12.30pm \nDuring NT School Holidays | Open Tuesday – Thursday | 10.30am – 12.30pm \nSuitable for ages 3 -12 | Limited spaces | Bookings not required | Days subject to availability \nKey Information \nFood and beverage\, including take away hot and cold drinks\, are not permitted inside the Discovery Centre. \nOpening hours and days are subject to change without notice. \nThe Discovery Centre is closed on Public Holidays. \nMAGNT will be closed on Christmas Day\, Boxing Day and New Year’s Day. \nConditions of Entry \nBy entering MAGNT premises\, each person agrees to be bound by the following Conditions of Entry: \n• Visitors who show signs of being under the influence of alcohol\, illicit drugs or other substances will be refused entry to MAGNT’s premises. \n• Backpacks and bags longer or wider than 30cm on any one side are not permitted in the galleries and must be stowed in a locker or drawer behind the Information Desk. \n• Water bottles are permitted inside the galleries providing they are tightly sealed. Bottles of flavoured drinks\, hot or cold take away drinks and food are not permitted. These items must be stowed before entering the galleries. \n• Items including umbrellas\, plant material and organic matter\, including flowers and feathers\, must be stowed before entering the galleries. \n• Baby bags may be taken in providing they are no longer or wider than 30cm on any one side and are securely and unobtrusively attached to a pram or carried by the side of the parent or carer. \n• Carrying small children on the shoulders and back is not permitted\, unless the child is in a baby backpack. \n• Children under the age of 16 must be accompanied and supervised by an adult at all times within the galleries. \n• Visitors must not touch\, or in any other way\, interfere with artworks\, objects or displays and please maintain a safe distance of 45cm from objects at all times. \n• Guide dogs and accredited assistance animals are welcome and proof of accreditation must be presented on arrival. All other animals are prohibited. \n• Lithium battery powered modes of transport\, or recreational equipment\, are not allowed inside MAGNT. Mobility aids and small personal devices (mobiles\, laptops and digital cameras) are exempt. \n• Scooters\, skateboards\, skates and pull along shopping trollies or carts are not permitted inside the galleries and must be stowed before entering. \n• Photography\, videos and films for personal use are permitted unless stated otherwise\, and providing taking them does not disrupt other visitors or MAGNT operations. \n• Flash photography\, or the use of selfie-sticks\, monopods and tripods are not allowed. \n• Footwear must be worn at all times. \n• MAGNT is a smoke-free and vape-free site. Smoking or the use of e-cigarettes and vaporisers on MAGNT premises is not permitted. \n• Closed circuit security cameras are installed throughout MAGNT and may record you during your visit. Footage from these cameras is held and disposed of in accordance with the Privacy Act 1988 (Cth) and Surveillance Devices Act 2007 (NT). \n• Visitors who do not comply with MAGNT notices\, or who engage in conduct that poses a threat to others and/or MAGNT exhibition and buildings\, will be directed to leave the premised by an authorised officer. \nMAGNT acknowledges the traditional owners of Country across the Northern Territory and beyond\, and pays respect to Elders past\, present and emerging.
URL:https://www.letsgokids.com.au/event/mini-makers-at-magnt/
LOCATION:Museum and Art Gallery of Northern Territory\, 19 Conacher Street\, Darwin City\, NT\, 0820\, Australia
CATEGORIES:NT
ATTACH;FMTTYPE=image/jpeg:https://www.letsgokids.com.au/wp-content/uploads/2026/01/https___cdn.evbuc_.com_images_1172752557_166798874793_1_original.jpeg
ORGANIZER;CN="MAGNT":MAILTO:info@magnt.net.au
END:VEVENT
BEGIN:VEVENT
DTSTART;TZID=Australia/Melbourne:20260118T100000
DTEND;TZID=Australia/Melbourne:20260426T130000
DTSTAMP:20260421T191431
CREATED:20260112T151900Z
LAST-MODIFIED:20260112T151900Z
UID:38699-1768730400-1777208400@www.letsgokids.com.au
SUMMARY:Splash Sundays at Darwin Waterfront
DESCRIPTION:Join us every Sunday from 18 January from 10am – 1pm for waterslides and splash fun. \nThis is a FREE activity with options for kids aged 12 and under. Add the Wave Lagoon or Aqua Park on to your day to really cool off and make the most of Darwin’s tropical summer.Also check out other Kids events & activities in Darwin.
URL:https://www.letsgokids.com.au/event/splash-sundays-at-darwin-waterfront/
LOCATION:Darwin Waterfront\, 7 Kitchener Drive\, Darwin\, NT\, 0800\, Australia
CATEGORIES:NT
ATTACH;FMTTYPE=image/png:https://www.letsgokids.com.au/wp-content/uploads/2026/01/Screenshot-2026-01-12-at-11.17.05-pm.png
ORGANIZER;CN="Darwin Waterfront":MAILTO:darwinwaterfront@nt.gov.au
END:VEVENT
END:VCALENDAR