BEGIN:VCALENDAR
VERSION:2.0
PRODID:-//LetsGoKids - ECPv6.15.3//NONSGML v1.0//EN
CALSCALE:GREGORIAN
METHOD:PUBLISH
X-ORIGINAL-URL:https://www.letsgokids.com.au
X-WR-CALDESC:Events for LetsGoKids
REFRESH-INTERVAL;VALUE=DURATION:PT1H
X-Robots-Tag:noindex
X-PUBLISHED-TTL:PT1H
BEGIN:VTIMEZONE
TZID:Australia/Melbourne
BEGIN:STANDARD
TZOFFSETFROM:+1100
TZOFFSETTO:+1000
TZNAME:AEST
DTSTART:20240406T160000
END:STANDARD
BEGIN:DAYLIGHT
TZOFFSETFROM:+1000
TZOFFSETTO:+1100
TZNAME:AEDT
DTSTART:20241005T160000
END:DAYLIGHT
BEGIN:STANDARD
TZOFFSETFROM:+1100
TZOFFSETTO:+1000
TZNAME:AEST
DTSTART:20250405T160000
END:STANDARD
BEGIN:DAYLIGHT
TZOFFSETFROM:+1000
TZOFFSETTO:+1100
TZNAME:AEDT
DTSTART:20251004T160000
END:DAYLIGHT
END:VTIMEZONE
BEGIN:VEVENT
DTSTART;TZID=Australia/Melbourne:20241103T093000
DTEND;TZID=Australia/Melbourne:20251215T153000
DTSTAMP:20260424T042204
CREATED:20240323T033038Z
LAST-MODIFIED:20241030T032445Z
UID:23017-1730626200-1765812600@www.letsgokids.com.au
SUMMARY:Perth Makers Market
DESCRIPTION:Perth Makers Market is WA’s premier handmade artisan market\, featuring over 150 stalls filled with one-of-a-kind\, handmade treasures from local artisans and crafters at the beautiful Goolugatup Heathcote in Applecross. \nWith an amazing atmosphere\, diverse range of food options\, and plenty of fun activities for kids\, this family day out is a relaxed way to shop\, dine\, and uncover what’s being lovingly crafted right here on our doorstep. \nDates:  \n3 November 2024\n15 December 2024
URL:https://www.letsgokids.com.au/event/perth-makers-market/
LOCATION:Goolugatup Heathcote\, Duncraig Road\, Applecross\, WA\, 6153\, Australia
CATEGORIES:WA
ATTACH;FMTTYPE=image/png:https://www.letsgokids.com.au/wp-content/uploads/2024/03/Screenshot-2024-01-15-at-2.56.33-pm_77903EDA-9755-02D1-35D8E04A0094B00D_77c3b2f7-01c2-6186-7db4e58d3deaf9fd.png
ORGANIZER;CN="Perth Makers Market":MAILTO:enquiries@perthmakersmarket.com
END:VEVENT
BEGIN:VEVENT
DTSTART;TZID=Australia/Melbourne:20250517T073000
DTEND;TZID=Australia/Melbourne:20251129T113000
DTSTAMP:20260424T042204
CREATED:20250512T161417Z
LAST-MODIFIED:20250512T161417Z
UID:33001-1747467000-1764415800@www.letsgokids.com.au
SUMMARY:Mount Claremont Farmers Market
DESCRIPTION:Join us at the City of Nedlands’ award-winning Mt Claremont Farmers’ Market\, one of Perth’s longest-running community markets and a cherished Saturday morning ritual for many locals. \nOperated by the Mt Claremont Primary School P&C\, the market is celebrated for its vibrant community spirit and top-quality products. \nDiscover fresh\, grower-direct produce\, including fruit\, veggies\, meat\, eggs\, fish\, bread\, and dairy products. \nStroll through the market\, sample seasonal delights\, browse plant stalls\, and pick up cut flowers to brighten your home. Fill your picnic basket with artisan pantry items\, baked goods\, and nourishing treats. With local produce changing by season\, there’s always something new. Plus\, you can chat directly with enthusiastic growers and producers about their products. \nSavour delicious hot food and drinks\, explore natural body and cleaning products\, and discover beautiful handmade homewares crafted by talented locals. Kids can play in the playground while adults enjoy great local coffee and a bite to eat. \nThe market has thrived over the past 16 years thanks to the dedication of Mt Claremont Primary School parents and students who volunteer their time and energy. Your visit supports the school and local community groups\, with onsite parking available for a gold coin donation.
URL:https://www.letsgokids.com.au/event/mount-claremont-farmers-market/
LOCATION:Mount Claremont Primary School\, 103 Alfred Road\, Mount Claremont\, WA\, 6010\, Australia
CATEGORIES:WA
ATTACH;FMTTYPE=image/png:https://www.letsgokids.com.au/wp-content/uploads/2025/05/Mount-Claremont-Farmers-Market.png
END:VEVENT
BEGIN:VEVENT
DTSTART;TZID=Australia/Melbourne:20250616T160000
DTEND;TZID=Australia/Melbourne:20250922T170000
DTSTAMP:20260424T042204
CREATED:20250808T112803Z
LAST-MODIFIED:20250808T112917Z
UID:35417-1750089600-1758560400@www.letsgokids.com.au
SUMMARY:Minecraft Engineers Whitford - Term 3
DESCRIPTION:Minecraft engineers is a fun weekly club where children use creative mode to build in Minecraft. Come along and build amazing things whilst developing STEM skills. \nSessions run during the school term. \nPlease note: Children will need to BYO device with Minecraft installed in order to participate. \nNo cost. Book online for the whole term. Walk-ins will be welcome each week if space allows. \nBookings for Term 3 open on Monday 16 June 2025. \nDate: Every Monday until 22 September \nTime: 4pm-5pm \n\n\n\n\n\n\n\n\n\nSuitable for: Young children \nCost: FREE
URL:https://www.letsgokids.com.au/event/minecraft-engineers-whitford-term-3/
LOCATION:Whitford Library\, Cnr Marion Ave and Banks Ave\,\, Whitford\, WA\, 6025\, Australia
CATEGORIES:WA
ATTACH;FMTTYPE=image/jpeg:https://www.letsgokids.com.au/wp-content/uploads/2025/08/Minecraft-Engineers-copy.jpg
ORGANIZER;CN="City of Joondalup":MAILTO:info@joondalup.wa.gov.au
END:VEVENT
BEGIN:VEVENT
DTSTART;VALUE=DATE:20250728
DTEND;VALUE=DATE:20250926
DTSTAMP:20260424T042204
CREATED:20250708T083557Z
LAST-MODIFIED:20250712T050919Z
UID:34731-1753660800-1758844799@www.letsgokids.com.au
SUMMARY:Drop-In at The Shack
DESCRIPTION:Looking for a chill spot to hang out? Young people are welcome at our youth centres during Drop-In sessions! Meet new friends\, play games\, and just unwind with Youth Workers on hand. \nNo registration is required to attend. Unless stated otherwise\, all activities hosted during Drop-In are free and light refreshments provided. \nDrop-In at The Shack\nYoung people who visit The Shack during Drop-In are welcome to use the youth centre’s pool table\, foosball\, table tennis\, PlayStation 5\, Nintendo Switch\, board games\, sports gear\, and comfy couches to chill on in the open planned drop-in area. The centre also has a fully equipped kitchen\, computers\, and a workshop room where programs are often hosted. The cool urban art on the walls of The Shack makes for a perfect background for selfies! There is a basketball court\, skate park and oval nearby for the outdoor or sport-loving young person. \nEligibility to attend Drop-In at The Shack\nEligible participants to attend this program must be aged between 10 to 18 years old. \nDates and Times\nAll Youth and Families program dates follow the Western Australian Department of Education‘s school term schedule. Programs do not operate on Western Australian public holidays\, as listed on the Government of Western Australia’s website. \nDrop-In at The Shack: School Terms\nTerm 3 commences Monday\, 28 July 2025 \n\n\n\nAge Group\nTimes\nDays\n\n\n10 – 18 years\n2:30 – 5:30\nMondays\, Tuesdays\, Thursdays\n\n\n\n\n\n\n\n\n 
URL:https://www.letsgokids.com.au/event/drop-in-at-the-shack/
LOCATION:The Shack Youth Space\, 101 Ashburton Drive\, Gosnells\, WA\, 6110\, Australia
CATEGORIES:WA
ATTACH;FMTTYPE=image/jpeg:https://www.letsgokids.com.au/wp-content/uploads/2025/07/images-6.jpeg
ORGANIZER;CN="City of Gosnells Youth and Families":MAILTO:youth@gosnells.wa.gov.au
END:VEVENT
BEGIN:VEVENT
DTSTART;VALUE=DATE:20250729
DTEND;VALUE=DATE:20250925
DTSTAMP:20260424T042204
CREATED:20250708T083101Z
LAST-MODIFIED:20250712T050910Z
UID:34728-1753747200-1758758399@www.letsgokids.com.au
SUMMARY:Drop-In at The Underground
DESCRIPTION:Looking for a chill spot to hang out? Young people are welcome at our youth centres during Drop-In sessions! Meet new friends\, play games\, and just unwind with Youth Workers on hand. \nNo registration is required to attend. Unless stated otherwise\, all activities hosted during Drop-In are free and light refreshments provided. \nThe Underground\nThe Underground is packed with awesome gear for young people: pool tables\, table tennis\, PS5\, Xbox One\, Nintendo Switch\, Foosball\, and more.\nWe also have a digital recording studio available for school and community groups during the day and for hire in the evenings. With qualified sound engineers and a Beginner’s Guide to Studio Recording\, you and your band will be ready to rock your session.\nPassionate musicians can perform on our fully equipped stage at Late Night Live\, our once-a-term live music night. Come show off your talent and enjoy the music! \nEligibility to attend an Underground Drop-In\nEligible participants to attend this program must be aged between 10 to 25 years old. There are specific Drop Ins for different age groups. Please check and ensure participants attend the Drop-In session catered for their age group. \nDates and Times\nAll Youth and Families program do not operate on Western Australian public holidays\, as listed on the Government of Western Australia’s website. \nSchool Terms\n\n\n\nAge Group\nTimes\nDays\n\n\n10 – 14 years\n15:00 – 17:30\nWednesdays\n\n\n15 – 25 years\n15:30 – 19:00\nTuesdays\n\n\n\nSchool Holidays (July 2025)\n\n\n\nAge Group\nTimes\nDays\n\n\n10 – 14 years\n15:00 – 17:30\nWednesdays\n\n\n15 – 25 years\n15:30 – 19:00\nTuesdays\n\n\n\n 
URL:https://www.letsgokids.com.au/event/drop-in-at-the-underground/
LOCATION:The Underground Youth Space\, 2 Holmes Street\, Southern River\, WA\, 6110\, Australia
CATEGORIES:WA
ATTACH;FMTTYPE=image/jpeg:https://www.letsgokids.com.au/wp-content/uploads/2025/07/images-5.jpeg
ORGANIZER;CN="City of Gosnells Youth and Families":MAILTO:youth@gosnells.wa.gov.au
END:VEVENT
BEGIN:VEVENT
DTSTART;VALUE=DATE:20250731
DTEND;VALUE=DATE:20250926
DTSTAMP:20260424T042204
CREATED:20250708T082416Z
LAST-MODIFIED:20250712T050848Z
UID:34721-1753920000-1758844799@www.letsgokids.com.au
SUMMARY:Ignite Music: Production Course
DESCRIPTION:This is an engaging and dynamic music production program designed to help young musicians learn Ableton Live music production software. Learn from music producers with years of experience in music production\, sound design and sound engineering. Our program features a comprehensive curriculum that takes you from the basics to advanced techniques. Lessons are interactive and focus on hands-on learning and real-world projects. \nConnect with other young producers in a supportive community to share your work and receive feedback. You’ll build a strong foundation in music production\, which will help you succeed in the industry. Express your creativity through your own original music in a flexible\, immersive learning experience where each student has access to Ableton Live. \nProgram Specifics and Registration Requirements\n🎛️ Participants aged are aged 14 – 25 years \n🎛️ BYO laptops preferable but not essential. Computers provided. \nCourse Day and Times\nIgnite Music: Production Course is a paid program running for 8 weeks during the school term. All Youth and Families programs do not operate on Western Australian public holidays\, as listed on the Government of Western Australia’s website. \n🎛️ Thursdays: 3.30pm – 5.30pm (Ignite Music: Beginner Production Course) \n🎛️ Thursdays: 5:15pm – 6:30pm (Ignite Music: Intermediate Production Course) \nHow to Enrol\nCheck here: https://gosnells-events.bookable.net.au/#!/event-detail/ev_2309087de3d045eeb3b52c36a531510e
URL:https://www.letsgokids.com.au/event/ignite-music-production-course/
LOCATION:The Underground Youth Space\, 2 Holmes Street\, Southern River\, WA\, 6110\, Australia
CATEGORIES:WA
ATTACH;FMTTYPE=image/jpeg:https://www.letsgokids.com.au/wp-content/uploads/2025/07/piero-villarreal-IwQjB1vtHlc-unsplash.jpg
ORGANIZER;CN="City of Gosnells Youth and Families":MAILTO:youth@gosnells.wa.gov.au
END:VEVENT
BEGIN:VEVENT
DTSTART;VALUE=DATE:20250805
DTEND;VALUE=DATE:20250927
DTSTAMP:20260424T042204
CREATED:20250918T155237Z
LAST-MODIFIED:20250918T155237Z
UID:36539-1754352000-1758931199@www.letsgokids.com.au
SUMMARY:Zippy's Bush Kindy
DESCRIPTION:Big adventures for little nature lovers aged 3 to 5 years!\n\n\nJoin Zippy Dragonfly on an early learning adventure in Rio Tinto Naturescape Kings Park or Perth Hills Discovery Centre.  Choose from either location with one 45-minute session per week over an 8-week term. This interactive program will ignite your child’s curiosity and strengthen their connection to nature! \nEach term provides new experiences that nurture children’s confidence to explore\, question and make discoveries. The program is also designed to reflect different themes\, the changing seasons\, and introduce new skills through nature play activities. Watch your child bloom as they learn at their own pace and grow in confidence and knowledge\, with time to play\, create\, share stories and care for the natural world.
URL:https://www.letsgokids.com.au/event/zippys-bush-kindy/
LOCATION:Kings Park and Botanic Garden\, Fraser Avenue\, Perth\, WA\, 6005\, Australia
CATEGORIES:WA
ATTACH;FMTTYPE=image/jpeg:https://www.letsgokids.com.au/wp-content/uploads/2025/09/Screenshot-2025-04-30-155640_38E28E00-C072-7188-F7B310F427976573_38e2d2b2-c6eb-28a9-cf07fd2f46724364.jpg
ORGANIZER;CN="Kings Park and Botanic Garden":MAILTO:enquiries@bgpa.wa.gov.au
END:VEVENT
BEGIN:VEVENT
DTSTART;TZID=Australia/Melbourne:20250806T163000
DTEND;TZID=Australia/Melbourne:20250924T173000
DTSTAMP:20260424T042204
CREATED:20250808T103904Z
LAST-MODIFIED:20250808T103904Z
UID:35375-1754497800-1758735000@www.letsgokids.com.au
SUMMARY:Free Youth Theatre Program at Bassendean Library
DESCRIPTION:Develop performance skills and bring stories to life!\nWA Youth Theatre Co are bringing their popular Drama Hub back to the Bassendean Memorial Library – Don’t miss out! \nIn Term 3 2025\, explore devising techniques and building skills to create theatre. \n\nWHEN\nWednesdays\, 6 August – 24th September\, 4:30pm – 5:30pm \nFinal Session\, 24th September\, will be run as an ‘Open Session’ (last 20mins only). Family and friends welcome! \n\nWHO\nAny student aged 11 – 14 years who lives in Bassendean or surrounds\, is welcome to attend. We cater for all experience levels. \nMore information and Registrations at: Bassendean Drama Hub • Western Australian Youth Theatre Company \nThis program is produced by WA Youth Theatre Company in collaboration with Town of Bassendean. It is funded by Healthway and proudly heralds the SEW Arts message. \n\n\n\n\n\n\nEvent Details\nTime: 4:30pm to 5:30pm \nVenue: Bassendean Memorial Library- Meeting Room 1 \nCost: FREE \nType: General / Other \nAudience: All Ages \n\n\nEnquiries\nOrganisation: WA Youth Theatre Company \nEmail: info@waytco.com
URL:https://www.letsgokids.com.au/event/free-youth-theatre-program-at-bassendean-library/
LOCATION:Bassendean Memorial Library\, 46 Old Perth Rd\, Bassendean\, WA\, 6054\, Australia
CATEGORIES:WA
ATTACH;FMTTYPE=image/jpeg:https://www.letsgokids.com.au/wp-content/uploads/2025/08/Bassendean_Socials_Term_3_2023.jpg
ORGANIZER;CN="Town of Bassendean":MAILTO:mail@bassendean.wa.gov.au
END:VEVENT
BEGIN:VEVENT
DTSTART;VALUE=DATE:20250814
DTEND;VALUE=DATE:20250926
DTSTAMP:20260424T042204
CREATED:20250808T113720Z
LAST-MODIFIED:20250808T113812Z
UID:35429-1755129600-1758844799@www.letsgokids.com.au
SUMMARY:Free Play at EcoHub (Term 3\, 2025)
DESCRIPTION:Welcome to our weekly nature-based\, free-play session at EcoHub! In this digital age\, it’s crucial for kids to disconnect from screens and reconnect with the wonders of the natural world. Our sessions provide a safe and supportive environment where children can let their imaginations run wild\, exploring the beauty of nature while engaging in unstructured play. \nMeet local parents\, enjoy a coffee on us and relax at these regular play sessions. \nPlay items onsite \n\nNature based books aimed at pre-school aged children\nMudkitchen with pots\, pans and utensils\nPlastic animals\nMusical instruments\nTimber steppers\, balancing log and dry creek bed\nPaper and coloured crayons\nOpen grass area\n\nFree Play at EcoHub Play is part of our ongoing toddler programs at EcoHub including: Buds n Blooms Intergenerations Nature Group\, Tales and Trails Storytime and Little Makers Loose Parts Play. Please checkout out Eventbrite Environment and Sustainability Collection for all upcoming event details. \nWhat to expect: \nLength \nThis event goes for two hours\, and is quite informal. \nStart time \nThis event is open for guests to come and go as they please. \nLocation \nNgoolark Space – Outside in the amphitheatre and garden\, with a quiet indoor space also available. \nRequirements \nSessions will run outdoors in all weather so we recommend bringing a change of clothes\, wet weather gear\, hats\, sunscreen and insect repellent. Please bring your own drink bottle and your own morning tea. Note that shelter from the rain is available. \nType of event and expectations \nPlaygroup rules apply – children may freely play whilst parents supervise nearby for safety. Quiet spaces will be available at this event. \n\n\nEvent Information\n\n\n\n\nHosted by\nCity of Melville\n\n\nTime\nThursday 9:30 AM – 11:30 AM\n\n\nCost\nFree tickets\n\n\nContact Details\n ecohub@melville.wa.gov.au or phone 08 9364 0191
URL:https://www.letsgokids.com.au/event/free-play-at-ecohub-term-3-2025/
LOCATION:City of Melville EcoHub\, 555 Leach Hwy\, Winthrop\, WA\, 6150\, Australia
CATEGORIES:WA
ATTACH;FMTTYPE=image/jpeg:https://www.letsgokids.com.au/wp-content/uploads/2025/08/EcoHub-What-s-On-Free-Play-at-EcoHub.jpg
ORGANIZER;CN="City of Melville":MAILTO:melinfo@melville.wa.gov.au
END:VEVENT
BEGIN:VEVENT
DTSTART;TZID=Australia/Melbourne:20250819T160000
DTEND;TZID=Australia/Melbourne:20250916T173000
DTSTAMP:20260424T042204
CREATED:20250808T104525Z
LAST-MODIFIED:20250808T104525Z
UID:35379-1755619200-1758043800@www.letsgokids.com.au
SUMMARY:Become a Music Producer (5-Week Term Program)
DESCRIPTION:Unleash your inner beatmaker in this fun\, hands-on workshop series led by DJ Jeremy!\n\n\n\n\n\n\nFor children 8 to 13 years \nJoin DJ Jeremy for a fun and vibrant 5-week workshop series and unlock your musical potential! Over 5 action-packed weeks\, participants will learn how to create original songs using GarageBand on iPad – from building beats and recording melodies to arranging full tracks and adding pro-level effects. \nWhether you’re a total beginner or already making music\, this workshop will help you level up your skills and finish your very own original track. \nParticipants must be available attend all sessions: \n\nTuesday 19 August\nTuesday 26 August\nTuesday 2 September\nTuesday 9 September\nTuesday 16 September\n\nBookings are essential. If you cannot register for a ticket online\, please contact the library on (08) 9477 7150 for assistance. \nPlease note: \n\nDo not attend if unwell\nIf you cannot make it to the event\, we strongly encourage you to cancel your ticket to ensure your spot is allocated to another person on the waitlist\nOnly 1 ticket is required to attend all session dates\n\nCost:\n$15 for City of Belmont Residents\, $25 for Non-City of Belmont Residents
URL:https://www.letsgokids.com.au/event/become-a-music-producer-5-week-term-program/
LOCATION:Events Room\, Ruth Faulkner Library\, 213 Wright Street\, Cloverdale\, WA\, Australia
CATEGORIES:WA
ATTACH;FMTTYPE=image/jpeg:https://www.letsgokids.com.au/wp-content/uploads/2025/08/images-7.jpeg
ORGANIZER;CN="City of Belmont":MAILTO:belmont@belmont.wa.gov.au
END:VEVENT
BEGIN:VEVENT
DTSTART;TZID=Australia/Melbourne:20250822T090000
DTEND;TZID=Australia/Melbourne:20251003T170000
DTSTAMP:20260424T042204
CREATED:20250918T143848Z
LAST-MODIFIED:20250918T143848Z
UID:36444-1755853200-1759510800@www.letsgokids.com.au
SUMMARY:Yates Springtime at Araluen Tulip Festival
DESCRIPTION:Step into a world of natural wonder at Araluen Botanic Park\, where spring blooms transform the landscape into a vibrant tapestry of colour. \nExperience the magic of spring at Araluen’s Springtime Tulip Festival\, the highlight of the year you won’t want to miss. Set in the breathtaking Araluen valley\, with its giant canopy of bushland\, the park transforms into a vibrant kaleidoscope of color and beauty. Feast your senses on 200\,000 tulips\, 70\,000 delightful spring bulbs\, an international camellia collection\, and heritage roses in full bloom. Join us for this rare and enchanting event\, where Mother Nature’s wonders are on full display! \nTake leisurely strolls through stone colonnades and winding pathways\, perfect for capturing moments of tranquillity and romance. Indulge your senses with culinary delights\, savour a diverse selection of mouth-watering dishes from food trucks offering savoury street eats and irresistible sweet treats. \nWhether you’re seeking a peaceful retreat or an adventure for the senses\, join us for a memorable experience amidst nature’s finest creations. \n\nPrice:\nWeekday Prices: Adult $30\, Child (13-17 years) $20\, Concession $20 | Weekend Prices: Adult $40\, Child (13-17 years) $25\, Concession $25\nTime:\n9:00 AM to 5:00 PM\nRecurrence:\nRecurring daily
URL:https://www.letsgokids.com.au/event/yates-springtime-at-araluen-tulip-festival/
LOCATION:Araluen Botanic Park\, 362 Croyden Road\, Roleystone\, WA\, 6111\, Australia
CATEGORIES:WA
ATTACH;FMTTYPE=image/jpeg:https://www.letsgokids.com.au/wp-content/uploads/2025/09/Fairy-Image-1-_E86763AD-A639-678B-6E51DF6E9D4F77DE_e86c2924-ec7f-45d3-d132527c72bf5dd5.jpg
ORGANIZER;CN="Araluen Botanic Park":MAILTO:info@araluenbotanicpark.com.au
END:VEVENT
BEGIN:VEVENT
DTSTART;VALUE=DATE:20250901
DTEND;VALUE=DATE:20251001
DTSTAMP:20260424T042204
CREATED:20250917T014951Z
LAST-MODIFIED:20250917T014951Z
UID:36098-1756684800-1759276799@www.letsgokids.com.au
SUMMARY:Father's Day at AQWA
DESCRIPTION:This Father’s Day AQWA is celebrating dads above and below the waves all month long. \nVisit during September and venture on the Super Sea-Dads interactive trail* – can you find the sea creatures with gills AND super-dad skills? Search together and discover the strange superpowers some fishy fathers use to take care of their kids… and which dads even give birth! \nComplete the digital ‘search and find’ quest for your chance to WIN a Snorkel With Sharks or Family Behind The Scenes eVoucher! \nPLUS whose dad loves to crack a fin-slapping one liner? Be sure to lift the flaps and reel in the punchlines with our Dad Jokes From the Deep – they will have you KRAKEN-up all over AQWA. \nEnjoy the bonus family fun this September at AQWA – included with standard Entry. Tickets: aqwa.com.au
URL:https://www.letsgokids.com.au/event/fathers-day-at-aqwa/
LOCATION:AQWA The Aquarium of Western Australia\, 91 Southside Drive\, Hillarys\, WA\, 6025\, Australia
CATEGORIES:WA
ATTACH;FMTTYPE=image/jpeg:https://www.letsgokids.com.au/wp-content/uploads/2025/09/20201213_LAhillarys_021_WEB-edited.jpg
ORGANIZER;CN="AQWA - The Aquarium of Western Australia":MAILTO:reception@aqwa.com.au
END:VEVENT
BEGIN:VEVENT
DTSTART;VALUE=DATE:20250908
DTEND;VALUE=DATE:20250922
DTSTAMP:20260424T042204
CREATED:20250808T105712Z
LAST-MODIFIED:20250808T105712Z
UID:35386-1757289600-1758499199@www.letsgokids.com.au
SUMMARY:South West Japan Festival
DESCRIPTION:The South West Japan Festival is a vibrant 14-day multicultural celebration of Japanese food\, culture\, arts and history. It honours the strong sister city connections between Bunbury and Setagaya\, Busselton and Sugito\, and Harvey and Moka\, inviting people of all ages to immerse themselves in Japanese traditions and experiences. \n\n\n\n\nThis unique event attracts visitors from across the region and beyond\, offering a range of activities that encourage cultural exploration through art\, food\, music\, workshops and community events. \n\n\n\n\nFestival Highlights\n\n\n\n\nBunbury Matsuri Day\nSunday 7 September | 10am to 4pm\nQueen’s Gardens\, Bunbury\nThe festival’s signature event\, Matsuri Day\, is a family-friendly celebration featuring live performances\, cultural displays\, Japanese food\, traditional dance\, martial arts\, craft activities and more. \n\n\n\n\nJapanese Car & Motorbike Matsuri\nHeld during Matsuri Day and sponsored by the Bunbury Geographe Motor Museum\, this event showcases a stunning collection of Japanese vehicles. \n\n\n\n\nCBD Stamp Rally\nMonday 1 to Sunday14 September\nInspired by traditional Japanese stamp rallies\, participants are encouraged to explore Bunbury’s CBD\, collecting stamps from 15 participating shops and venues. It’s a fun and interactive way to discover local businesses while engaging with Japanese culture. \n\n\n\n\nFloating Lantern Festival\nSaturday 20 September | From 3pm to sunset\nFriendship Gardens\, Queen’s Gardens\nAn evening of reflection and celebration\, the Floating Lantern Festival honours the values of hope\, harmony and community. Lanterns will be floated at sunset to symbolise peace and connection. \n\n\n\n\nWorkshops and Cultural Events\n\n\n\n\nThroughout the two weeks\, a range of ticketed workshops and events will be hosted around Bunbury. Participants can explore Japanese culture through: \n\n\n\n\n\nCalligraphy and origami\nManga art and traditional dance\nMusic and martial arts\nArts and crafts\nJapanese cooking\, dining experiences\, and karaoke\n\n\n\n\n\nWhile most events are free\, some workshops may require ticket purchases at an affordable cost.
URL:https://www.letsgokids.com.au/event/south-west-japan-festival/
LOCATION:Queen’s Gardens\, Cobblestone Dr\, Bunbury\, WA\, 6230\, Australia
CATEGORIES:WA
ATTACH;FMTTYPE=image/jpeg:https://www.letsgokids.com.au/wp-content/uploads/2025/08/image.jpeg
ORGANIZER;CN="City of Bunbury":MAILTO:records@bunbury.wa.gov.au
END:VEVENT
BEGIN:VEVENT
DTSTART;VALUE=DATE:20250912
DTEND;VALUE=DATE:20250930
DTSTAMP:20260424T042204
CREATED:20250918T141151Z
LAST-MODIFIED:20250918T141244Z
UID:36410-1757635200-1759190399@www.letsgokids.com.au
SUMMARY:Everlasting Kings Park Festival
DESCRIPTION:The annual Everlasting Kings Park Festival celebrates the extraordinary diversity and beauty of Western Australia’s famous wildflowers throughout September. \n\n\nFrom 12 – 29 September 2025 take part in fabulous workshops\, tours\, art displays\, guided walks and family activities while wandering through Perth’s favourite tourist destination. \nSpring 2025 will be a feast for the senses with thousands of wildflowers and more than 3\,000 WA plant species on display. \nVisit the What’s On page for exciting events and activities – more added all the time!
URL:https://www.letsgokids.com.au/event/everlasting-kings-park-festival/
LOCATION:Kings Park and Botanic Garden\, Fraser Avenue\, Perth\, WA\, 6005\, Australia
CATEGORIES:WA
ATTACH;FMTTYPE=image/jpeg:https://www.letsgokids.com.au/wp-content/uploads/2025/09/images-6-1.jpeg
ORGANIZER;CN="Kings Park and Botanic Garden":MAILTO:enquiries@bgpa.wa.gov.au
END:VEVENT
BEGIN:VEVENT
DTSTART;VALUE=DATE:20250913
DTEND;VALUE=DATE:20250929
DTSTAMP:20260424T042204
CREATED:20250808T110953Z
LAST-MODIFIED:20250808T111142Z
UID:35396-1757721600-1759103999@www.letsgokids.com.au
SUMMARY:Margaret River Region Open Studios
DESCRIPTION:Margaret River Region Open Studios (MRROS)\, now in its 12th year\, has become a standout event on WA’s arts calendar. \nArt enthusiasts can explore the picturesque Margaret River Region through unique studio spaces\, ranging from converted barns and sea containers to railway carriages and private homes. The variety of art and experiences offered by the artists is truly remarkable. \nThis year’s MRROS features esteemed artists such as Leon Pericles\, Rebecca Cool\, Lesley Meaney\, Christian Fletcher\, Lauren Wilhelm\, Caroline Juniper\, Ian Dowling\, Nathan Day\, and Gerry Reilly. With a mix of established\, emerging\, hobbyist\, and mid-career artists\, visitors have the chance to discover new talent or acquire work from long-admired creators. \nIn 2024\, the event attracted approximately 12\,200 visitors who made 110\,000 studio visits over the 16-day period\, transforming the region into an immersive art experience. MRROS also recently won Silver at the Australian Tourism Awards in the Festivals and Events category. \nProfiles of participating artists are available on the event website\, allowing visitors to begin planning their creative journey. An A3 Event Guide will be released closer to the event and can be collected from Jackson’s Drawing Supplies\, regional visitor centres\, participating galleries\, or viewed online. \n\nFor where to pick up a free event guide\nTo view MRROS Event Guide 2025 \nVisit website for more information  \n\nEvent Details\nTime: 9am-6pm \nLocation: Various \nType: General \nAudience: All Ages \n\n\nEnquiries\nOrganisation: Margaret River Region Open Studios Inc \nEmail: art@mrros.com.au \nWebsite: https://mrropenstudios.com.au/ \n\n\nEvent Date(s)\n\nSat 13th Sep 25 09:00AM – Sun 28th Sep 25 06:00PM
URL:https://www.letsgokids.com.au/event/margaret-river-region-open-studios/
LOCATION:City of Busselton\, 2 Southern Drive\, Busselton\, WA\, 6280\, Australia
CATEGORIES:WA
ATTACH;FMTTYPE=image/jpeg:https://www.letsgokids.com.au/wp-content/uploads/2025/08/MRROS2025.jpg
ORGANIZER;CN="Margaret River Region Open Studios Inc":MAILTO:art@mrros.com.au
END:VEVENT
END:VCALENDAR