BEGIN:VCALENDAR
VERSION:2.0
PRODID:-//LetsGoKids - ECPv6.15.3//NONSGML v1.0//EN
CALSCALE:GREGORIAN
METHOD:PUBLISH
X-ORIGINAL-URL:https://www.letsgokids.com.au
X-WR-CALDESC:Events for LetsGoKids
REFRESH-INTERVAL;VALUE=DURATION:PT1H
X-Robots-Tag:noindex
X-PUBLISHED-TTL:PT1H
BEGIN:VTIMEZONE
TZID:Australia/Melbourne
BEGIN:STANDARD
TZOFFSETFROM:+1100
TZOFFSETTO:+1000
TZNAME:AEST
DTSTART:20240406T160000
END:STANDARD
BEGIN:DAYLIGHT
TZOFFSETFROM:+1000
TZOFFSETTO:+1100
TZNAME:AEDT
DTSTART:20241005T160000
END:DAYLIGHT
BEGIN:STANDARD
TZOFFSETFROM:+1100
TZOFFSETTO:+1000
TZNAME:AEST
DTSTART:20250405T160000
END:STANDARD
BEGIN:DAYLIGHT
TZOFFSETFROM:+1000
TZOFFSETTO:+1100
TZNAME:AEDT
DTSTART:20251004T160000
END:DAYLIGHT
BEGIN:STANDARD
TZOFFSETFROM:+1100
TZOFFSETTO:+1000
TZNAME:AEST
DTSTART:20260404T160000
END:STANDARD
BEGIN:DAYLIGHT
TZOFFSETFROM:+1000
TZOFFSETTO:+1100
TZNAME:AEDT
DTSTART:20261003T160000
END:DAYLIGHT
END:VTIMEZONE
BEGIN:VEVENT
DTSTART;TZID=Australia/Melbourne:20241103T093000
DTEND;TZID=Australia/Melbourne:20251215T153000
DTSTAMP:20260424T012218
CREATED:20240323T033038Z
LAST-MODIFIED:20241030T032445Z
UID:23017-1730626200-1765812600@www.letsgokids.com.au
SUMMARY:Perth Makers Market
DESCRIPTION:Perth Makers Market is WA’s premier handmade artisan market\, featuring over 150 stalls filled with one-of-a-kind\, handmade treasures from local artisans and crafters at the beautiful Goolugatup Heathcote in Applecross. \nWith an amazing atmosphere\, diverse range of food options\, and plenty of fun activities for kids\, this family day out is a relaxed way to shop\, dine\, and uncover what’s being lovingly crafted right here on our doorstep. \nDates:  \n3 November 2024\n15 December 2024
URL:https://www.letsgokids.com.au/event/perth-makers-market/
LOCATION:Goolugatup Heathcote\, Duncraig Road\, Applecross\, WA\, 6153\, Australia
CATEGORIES:WA
ATTACH;FMTTYPE=image/png:https://www.letsgokids.com.au/wp-content/uploads/2024/03/Screenshot-2024-01-15-at-2.56.33-pm_77903EDA-9755-02D1-35D8E04A0094B00D_77c3b2f7-01c2-6186-7db4e58d3deaf9fd.png
ORGANIZER;CN="Perth Makers Market":MAILTO:enquiries@perthmakersmarket.com
END:VEVENT
BEGIN:VEVENT
DTSTART;TZID=Australia/Melbourne:20250517T073000
DTEND;TZID=Australia/Melbourne:20251129T113000
DTSTAMP:20260424T012218
CREATED:20250512T161417Z
LAST-MODIFIED:20250512T161417Z
UID:33001-1747467000-1764415800@www.letsgokids.com.au
SUMMARY:Mount Claremont Farmers Market
DESCRIPTION:Join us at the City of Nedlands’ award-winning Mt Claremont Farmers’ Market\, one of Perth’s longest-running community markets and a cherished Saturday morning ritual for many locals. \nOperated by the Mt Claremont Primary School P&C\, the market is celebrated for its vibrant community spirit and top-quality products. \nDiscover fresh\, grower-direct produce\, including fruit\, veggies\, meat\, eggs\, fish\, bread\, and dairy products. \nStroll through the market\, sample seasonal delights\, browse plant stalls\, and pick up cut flowers to brighten your home. Fill your picnic basket with artisan pantry items\, baked goods\, and nourishing treats. With local produce changing by season\, there’s always something new. Plus\, you can chat directly with enthusiastic growers and producers about their products. \nSavour delicious hot food and drinks\, explore natural body and cleaning products\, and discover beautiful handmade homewares crafted by talented locals. Kids can play in the playground while adults enjoy great local coffee and a bite to eat. \nThe market has thrived over the past 16 years thanks to the dedication of Mt Claremont Primary School parents and students who volunteer their time and energy. Your visit supports the school and local community groups\, with onsite parking available for a gold coin donation.
URL:https://www.letsgokids.com.au/event/mount-claremont-farmers-market/
LOCATION:Mount Claremont Primary School\, 103 Alfred Road\, Mount Claremont\, WA\, 6010\, Australia
CATEGORIES:WA
ATTACH;FMTTYPE=image/png:https://www.letsgokids.com.au/wp-content/uploads/2025/05/Mount-Claremont-Farmers-Market.png
END:VEVENT
BEGIN:VEVENT
DTSTART;VALUE=DATE:20251018
DTEND;VALUE=DATE:20260101
DTSTAMP:20260424T012218
CREATED:20251018T092534Z
LAST-MODIFIED:20251018T093600Z
UID:37052-1760745600-1767225599@www.letsgokids.com.au
SUMMARY:Funbundle
DESCRIPTION:Elevate your experience with Fun Bundle\, now available for booking online or onsite\, seven days a week! From only $36\, you can enjoy 3 thrilling activities to make the most of your visit. Double up on your favs or try something new\, the choice is yours! \n\nT&C’s: Walk in only. Not valid on public holidays or public holiday eves. Not redeemable with any other offer\, promotion\, or party package. Subject to availability. Not all activities or games may apply\, the activities included may vary depending on the venue.
URL:https://www.letsgokids.com.au/event/funbundle/
LOCATION:Multiple Venues\, Australia
CATEGORIES:ACT,NSW,VIC,WA
ATTACH;FMTTYPE=image/jpeg:https://www.letsgokids.com.au/wp-content/uploads/2025/10/ArchieBrothers_©ShannynHiggins-10-scaled.jpg
ORGANIZER;CN="Funlab":MAILTO:media@fun-lab.com
END:VEVENT
BEGIN:VEVENT
DTSTART;TZID=Australia/Melbourne:20251101T080000
DTEND;TZID=Australia/Melbourne:20251213T170000
DTSTAMP:20260424T012218
CREATED:20251029T143204Z
LAST-MODIFIED:20251029T143204Z
UID:37392-1761984000-1765645200@www.letsgokids.com.au
SUMMARY:Kids Art Adventure - Discover
DESCRIPTION:No rules\, just endless possibilities! Let your child’s creativity soar as they embark on a journey of self-expression and artistic discovery\n\n\n\nIntroducing our exciting new class where kids can explore and unleash their imagination through papercraft and other crafts! We will start with blank “spaces” and use all the workshop supplies to discover new ways to create. There are no rules and kids can celebrate their individuality and ideas with no risk! Come on an Art Adventure with us! \nTerm fees $150 or $40 casual class. \nAges 6+ \nTime Starts @ 10:30AM \nRefunds are available if cancelled within 5 days of the class. If within 1 day of class the cost can be used as credit for another class. \nIf under 24 hours notice no refund is given.
URL:https://www.letsgokids.com.au/event/kids-art-adventure-discover/
LOCATION:Papercraft Palace\, 65 Chapman Road\,\, Geraldton\, WA\, 6530\, Australia
CATEGORIES:WA
ATTACH;FMTTYPE=image/jpeg:https://www.letsgokids.com.au/wp-content/uploads/2025/10/9907395a3a3748b9e26849c42f1d07d9ee286ffae02dce0ca58e6aa2140243cf-rimg-w1200-h600-dceca501-gmir.jpg
END:VEVENT
BEGIN:VEVENT
DTSTART;TZID=Australia/Melbourne:20251101T103000
DTEND;TZID=Australia/Melbourne:20251227T111500
DTSTAMP:20260424T012218
CREATED:20251029T151150Z
LAST-MODIFIED:20251029T151150Z
UID:37412-1761993000-1766834100@www.letsgokids.com.au
SUMMARY:The Honey Bee Tour - November - December
DESCRIPTION:A fun 45-minute private ‘Bee Tour’ of our Bee Farm and honey shop. Great for the family or those who are simply curious and wanting to learn more about bees and honey. \nAn experience guaranteed to entertain\, educate and inspire you with the fascinating world of bees! \nWHAT TO EXPECT: \n\nSEE*: Walk over to the hives and see the different types of ways to keep bees. (ACCESSIBILITY – there is uneven gravel for this part of the tour).\nLEARN: Learn about the bees\, their roles\, and who is in the colony at our Observation Hive.\nDISCOVER: Taste delicious WA honeys and discover how bees collect and make honey.\nTASTE: Enjoy a Honey Mead tasting in our Meadery (for the adults). For the youngsters – enjoy a sample of Sparkling Honey Water and Sparkling Honey and Ginger Water.\n\n\nPrice:\n$17 per adult; $12 per child (over 6 years)\, $50 per family (2 adults\, 2 children) FREE (children under 6 years)\nTime:\n10:30 AM to 11:15 AM
URL:https://www.letsgokids.com.au/event/the-honey-bee-tour-november-december/
LOCATION:The House of Honey\, 867 Great Northern Highway\, Herne Hill\, WA\, 6056\, Australia
CATEGORIES:WA
ATTACH;FMTTYPE=image/avif:https://www.letsgokids.com.au/wp-content/uploads/2025/10/MLV01176_AF387BF5-96B3-67C8-18EEA3185AF2E8E5_af4ac55e-0568-cb2a-942fc01911c81596.avif
ORGANIZER;CN="The House of Honey":MAILTO:info@thehouseofhoney.com.au
END:VEVENT
BEGIN:VEVENT
DTSTART;TZID=Australia/Melbourne:20251102T113000
DTEND;TZID=Australia/Melbourne:20260101T143000
DTSTAMP:20260424T012218
CREATED:20251029T115618Z
LAST-MODIFIED:20251029T115618Z
UID:37360-1762083000-1767277800@www.letsgokids.com.au
SUMMARY:Sunday Funday's at Nikola Estate
DESCRIPTION:It’s Sunday Funday at Nikola Estate – Good Food. Great Wine. Great Vibes. \nSundays are made for family\, friends & fun in the gardens. \nJoin Nikola Estate for an afternoon of live music\, delicious food\, great wine\, and plenty of entertainment for kids (and kids at heart). \nWhat to expect: \n\nLive Music\nBouncy Castle\nInflated Soccer Dart Game\nFace Painting\nToddler Bouncy Animal Zone\nLawn Games: Ring Toss\, Bocci\, Bowls & more\nSports: Soccer\, Footy\, Cricket\n\nFood & Drinks\nFamous Garden Menu + Sunday-only specials\nPicnic-style dining\, perfect to share\nAll Nikola wines & tap beer available all day \nEvent Details\n📍 Nikola Estate\, Swan Valley\n🕚 11:30am – 2:30pm\n📅  Nov 2 & 16 | Dec 7 & 21 | Jan 1\n💜 Free Entry | No Bookings Required
URL:https://www.letsgokids.com.au/event/sunday-fundays-at-nikola-estate/
LOCATION:Nikola Estate\, 148 Dale Road\,\, Middle Swan\, WA\, 6056\, Australia
CATEGORIES:WA
ATTACH;FMTTYPE=image/png:https://www.letsgokids.com.au/wp-content/uploads/2025/10/2332f56d-2c96-4ec4-a0b1-06b938f4d002_913D6A9D-B32E-FA05-BA128EB8DA7BB059_91580bd2-d7c4-2916-1676a7dbbb29382b.png
END:VEVENT
BEGIN:VEVENT
DTSTART;TZID=Australia/Melbourne:20251108T153000
DTEND;TZID=Australia/Melbourne:20251115T174500
DTSTAMP:20260424T012218
CREATED:20251029T152258Z
LAST-MODIFIED:20251029T152258Z
UID:37415-1762615800-1763228700@www.letsgokids.com.au
SUMMARY:Subiaco Murals\, Music and Markets Tour
DESCRIPTION:Join us for a fabulous afternoon walking tour showcasing Subiaco’s incredible street art and activations. The tour concludes at the Subi Night Markets\, where you can relax and enjoy a vibrant atmosphere and live music\, presented in partnership with the Perth International Jazz Festival. \nDates: Saturday 8th and Saturday 15th of November 2025\nStart: 3:30pm in front of Vibe Hotel\, 9 Alvan St\, Subiaco\nFinish: approximately 5:45pm in Market Square Park\, with jazz performance from 6-8pm. \nJazz Performers:\nSaturday 8 November – Satchies Trio – Piano-led jazz swing from Harry Mitchell\, Zac Grafton and Alex Reid.\nSaturday 15 November – Shameem – An award-winning soul and jazz songstress with powerhouse vocals and global recognition. \nTicket Price: Adults $20 | Under 18 $15 | Under 4 free \nAccessibility: The tour covers approximately 1.5km at a leisurely pace. The route is mainly on flat terrain and is accessible for people using wheelchairs\, prams and other mobility aids. Please inform us of any requirements when booking. \nCreated in partnership with and proudly supported by See Subiaco\, a City of Subiaco initiative.
URL:https://www.letsgokids.com.au/event/subiaco-murals-music-and-markets-tour/
LOCATION:Vibe Hotel\, 9 Alvan St \,\, Subiaco\, WA\, 6008\, Australia
CATEGORIES:WA
ATTACH;FMTTYPE=image/jpeg:https://www.letsgokids.com.au/wp-content/uploads/2025/10/Subi-OhHey-5_F9FEFBD6-E3FB-7BF3-501A38D3CDF145B4_fa02388b-043c-26f7-92fbc7c34e5f8126.jpg
ORGANIZER;CN="Oh Hey WA":MAILTO:hey@ohheywa.com.au
END:VEVENT
END:VCALENDAR