BEGIN:VCALENDAR
VERSION:2.0
PRODID:-//LetsGoKids - ECPv6.15.3//NONSGML v1.0//EN
CALSCALE:GREGORIAN
METHOD:PUBLISH
X-WR-CALNAME:LetsGoKids
X-ORIGINAL-URL:https://www.letsgokids.com.au
X-WR-CALDESC:Events for LetsGoKids
REFRESH-INTERVAL;VALUE=DURATION:PT1H
X-Robots-Tag:noindex
X-PUBLISHED-TTL:PT1H
BEGIN:VTIMEZONE
TZID:Australia/Melbourne
BEGIN:STANDARD
TZOFFSETFROM:+1100
TZOFFSETTO:+1000
TZNAME:AEST
DTSTART:20250405T160000
END:STANDARD
BEGIN:DAYLIGHT
TZOFFSETFROM:+1000
TZOFFSETTO:+1100
TZNAME:AEDT
DTSTART:20251004T160000
END:DAYLIGHT
BEGIN:STANDARD
TZOFFSETFROM:+1100
TZOFFSETTO:+1000
TZNAME:AEST
DTSTART:20260404T160000
END:STANDARD
BEGIN:DAYLIGHT
TZOFFSETFROM:+1000
TZOFFSETTO:+1100
TZNAME:AEDT
DTSTART:20261003T160000
END:DAYLIGHT
END:VTIMEZONE
BEGIN:VEVENT
DTSTART;TZID=Australia/Melbourne:20251219T100000
DTEND;TZID=Australia/Melbourne:20260131T140000
DTSTAMP:20260423T221409
CREATED:20260112T164801Z
LAST-MODIFIED:20260112T164801Z
UID:38756-1766138400-1769868000@www.letsgokids.com.au
SUMMARY:Discovery Centre: Viva Mexico!
DESCRIPTION:Experience the magic of Mexican culture from tasty food to festive holiday traditions! \nThese school holidays\, celebrate the vibrant spirit of Mexico through fun\, family-friendly activities. \nDiscover the meaning behind Día de Muertos (Day of the Dead)\, explore the rich flavours of Mexican cuisine\, learn about the incredible Monarch butterfly migration\, and uncover the fascinating history of the beloved Piñata. \nJourney through one of the world’s most joyful and colourful cultures\, bursting with fiesta fun for all ages! \nPlease note: Due to the exhibition Albany Then & Now: Panoramas of Menang Boodja exhibition and Hub Zone in the Eclipse Building\, the Discovery Centre has temporarily relocated to the Co-Op Building. \nSchool holidays activities \nMexican themed plasters | $2 – $5\nUse your creative flair and vibrant colours to paint a butterfly\, flowers\, or a skull. \nStained glass creations | $3\nUsing stained glass effects\, paint a Mexican themed template to create a stunning art piece that will brighten any window or mirror. \nMasks  | $4\nChoose between a Dia de Muertos (Day of the Dead) or Luchador (Mexican wrestler) mask and decorate it to bring out your personality! \nWorkshops \nWorkshop: Vistoso Niche Memory Box | $10\n22 January 2026 | Ages 8+ | 10.30am – 12.30pm\nDesign and personalise your own Nicho (a traditional Mexican memory box) using vibrant mixed media materials. \nDay of the Dead Cactus Pot | $10\n12 and 21 January 2026 | Ages 6+ | 10.30am – 12.30pm\nHand paint a Day of the Dead planter with sugar skull art for your a charming baby cactus.  \nCocinar La Comida! Mexican Cooking Workshop | $12\n13 and 20 January 2026 | Ages 6+ | 10.30am – 12.30pm\nIn this hands-on cooking session\, whip up cheesy quesadillas\, a tangy guacamole dip with corn chips\, and finish with a festive piñata cupcake. \nLittle Explorers Mexican Playdate | $8\n14 and 19 January 2026 | Ages 3-6 | 10.30am – 12.00pm\nEnjoy a fun-filled morning with Mexican themed activities including crafts\, dress-ups\, colouring\, storytime\, and dancing! \nFrida’s Reflection | $10\n15 January 2026 | Ages 12+ | 10.30am – 12.00pm\nExplore self-expression through mixed media on canvas using Frida Kahlo’s iconic face as inspiration. \n\nParticipants aged 12 and under must be directly supervised by a parent or guardian.\nAll required materials are provided.
URL:https://www.letsgokids.com.au/event/discovery-centre-viva-mexico/
LOCATION:Western Australian Museum\, Perth Cultural Centre\, Perth\, WA\, 6000\, Australia
CATEGORIES:WA
ATTACH;FMTTYPE=image/jpeg:https://www.letsgokids.com.au/wp-content/uploads/2026/01/miikka-luotio-ZV5-gYT-hYw-unsplash.jpg
END:VEVENT
BEGIN:VEVENT
DTSTART;VALUE=DATE:20260103
DTEND;VALUE=DATE:20260202
DTSTAMP:20260423T221409
CREATED:20251018T045523Z
LAST-MODIFIED:20260115T133227Z
UID:36983-1767398400-1769990399@www.letsgokids.com.au
SUMMARY:Disney Jr. Live On Tour: Let’s Play!
DESCRIPTION:“Disney Jr. Live On Tour: Let’s Play!” is set to enchant families across Australia this January and February with FIVE spectacular tour stops: Adelaide\, Brisbane\, Sydney\, Melbourne\, Perth. This immersive concert experience will bring beloved Disney Jr. characters to the stage in an interactive musical adventure perfect for young fans and their families. \nIn an Australian first\, Ginny and Bitsy from “SuperKitties” and Team Spidey from “Marvel’s Spidey and his Amazing Friends” will head down under to join other fan-favorite Disney Jr. characters\, including Mickey Mouse and Minnie Mouse and Ariel the Little Mermaid\, and the Puppy Dog Pals\, to delight audiences in this fully immersive live show featuring singing\, dancing\, dazzling 3D visuals\, and exciting acrobatics. \nIn “Disney Jr. Live On Tour: Let’s Play!\,” Mickey Mouse is planning the ultimate playdate for his friends at the Clubhouse. But when mysterious green weather threatens to ruin the fun\, Team Spidey from “Marvel’s Spidey and his Amazing Friends” swings in to save the day — and the playdate! \nThe show features hit songs from popular Disney Jr. series\, including: \n\n“Hot Dog!” from “Mickey Mouse Clubhouse”\n“Oopsie Kitty” from “SuperKitties”\n“Do the Spidey” from “Marvel’s Spidey and his Amazing Friends”\n\nJonathan Shank\, producer at Terrapin Station Entertainment\, said: “After delighting audiences across the U.S. and making its official international debut in London\, we are excited to share this magical production with families throughout Australia.” \n”Nicolás Renna\, CEO of Proactiv Entertainment\, said: “We are thrilled to be bringing world-class family entertainment to Australia. We are excited to be teaming up with Disney\, Terrapin and our partners throughout the region to present ‘Disney Jr. Live On Tour: Let’s Play!’ This show promises to create unforgettable memories and is a joyful way to kick off 2026!” \nExclusive presale access is available to Disney+ subscribers and MyTicketek members for each city: \n\nDisney+ subscribers presale: Tuesday\, 7 October at 10 a.m. through Thursday\, 9 October at 12 p.m.\, local time.\nMyTicketek members presale: Tuesday\, 7 October at 12 p.m. through Friday\, 10 October at 9:59 a.m.\, local time.\n\nParents and caregivers can visit www.DisneyJrTour.com.au for all event and ticketing details. Follow the tour on Instagram\, Facebook\, TikTok or by using the hashtag #DisneyJrTour for the latest updates.
URL:https://www.letsgokids.com.au/event/disney-jr-live-on-tour-lets-play/
LOCATION:Multiple Venues\, Australia
CATEGORIES:NSW,VIC,WA
ATTACH;FMTTYPE=image/jpeg:https://www.letsgokids.com.au/wp-content/uploads/2025/10/174481_14025_R1-scaled.jpg
END:VEVENT
BEGIN:VEVENT
DTSTART;TZID=Australia/Melbourne:20260113T070000
DTEND;TZID=Australia/Melbourne:20260630T180000
DTSTAMP:20260423T221409
CREATED:20260112T165743Z
LAST-MODIFIED:20260112T170009Z
UID:38763-1768287600-1782842400@www.letsgokids.com.au
SUMMARY:Thomas Dambos Giants of Mandurah
DESCRIPTION:The GIANTS OF MANDURAH is a free outdoor exhibition celebrating the extraordinary beauty and importance of protecting our natural world\, including Mandurah’s globally significant Ramsar-listed wetlands\, unique waterways\, bushland and wildlife. \nBegin at Mandurah’s Visitor Centre and choose your own adventure on your journey to discovering each of Thomas’ hidden Giants. Collect clues along the way to reveal the location of the final Giant\, but shhhhh…..don’t tell anybody else. \nOptimum viewing times to visit the Giants is during the daylight hours between 7am and 6pm. \nFor more information visit giantsofmandurah.com.au. \n\nThe GIANTS OF MANDURAH has been initiated and produced by FORM Building a State of Creativity and delivered in collaboration with the City of Mandurah. The project is supported by the State Government through Tourism WA’s Regional Events Program\, the Department of Local Government\, Sport and Cultural Industries\, and Lotterywest.
URL:https://www.letsgokids.com.au/event/thomas-dambos-giants-of-mandurah/
LOCATION:Mandurah’s Visitor Centre\, 75 Mandurah Terrace\, Mandurah\, WA\, 6210\, Australia
CATEGORIES:WA
ATTACH;FMTTYPE=image/jpeg:https://www.letsgokids.com.au/wp-content/uploads/2026/01/Giants-of-Mandurah-Marlee-Reserve.jpg
END:VEVENT
BEGIN:VEVENT
DTSTART;TZID=Australia/Melbourne:20260113T080000
DTEND;TZID=Australia/Melbourne:20260113T170000
DTSTAMP:20260423T221409
CREATED:20260112T170751Z
LAST-MODIFIED:20260112T170751Z
UID:38772-1768291200-1768323600@www.letsgokids.com.au
SUMMARY:Twilight Food Market
DESCRIPTION:Perth’s original and largest street food market\, the Twilight Food Market\, brings the world’s tastiest flavours right to the heart of the city. Hosted by the City of Perth and held in Forrest Place\, this market transforms Friday nights into a vibrant celebration of food\, culture\, and community. \nRunning from October to March each summer\, the market offers a delicious array of authentic street foods from around the globe. Visitors can immerse themselves in the lively atmosphere\, sampling diverse cuisines while enjoying live performances from local musicians that add to the vibrant cultural experience. \nThe Twilight Food Market is the perfect spot to unwind after work\, catch up with friends\, or enjoy a family night out. Whether you’re grabbing a quick bite before a show or leisurely exploring the many food stalls\, the market’s energetic vibe and mouthwatering offerings make it a must-visit summer tradition in Perth. \nWith the city skyline as your backdrop and the scent of delicious street food in the air\, the Twilight Food Market offers an unforgettable way to enjoy Perth’s summer evenings.
URL:https://www.letsgokids.com.au/event/twilight-food-market/
LOCATION:Twilight Food Market\, Perth\, WA\, 6000\, Australia
CATEGORIES:WA
ATTACH;FMTTYPE=image/jpeg:https://www.letsgokids.com.au/wp-content/uploads/2026/01/484147819_28636639675980844_8739886921760422331_n.jpg
ORGANIZER;CN="Western Australia":MAILTO:info@westernaustralia.com
END:VEVENT
BEGIN:VEVENT
DTSTART;TZID=Australia/Melbourne:20260113T100000
DTEND;TZID=Australia/Melbourne:20260430T160000
DTSTAMP:20260423T221409
CREATED:20260112T165022Z
LAST-MODIFIED:20260112T165052Z
UID:38759-1768298400-1777564800@www.letsgokids.com.au
SUMMARY:Under the Dome: Cinema Experience
DESCRIPTION:WA Museum has partnered with Fremantle documentary company\, Prospero Productions\, to bring you an immersive cinema experience\, Under the Dome. \nEnjoy documentary films throughout the year in this unique\, boutique\, 22-seat\, 180° curved dome cinema with 5.1 surround sound. \nLet us transport you to other worlds through films specially created for this dome experience\, by a local team dedicated to showcasing the wonder of our state and sharing our stories. \nWe’ll be screening films daily that combine the natural world\, history\, science\, technology and adventure\, giving you a deeper insight into Western Australia. \nPlease note\, Under the Dome: Cinema Experience is not suited for children 4 years and younger. \n\nSession times \n10am – Ningaloo: Australia’s Other Great Reef\n10.45am – Whale Super Highway\n11.30am – Star Dreaming\n12.15pm – Ningaloo: Australia’s Other Great Reef\n1pm – Whale Super Highway\n1.45pm – Star Dreaming\n2.30pm – Ningaloo: Australia’s Other Great Reef\n3.15pm – Whale Super Highway\n4pm – Star Dreaming \nUnder the Dome is screening daily. The dome cinema is air-conditioned and has two seats that can be removed to accommodate one wheelchair.
URL:https://www.letsgokids.com.au/event/under-the-dome-cinema-experience/
LOCATION:Western Australian Museum\, Perth Cultural Centre\, Perth\, WA\, 6000\, Australia
CATEGORIES:WA
ATTACH;FMTTYPE=image/jpeg:https://www.letsgokids.com.au/wp-content/uploads/2026/01/LR_010_WA-MARITIME-MUSEUM_Dome-Cinema_220222.jpg
END:VEVENT
BEGIN:VEVENT
DTSTART;TZID=Australia/Melbourne:20260113T103000
DTEND;TZID=Australia/Melbourne:20260120T123000
DTSTAMP:20260423T221409
CREATED:20260112T170308Z
LAST-MODIFIED:20260112T170308Z
UID:38769-1768300200-1768912200@www.letsgokids.com.au
SUMMARY:Mexican cooking workshop: Cocinar la comida!
DESCRIPTION:Discover the rich flavours of Mexico in this hands-on cooking session. \nWhip up cheesy quesadillas\, a tangy guacamole dip with corn chips\, and finish with a festive Piñata cupcake. Learn simple techniques\, explore traditional ingredients\, and then feast on your delicious creations. \nA perfect blend of fun\, flavour\, and cultural discovery. \n\nParticipants aged 12 and under must be directly supervised by a parent or guardian.\nAll required materials will be provided.
URL:https://www.letsgokids.com.au/event/mexican-cooking-workshop-cocinar-la-comida/
LOCATION:Western Australian Museum\, Perth Cultural Centre\, Perth\, WA\, 6000\, Australia
CATEGORIES:WA
ATTACH;FMTTYPE=image/jpeg:https://www.letsgokids.com.au/wp-content/uploads/2026/01/montatip-lilitsanong-iU26ZSJh9yw-unsplash.jpg
END:VEVENT
END:VCALENDAR